BEGIN:VCALENDAR
VERSION:2.0
PRODID:-//Alcoholics Anonymous of Santa Cruz County - ECPv6.15.20//NONSGML v1.0//EN
CALSCALE:GREGORIAN
METHOD:PUBLISH
X-WR-CALNAME:Alcoholics Anonymous of Santa Cruz County
X-ORIGINAL-URL:https://aasantacruz.org
X-WR-CALDESC:Events for Alcoholics Anonymous of Santa Cruz County
REFRESH-INTERVAL;VALUE=DURATION:PT1H
X-Robots-Tag:noindex
X-PUBLISHED-TTL:PT1H
BEGIN:VTIMEZONE
TZID:America/Los_Angeles
BEGIN:DAYLIGHT
TZOFFSETFROM:-0800
TZOFFSETTO:-0700
TZNAME:PDT
DTSTART:20250309T100000
END:DAYLIGHT
BEGIN:STANDARD
TZOFFSETFROM:-0700
TZOFFSETTO:-0800
TZNAME:PST
DTSTART:20251102T090000
END:STANDARD
BEGIN:DAYLIGHT
TZOFFSETFROM:-0800
TZOFFSETTO:-0700
TZNAME:PDT
DTSTART:20260308T100000
END:DAYLIGHT
BEGIN:STANDARD
TZOFFSETFROM:-0700
TZOFFSETTO:-0800
TZNAME:PST
DTSTART:20261101T090000
END:STANDARD
BEGIN:DAYLIGHT
TZOFFSETFROM:-0800
TZOFFSETTO:-0700
TZNAME:PDT
DTSTART:20270314T100000
END:DAYLIGHT
BEGIN:STANDARD
TZOFFSETFROM:-0700
TZOFFSETTO:-0800
TZNAME:PST
DTSTART:20271107T090000
END:STANDARD
BEGIN:DAYLIGHT
TZOFFSETFROM:-0800
TZOFFSETTO:-0700
TZNAME:PDT
DTSTART:20280312T100000
END:DAYLIGHT
BEGIN:STANDARD
TZOFFSETFROM:-0700
TZOFFSETTO:-0800
TZNAME:PST
DTSTART:20281105T090000
END:STANDARD
BEGIN:DAYLIGHT
TZOFFSETFROM:-0800
TZOFFSETTO:-0700
TZNAME:PDT
DTSTART:20290311T100000
END:DAYLIGHT
BEGIN:STANDARD
TZOFFSETFROM:-0700
TZOFFSETTO:-0800
TZNAME:PST
DTSTART:20291104T090000
END:STANDARD
END:VTIMEZONE
BEGIN:VEVENT
DTSTART;TZID=America/Los_Angeles:20260528T180000
DTEND;TZID=America/Los_Angeles:20260528T190000
DTSTAMP:20260424T031959
CREATED:20241224T150417Z
LAST-MODIFIED:20251127T150349Z
UID:10001500-1779991200-1779994800@aasantacruz.org
SUMMARY:Joint Committee on Safety Committee Meeting
DESCRIPTION:The Joint Committee on Safety Events Planning meets every 4th Thursday at 6:00 PM on Zoom. Use Meeting ID: 892 3730 0658 Passcode: 857738. Contact safety@aasantacruz.org for meeting location.
URL:https://aasantacruz.org/event/joint-committee-on-safety-events-planning-meeting-2/2026-05-28/
END:VEVENT
BEGIN:VEVENT
DTSTART;TZID=America/Los_Angeles:20260625T180000
DTEND;TZID=America/Los_Angeles:20260625T190000
DTSTAMP:20260424T031959
CREATED:20241224T150417Z
LAST-MODIFIED:20251127T150349Z
UID:10001501-1782410400-1782414000@aasantacruz.org
SUMMARY:Joint Committee on Safety Committee Meeting
DESCRIPTION:The Joint Committee on Safety Events Planning meets every 4th Thursday at 6:00 PM on Zoom. Use Meeting ID: 892 3730 0658 Passcode: 857738. Contact safety@aasantacruz.org for meeting location.
URL:https://aasantacruz.org/event/joint-committee-on-safety-events-planning-meeting-2/2026-06-25/
END:VEVENT
BEGIN:VEVENT
DTSTART;TZID=America/Los_Angeles:20260723T180000
DTEND;TZID=America/Los_Angeles:20260723T190000
DTSTAMP:20260424T031959
CREATED:20241224T150417Z
LAST-MODIFIED:20251127T150349Z
UID:10001502-1784829600-1784833200@aasantacruz.org
SUMMARY:Joint Committee on Safety Committee Meeting
DESCRIPTION:The Joint Committee on Safety Events Planning meets every 4th Thursday at 6:00 PM on Zoom. Use Meeting ID: 892 3730 0658 Passcode: 857738. Contact safety@aasantacruz.org for meeting location.
URL:https://aasantacruz.org/event/joint-committee-on-safety-events-planning-meeting-2/2026-07-23/
END:VEVENT
BEGIN:VEVENT
DTSTART;TZID=America/Los_Angeles:20260827T180000
DTEND;TZID=America/Los_Angeles:20260827T190000
DTSTAMP:20260424T031959
CREATED:20241224T150417Z
LAST-MODIFIED:20251127T150349Z
UID:10001503-1787853600-1787857200@aasantacruz.org
SUMMARY:Joint Committee on Safety Committee Meeting
DESCRIPTION:The Joint Committee on Safety Events Planning meets every 4th Thursday at 6:00 PM on Zoom. Use Meeting ID: 892 3730 0658 Passcode: 857738. Contact safety@aasantacruz.org for meeting location.
URL:https://aasantacruz.org/event/joint-committee-on-safety-events-planning-meeting-2/2026-08-27/
END:VEVENT
BEGIN:VEVENT
DTSTART;TZID=America/Los_Angeles:20260924T180000
DTEND;TZID=America/Los_Angeles:20260924T190000
DTSTAMP:20260424T031959
CREATED:20241224T150417Z
LAST-MODIFIED:20251127T150349Z
UID:10001504-1790272800-1790276400@aasantacruz.org
SUMMARY:Joint Committee on Safety Committee Meeting
DESCRIPTION:The Joint Committee on Safety Events Planning meets every 4th Thursday at 6:00 PM on Zoom. Use Meeting ID: 892 3730 0658 Passcode: 857738. Contact safety@aasantacruz.org for meeting location.
URL:https://aasantacruz.org/event/joint-committee-on-safety-events-planning-meeting-2/2026-09-24/
END:VEVENT
BEGIN:VEVENT
DTSTART;TZID=America/Los_Angeles:20261022T180000
DTEND;TZID=America/Los_Angeles:20261022T190000
DTSTAMP:20260424T031959
CREATED:20241224T150417Z
LAST-MODIFIED:20251127T150349Z
UID:10001505-1792692000-1792695600@aasantacruz.org
SUMMARY:Joint Committee on Safety Committee Meeting
DESCRIPTION:The Joint Committee on Safety Events Planning meets every 4th Thursday at 6:00 PM on Zoom. Use Meeting ID: 892 3730 0658 Passcode: 857738. Contact safety@aasantacruz.org for meeting location.
URL:https://aasantacruz.org/event/joint-committee-on-safety-events-planning-meeting-2/2026-10-22/
END:VEVENT
BEGIN:VEVENT
DTSTART;TZID=America/Los_Angeles:20261126T180000
DTEND;TZID=America/Los_Angeles:20261126T190000
DTSTAMP:20260424T031959
CREATED:20241224T150417Z
LAST-MODIFIED:20251127T150349Z
UID:10001506-1795716000-1795719600@aasantacruz.org
SUMMARY:Joint Committee on Safety Committee Meeting
DESCRIPTION:The Joint Committee on Safety Events Planning meets every 4th Thursday at 6:00 PM on Zoom. Use Meeting ID: 892 3730 0658 Passcode: 857738. Contact safety@aasantacruz.org for meeting location.
URL:https://aasantacruz.org/event/joint-committee-on-safety-events-planning-meeting-2/2026-11-26/
END:VEVENT
BEGIN:VEVENT
DTSTART;TZID=America/Los_Angeles:20261224T180000
DTEND;TZID=America/Los_Angeles:20261224T190000
DTSTAMP:20260424T031959
CREATED:20241224T150417Z
LAST-MODIFIED:20251127T150349Z
UID:10001507-1798135200-1798138800@aasantacruz.org
SUMMARY:Joint Committee on Safety Committee Meeting
DESCRIPTION:The Joint Committee on Safety Events Planning meets every 4th Thursday at 6:00 PM on Zoom. Use Meeting ID: 892 3730 0658 Passcode: 857738. Contact safety@aasantacruz.org for meeting location.
URL:https://aasantacruz.org/event/joint-committee-on-safety-events-planning-meeting-2/2026-12-24/
END:VEVENT
BEGIN:VEVENT
DTSTART;TZID=America/Los_Angeles:20270128T180000
DTEND;TZID=America/Los_Angeles:20270128T190000
DTSTAMP:20260424T031959
CREATED:20241224T150417Z
LAST-MODIFIED:20251127T150349Z
UID:10001508-1801159200-1801162800@aasantacruz.org
SUMMARY:Joint Committee on Safety Committee Meeting
DESCRIPTION:The Joint Committee on Safety Events Planning meets every 4th Thursday at 6:00 PM on Zoom. Use Meeting ID: 892 3730 0658 Passcode: 857738. Contact safety@aasantacruz.org for meeting location.
URL:https://aasantacruz.org/event/joint-committee-on-safety-events-planning-meeting-2/2027-01-28/
END:VEVENT
BEGIN:VEVENT
DTSTART;TZID=America/Los_Angeles:20270225T180000
DTEND;TZID=America/Los_Angeles:20270225T190000
DTSTAMP:20260424T031959
CREATED:20241224T150417Z
LAST-MODIFIED:20251127T150349Z
UID:10001509-1803578400-1803582000@aasantacruz.org
SUMMARY:Joint Committee on Safety Committee Meeting
DESCRIPTION:The Joint Committee on Safety Events Planning meets every 4th Thursday at 6:00 PM on Zoom. Use Meeting ID: 892 3730 0658 Passcode: 857738. Contact safety@aasantacruz.org for meeting location.
URL:https://aasantacruz.org/event/joint-committee-on-safety-events-planning-meeting-2/2027-02-25/
END:VEVENT
BEGIN:VEVENT
DTSTART;TZID=America/Los_Angeles:20270325T180000
DTEND;TZID=America/Los_Angeles:20270325T190000
DTSTAMP:20260424T031959
CREATED:20241224T150417Z
LAST-MODIFIED:20251127T150349Z
UID:10001510-1805997600-1806001200@aasantacruz.org
SUMMARY:Joint Committee on Safety Committee Meeting
DESCRIPTION:The Joint Committee on Safety Events Planning meets every 4th Thursday at 6:00 PM on Zoom. Use Meeting ID: 892 3730 0658 Passcode: 857738. Contact safety@aasantacruz.org for meeting location.
URL:https://aasantacruz.org/event/joint-committee-on-safety-events-planning-meeting-2/2027-03-25/
END:VEVENT
BEGIN:VEVENT
DTSTART;TZID=America/Los_Angeles:20270422T180000
DTEND;TZID=America/Los_Angeles:20270422T190000
DTSTAMP:20260424T031959
CREATED:20241224T150417Z
LAST-MODIFIED:20251127T150349Z
UID:10001511-1808416800-1808420400@aasantacruz.org
SUMMARY:Joint Committee on Safety Committee Meeting
DESCRIPTION:The Joint Committee on Safety Events Planning meets every 4th Thursday at 6:00 PM on Zoom. Use Meeting ID: 892 3730 0658 Passcode: 857738. Contact safety@aasantacruz.org for meeting location.
URL:https://aasantacruz.org/event/joint-committee-on-safety-events-planning-meeting-2/2027-04-22/
END:VEVENT
BEGIN:VEVENT
DTSTART;TZID=America/Los_Angeles:20270527T180000
DTEND;TZID=America/Los_Angeles:20270527T190000
DTSTAMP:20260424T031959
CREATED:20241224T150417Z
LAST-MODIFIED:20251127T150349Z
UID:10001512-1811440800-1811444400@aasantacruz.org
SUMMARY:Joint Committee on Safety Committee Meeting
DESCRIPTION:The Joint Committee on Safety Events Planning meets every 4th Thursday at 6:00 PM on Zoom. Use Meeting ID: 892 3730 0658 Passcode: 857738. Contact safety@aasantacruz.org for meeting location.
URL:https://aasantacruz.org/event/joint-committee-on-safety-events-planning-meeting-2/2027-05-27/
END:VEVENT
BEGIN:VEVENT
DTSTART;TZID=America/Los_Angeles:20270624T180000
DTEND;TZID=America/Los_Angeles:20270624T190000
DTSTAMP:20260424T031959
CREATED:20241224T150417Z
LAST-MODIFIED:20251127T150349Z
UID:10001513-1813860000-1813863600@aasantacruz.org
SUMMARY:Joint Committee on Safety Committee Meeting
DESCRIPTION:The Joint Committee on Safety Events Planning meets every 4th Thursday at 6:00 PM on Zoom. Use Meeting ID: 892 3730 0658 Passcode: 857738. Contact safety@aasantacruz.org for meeting location.
URL:https://aasantacruz.org/event/joint-committee-on-safety-events-planning-meeting-2/2027-06-24/
END:VEVENT
BEGIN:VEVENT
DTSTART;TZID=America/Los_Angeles:20270722T180000
DTEND;TZID=America/Los_Angeles:20270722T190000
DTSTAMP:20260424T031959
CREATED:20241224T150417Z
LAST-MODIFIED:20251127T150349Z
UID:10001514-1816279200-1816282800@aasantacruz.org
SUMMARY:Joint Committee on Safety Committee Meeting
DESCRIPTION:The Joint Committee on Safety Events Planning meets every 4th Thursday at 6:00 PM on Zoom. Use Meeting ID: 892 3730 0658 Passcode: 857738. Contact safety@aasantacruz.org for meeting location.
URL:https://aasantacruz.org/event/joint-committee-on-safety-events-planning-meeting-2/2027-07-22/
END:VEVENT
BEGIN:VEVENT
DTSTART;TZID=America/Los_Angeles:20270826T180000
DTEND;TZID=America/Los_Angeles:20270826T190000
DTSTAMP:20260424T031959
CREATED:20241224T150417Z
LAST-MODIFIED:20251127T150349Z
UID:10001515-1819303200-1819306800@aasantacruz.org
SUMMARY:Joint Committee on Safety Committee Meeting
DESCRIPTION:The Joint Committee on Safety Events Planning meets every 4th Thursday at 6:00 PM on Zoom. Use Meeting ID: 892 3730 0658 Passcode: 857738. Contact safety@aasantacruz.org for meeting location.
URL:https://aasantacruz.org/event/joint-committee-on-safety-events-planning-meeting-2/2027-08-26/
END:VEVENT
BEGIN:VEVENT
DTSTART;TZID=America/Los_Angeles:20270923T180000
DTEND;TZID=America/Los_Angeles:20270923T190000
DTSTAMP:20260424T031959
CREATED:20241224T150417Z
LAST-MODIFIED:20251127T150349Z
UID:10001516-1821722400-1821726000@aasantacruz.org
SUMMARY:Joint Committee on Safety Committee Meeting
DESCRIPTION:The Joint Committee on Safety Events Planning meets every 4th Thursday at 6:00 PM on Zoom. Use Meeting ID: 892 3730 0658 Passcode: 857738. Contact safety@aasantacruz.org for meeting location.
URL:https://aasantacruz.org/event/joint-committee-on-safety-events-planning-meeting-2/2027-09-23/
END:VEVENT
BEGIN:VEVENT
DTSTART;TZID=America/Los_Angeles:20271028T180000
DTEND;TZID=America/Los_Angeles:20271028T190000
DTSTAMP:20260424T031959
CREATED:20241224T150417Z
LAST-MODIFIED:20251127T150349Z
UID:10001517-1824746400-1824750000@aasantacruz.org
SUMMARY:Joint Committee on Safety Committee Meeting
DESCRIPTION:The Joint Committee on Safety Events Planning meets every 4th Thursday at 6:00 PM on Zoom. Use Meeting ID: 892 3730 0658 Passcode: 857738. Contact safety@aasantacruz.org for meeting location.
URL:https://aasantacruz.org/event/joint-committee-on-safety-events-planning-meeting-2/2027-10-28/
END:VEVENT
BEGIN:VEVENT
DTSTART;TZID=America/Los_Angeles:20271125T180000
DTEND;TZID=America/Los_Angeles:20271125T190000
DTSTAMP:20260424T031959
CREATED:20241224T150417Z
LAST-MODIFIED:20251127T150349Z
UID:10001518-1827165600-1827169200@aasantacruz.org
SUMMARY:Joint Committee on Safety Committee Meeting
DESCRIPTION:The Joint Committee on Safety Events Planning meets every 4th Thursday at 6:00 PM on Zoom. Use Meeting ID: 892 3730 0658 Passcode: 857738. Contact safety@aasantacruz.org for meeting location.
URL:https://aasantacruz.org/event/joint-committee-on-safety-events-planning-meeting-2/2027-11-25/
END:VEVENT
BEGIN:VEVENT
DTSTART;TZID=America/Los_Angeles:20271223T180000
DTEND;TZID=America/Los_Angeles:20271223T190000
DTSTAMP:20260424T031959
CREATED:20241224T150417Z
LAST-MODIFIED:20251127T150349Z
UID:10001519-1829584800-1829588400@aasantacruz.org
SUMMARY:Joint Committee on Safety Committee Meeting
DESCRIPTION:The Joint Committee on Safety Events Planning meets every 4th Thursday at 6:00 PM on Zoom. Use Meeting ID: 892 3730 0658 Passcode: 857738. Contact safety@aasantacruz.org for meeting location.
URL:https://aasantacruz.org/event/joint-committee-on-safety-events-planning-meeting-2/2027-12-23/
END:VEVENT
BEGIN:VEVENT
DTSTART;TZID=America/Los_Angeles:20280127T180000
DTEND;TZID=America/Los_Angeles:20280127T190000
DTSTAMP:20260424T031959
CREATED:20241224T150417Z
LAST-MODIFIED:20251127T150349Z
UID:10001520-1832608800-1832612400@aasantacruz.org
SUMMARY:Joint Committee on Safety Committee Meeting
DESCRIPTION:The Joint Committee on Safety Events Planning meets every 4th Thursday at 6:00 PM on Zoom. Use Meeting ID: 892 3730 0658 Passcode: 857738. Contact safety@aasantacruz.org for meeting location.
URL:https://aasantacruz.org/event/joint-committee-on-safety-events-planning-meeting-2/2028-01-27/
END:VEVENT
BEGIN:VEVENT
DTSTART;TZID=America/Los_Angeles:20280224T180000
DTEND;TZID=America/Los_Angeles:20280224T190000
DTSTAMP:20260424T031959
CREATED:20241224T150417Z
LAST-MODIFIED:20251127T150349Z
UID:10001521-1835028000-1835031600@aasantacruz.org
SUMMARY:Joint Committee on Safety Committee Meeting
DESCRIPTION:The Joint Committee on Safety Events Planning meets every 4th Thursday at 6:00 PM on Zoom. Use Meeting ID: 892 3730 0658 Passcode: 857738. Contact safety@aasantacruz.org for meeting location.
URL:https://aasantacruz.org/event/joint-committee-on-safety-events-planning-meeting-2/2028-02-24/
END:VEVENT
BEGIN:VEVENT
DTSTART;TZID=America/Los_Angeles:20280323T180000
DTEND;TZID=America/Los_Angeles:20280323T190000
DTSTAMP:20260424T031959
CREATED:20241224T150417Z
LAST-MODIFIED:20251127T150349Z
UID:10001522-1837447200-1837450800@aasantacruz.org
SUMMARY:Joint Committee on Safety Committee Meeting
DESCRIPTION:The Joint Committee on Safety Events Planning meets every 4th Thursday at 6:00 PM on Zoom. Use Meeting ID: 892 3730 0658 Passcode: 857738. Contact safety@aasantacruz.org for meeting location.
URL:https://aasantacruz.org/event/joint-committee-on-safety-events-planning-meeting-2/2028-03-23/
END:VEVENT
BEGIN:VEVENT
DTSTART;TZID=America/Los_Angeles:20280427T180000
DTEND;TZID=America/Los_Angeles:20280427T190000
DTSTAMP:20260424T031959
CREATED:20241224T150417Z
LAST-MODIFIED:20251127T150349Z
UID:10001523-1840471200-1840474800@aasantacruz.org
SUMMARY:Joint Committee on Safety Committee Meeting
DESCRIPTION:The Joint Committee on Safety Events Planning meets every 4th Thursday at 6:00 PM on Zoom. Use Meeting ID: 892 3730 0658 Passcode: 857738. Contact safety@aasantacruz.org for meeting location.
URL:https://aasantacruz.org/event/joint-committee-on-safety-events-planning-meeting-2/2028-04-27/
END:VEVENT
BEGIN:VEVENT
DTSTART;TZID=America/Los_Angeles:20280525T180000
DTEND;TZID=America/Los_Angeles:20280525T190000
DTSTAMP:20260424T031959
CREATED:20241224T150417Z
LAST-MODIFIED:20251127T150349Z
UID:10001524-1842890400-1842894000@aasantacruz.org
SUMMARY:Joint Committee on Safety Committee Meeting
DESCRIPTION:The Joint Committee on Safety Events Planning meets every 4th Thursday at 6:00 PM on Zoom. Use Meeting ID: 892 3730 0658 Passcode: 857738. Contact safety@aasantacruz.org for meeting location.
URL:https://aasantacruz.org/event/joint-committee-on-safety-events-planning-meeting-2/2028-05-25/
END:VEVENT
BEGIN:VEVENT
DTSTART;TZID=America/Los_Angeles:20280622T180000
DTEND;TZID=America/Los_Angeles:20280622T190000
DTSTAMP:20260424T031959
CREATED:20241224T150417Z
LAST-MODIFIED:20251127T150349Z
UID:10001525-1845309600-1845313200@aasantacruz.org
SUMMARY:Joint Committee on Safety Committee Meeting
DESCRIPTION:The Joint Committee on Safety Events Planning meets every 4th Thursday at 6:00 PM on Zoom. Use Meeting ID: 892 3730 0658 Passcode: 857738. Contact safety@aasantacruz.org for meeting location.
URL:https://aasantacruz.org/event/joint-committee-on-safety-events-planning-meeting-2/2028-06-22/
END:VEVENT
BEGIN:VEVENT
DTSTART;TZID=America/Los_Angeles:20280727T180000
DTEND;TZID=America/Los_Angeles:20280727T190000
DTSTAMP:20260424T031959
CREATED:20241224T150417Z
LAST-MODIFIED:20251127T150349Z
UID:10001526-1848333600-1848337200@aasantacruz.org
SUMMARY:Joint Committee on Safety Committee Meeting
DESCRIPTION:The Joint Committee on Safety Events Planning meets every 4th Thursday at 6:00 PM on Zoom. Use Meeting ID: 892 3730 0658 Passcode: 857738. Contact safety@aasantacruz.org for meeting location.
URL:https://aasantacruz.org/event/joint-committee-on-safety-events-planning-meeting-2/2028-07-27/
END:VEVENT
BEGIN:VEVENT
DTSTART;TZID=America/Los_Angeles:20280824T180000
DTEND;TZID=America/Los_Angeles:20280824T190000
DTSTAMP:20260424T031959
CREATED:20241224T150417Z
LAST-MODIFIED:20251127T150349Z
UID:10001527-1850752800-1850756400@aasantacruz.org
SUMMARY:Joint Committee on Safety Committee Meeting
DESCRIPTION:The Joint Committee on Safety Events Planning meets every 4th Thursday at 6:00 PM on Zoom. Use Meeting ID: 892 3730 0658 Passcode: 857738. Contact safety@aasantacruz.org for meeting location.
URL:https://aasantacruz.org/event/joint-committee-on-safety-events-planning-meeting-2/2028-08-24/
END:VEVENT
BEGIN:VEVENT
DTSTART;TZID=America/Los_Angeles:20280928T180000
DTEND;TZID=America/Los_Angeles:20280928T190000
DTSTAMP:20260424T031959
CREATED:20241224T150417Z
LAST-MODIFIED:20251127T150349Z
UID:10001528-1853776800-1853780400@aasantacruz.org
SUMMARY:Joint Committee on Safety Committee Meeting
DESCRIPTION:The Joint Committee on Safety Events Planning meets every 4th Thursday at 6:00 PM on Zoom. Use Meeting ID: 892 3730 0658 Passcode: 857738. Contact safety@aasantacruz.org for meeting location.
URL:https://aasantacruz.org/event/joint-committee-on-safety-events-planning-meeting-2/2028-09-28/
END:VEVENT
BEGIN:VEVENT
DTSTART;TZID=America/Los_Angeles:20281026T180000
DTEND;TZID=America/Los_Angeles:20281026T190000
DTSTAMP:20260424T031959
CREATED:20241224T150417Z
LAST-MODIFIED:20251127T150349Z
UID:10001529-1856196000-1856199600@aasantacruz.org
SUMMARY:Joint Committee on Safety Committee Meeting
DESCRIPTION:The Joint Committee on Safety Events Planning meets every 4th Thursday at 6:00 PM on Zoom. Use Meeting ID: 892 3730 0658 Passcode: 857738. Contact safety@aasantacruz.org for meeting location.
URL:https://aasantacruz.org/event/joint-committee-on-safety-events-planning-meeting-2/2028-10-26/
END:VEVENT
END:VCALENDAR