BEGIN:VCALENDAR
VERSION:2.0
PRODID:-//Alcoholics Anonymous of Santa Cruz County - ECPv6.15.20//NONSGML v1.0//EN
CALSCALE:GREGORIAN
METHOD:PUBLISH
X-WR-CALNAME:Alcoholics Anonymous of Santa Cruz County
X-ORIGINAL-URL:https://aasantacruz.org
X-WR-CALDESC:Events for Alcoholics Anonymous of Santa Cruz County
REFRESH-INTERVAL;VALUE=DURATION:PT1H
X-Robots-Tag:noindex
X-PUBLISHED-TTL:PT1H
BEGIN:VTIMEZONE
TZID:America/Los_Angeles
BEGIN:DAYLIGHT
TZOFFSETFROM:-0800
TZOFFSETTO:-0700
TZNAME:PDT
DTSTART:20250309T100000
END:DAYLIGHT
BEGIN:STANDARD
TZOFFSETFROM:-0700
TZOFFSETTO:-0800
TZNAME:PST
DTSTART:20251102T090000
END:STANDARD
BEGIN:DAYLIGHT
TZOFFSETFROM:-0800
TZOFFSETTO:-0700
TZNAME:PDT
DTSTART:20260308T100000
END:DAYLIGHT
BEGIN:STANDARD
TZOFFSETFROM:-0700
TZOFFSETTO:-0800
TZNAME:PST
DTSTART:20261101T090000
END:STANDARD
BEGIN:DAYLIGHT
TZOFFSETFROM:-0800
TZOFFSETTO:-0700
TZNAME:PDT
DTSTART:20270314T100000
END:DAYLIGHT
BEGIN:STANDARD
TZOFFSETFROM:-0700
TZOFFSETTO:-0800
TZNAME:PST
DTSTART:20271107T090000
END:STANDARD
BEGIN:DAYLIGHT
TZOFFSETFROM:-0800
TZOFFSETTO:-0700
TZNAME:PDT
DTSTART:20280312T100000
END:DAYLIGHT
BEGIN:STANDARD
TZOFFSETFROM:-0700
TZOFFSETTO:-0800
TZNAME:PST
DTSTART:20281105T090000
END:STANDARD
BEGIN:DAYLIGHT
TZOFFSETFROM:-0800
TZOFFSETTO:-0700
TZNAME:PDT
DTSTART:20290311T100000
END:DAYLIGHT
BEGIN:STANDARD
TZOFFSETFROM:-0700
TZOFFSETTO:-0800
TZNAME:PST
DTSTART:20291104T090000
END:STANDARD
END:VTIMEZONE
BEGIN:VEVENT
DTSTART;TZID=America/Los_Angeles:20260520T190000
DTEND;TZID=America/Los_Angeles:20260520T203000
DTSTAMP:20260424T031748
CREATED:20240618T181642Z
LAST-MODIFIED:20240618T181644Z
UID:10001293-1779303600-1779309000@aasantacruz.org
SUMMARY:Intergroup Steering Committee
DESCRIPTION:Steering Committee meets on the third Wednesday of each month at 7:30pm. Intergroup Council officers and all Area Reps are invited. \n\n\n\n\n\nJoin the Zoom Meetinghttps://zoom.us/j/816 2421 5008Meeting ID: 816 2421 5008Passcode: 4755782
URL:https://aasantacruz.org/event/intergroup-steering-committee-3/2026-05-20/
CATEGORIES:Intergroup
END:VEVENT
BEGIN:VEVENT
DTSTART;TZID=America/Los_Angeles:20260617T190000
DTEND;TZID=America/Los_Angeles:20260617T203000
DTSTAMP:20260424T031748
CREATED:20240618T181642Z
LAST-MODIFIED:20240618T181644Z
UID:10001294-1781722800-1781728200@aasantacruz.org
SUMMARY:Intergroup Steering Committee
DESCRIPTION:Steering Committee meets on the third Wednesday of each month at 7:30pm. Intergroup Council officers and all Area Reps are invited. \n\n\n\n\n\nJoin the Zoom Meetinghttps://zoom.us/j/816 2421 5008Meeting ID: 816 2421 5008Passcode: 4755782
URL:https://aasantacruz.org/event/intergroup-steering-committee-3/2026-06-17/
CATEGORIES:Intergroup
END:VEVENT
BEGIN:VEVENT
DTSTART;TZID=America/Los_Angeles:20260715T190000
DTEND;TZID=America/Los_Angeles:20260715T203000
DTSTAMP:20260424T031748
CREATED:20240618T181642Z
LAST-MODIFIED:20240618T181644Z
UID:10001295-1784142000-1784147400@aasantacruz.org
SUMMARY:Intergroup Steering Committee
DESCRIPTION:Steering Committee meets on the third Wednesday of each month at 7:30pm. Intergroup Council officers and all Area Reps are invited. \n\n\n\n\n\nJoin the Zoom Meetinghttps://zoom.us/j/816 2421 5008Meeting ID: 816 2421 5008Passcode: 4755782
URL:https://aasantacruz.org/event/intergroup-steering-committee-3/2026-07-15/
CATEGORIES:Intergroup
END:VEVENT
BEGIN:VEVENT
DTSTART;TZID=America/Los_Angeles:20260819T190000
DTEND;TZID=America/Los_Angeles:20260819T203000
DTSTAMP:20260424T031748
CREATED:20240618T181642Z
LAST-MODIFIED:20240618T181644Z
UID:10001296-1787166000-1787171400@aasantacruz.org
SUMMARY:Intergroup Steering Committee
DESCRIPTION:Steering Committee meets on the third Wednesday of each month at 7:30pm. Intergroup Council officers and all Area Reps are invited. \n\n\n\n\n\nJoin the Zoom Meetinghttps://zoom.us/j/816 2421 5008Meeting ID: 816 2421 5008Passcode: 4755782
URL:https://aasantacruz.org/event/intergroup-steering-committee-3/2026-08-19/
CATEGORIES:Intergroup
END:VEVENT
BEGIN:VEVENT
DTSTART;TZID=America/Los_Angeles:20260916T190000
DTEND;TZID=America/Los_Angeles:20260916T203000
DTSTAMP:20260424T031748
CREATED:20240618T181642Z
LAST-MODIFIED:20240618T181644Z
UID:10001297-1789585200-1789590600@aasantacruz.org
SUMMARY:Intergroup Steering Committee
DESCRIPTION:Steering Committee meets on the third Wednesday of each month at 7:30pm. Intergroup Council officers and all Area Reps are invited. \n\n\n\n\n\nJoin the Zoom Meetinghttps://zoom.us/j/816 2421 5008Meeting ID: 816 2421 5008Passcode: 4755782
URL:https://aasantacruz.org/event/intergroup-steering-committee-3/2026-09-16/
CATEGORIES:Intergroup
END:VEVENT
BEGIN:VEVENT
DTSTART;TZID=America/Los_Angeles:20261021T190000
DTEND;TZID=America/Los_Angeles:20261021T203000
DTSTAMP:20260424T031748
CREATED:20240618T181642Z
LAST-MODIFIED:20240618T181644Z
UID:10001298-1792609200-1792614600@aasantacruz.org
SUMMARY:Intergroup Steering Committee
DESCRIPTION:Steering Committee meets on the third Wednesday of each month at 7:30pm. Intergroup Council officers and all Area Reps are invited. \n\n\n\n\n\nJoin the Zoom Meetinghttps://zoom.us/j/816 2421 5008Meeting ID: 816 2421 5008Passcode: 4755782
URL:https://aasantacruz.org/event/intergroup-steering-committee-3/2026-10-21/
CATEGORIES:Intergroup
END:VEVENT
BEGIN:VEVENT
DTSTART;TZID=America/Los_Angeles:20261118T190000
DTEND;TZID=America/Los_Angeles:20261118T203000
DTSTAMP:20260424T031748
CREATED:20240618T181642Z
LAST-MODIFIED:20240618T181644Z
UID:10001299-1795028400-1795033800@aasantacruz.org
SUMMARY:Intergroup Steering Committee
DESCRIPTION:Steering Committee meets on the third Wednesday of each month at 7:30pm. Intergroup Council officers and all Area Reps are invited. \n\n\n\n\n\nJoin the Zoom Meetinghttps://zoom.us/j/816 2421 5008Meeting ID: 816 2421 5008Passcode: 4755782
URL:https://aasantacruz.org/event/intergroup-steering-committee-3/2026-11-18/
CATEGORIES:Intergroup
END:VEVENT
BEGIN:VEVENT
DTSTART;TZID=America/Los_Angeles:20261216T190000
DTEND;TZID=America/Los_Angeles:20261216T203000
DTSTAMP:20260424T031748
CREATED:20240618T181642Z
LAST-MODIFIED:20240618T181644Z
UID:10001300-1797447600-1797453000@aasantacruz.org
SUMMARY:Intergroup Steering Committee
DESCRIPTION:Steering Committee meets on the third Wednesday of each month at 7:30pm. Intergroup Council officers and all Area Reps are invited. \n\n\n\n\n\nJoin the Zoom Meetinghttps://zoom.us/j/816 2421 5008Meeting ID: 816 2421 5008Passcode: 4755782
URL:https://aasantacruz.org/event/intergroup-steering-committee-3/2026-12-16/
CATEGORIES:Intergroup
END:VEVENT
BEGIN:VEVENT
DTSTART;TZID=America/Los_Angeles:20270120T190000
DTEND;TZID=America/Los_Angeles:20270120T203000
DTSTAMP:20260424T031748
CREATED:20240618T181642Z
LAST-MODIFIED:20240618T181644Z
UID:10001301-1800471600-1800477000@aasantacruz.org
SUMMARY:Intergroup Steering Committee
DESCRIPTION:Steering Committee meets on the third Wednesday of each month at 7:30pm. Intergroup Council officers and all Area Reps are invited. \n\n\n\n\n\nJoin the Zoom Meetinghttps://zoom.us/j/816 2421 5008Meeting ID: 816 2421 5008Passcode: 4755782
URL:https://aasantacruz.org/event/intergroup-steering-committee-3/2027-01-20/
CATEGORIES:Intergroup
END:VEVENT
BEGIN:VEVENT
DTSTART;TZID=America/Los_Angeles:20270217T190000
DTEND;TZID=America/Los_Angeles:20270217T203000
DTSTAMP:20260424T031748
CREATED:20240618T181642Z
LAST-MODIFIED:20240618T181644Z
UID:10001302-1802890800-1802896200@aasantacruz.org
SUMMARY:Intergroup Steering Committee
DESCRIPTION:Steering Committee meets on the third Wednesday of each month at 7:30pm. Intergroup Council officers and all Area Reps are invited. \n\n\n\n\n\nJoin the Zoom Meetinghttps://zoom.us/j/816 2421 5008Meeting ID: 816 2421 5008Passcode: 4755782
URL:https://aasantacruz.org/event/intergroup-steering-committee-3/2027-02-17/
CATEGORIES:Intergroup
END:VEVENT
BEGIN:VEVENT
DTSTART;TZID=America/Los_Angeles:20270317T190000
DTEND;TZID=America/Los_Angeles:20270317T203000
DTSTAMP:20260424T031748
CREATED:20240618T181642Z
LAST-MODIFIED:20240618T181644Z
UID:10001303-1805310000-1805315400@aasantacruz.org
SUMMARY:Intergroup Steering Committee
DESCRIPTION:Steering Committee meets on the third Wednesday of each month at 7:30pm. Intergroup Council officers and all Area Reps are invited. \n\n\n\n\n\nJoin the Zoom Meetinghttps://zoom.us/j/816 2421 5008Meeting ID: 816 2421 5008Passcode: 4755782
URL:https://aasantacruz.org/event/intergroup-steering-committee-3/2027-03-17/
CATEGORIES:Intergroup
END:VEVENT
BEGIN:VEVENT
DTSTART;TZID=America/Los_Angeles:20270421T190000
DTEND;TZID=America/Los_Angeles:20270421T203000
DTSTAMP:20260424T031748
CREATED:20240618T181642Z
LAST-MODIFIED:20240618T181644Z
UID:10001304-1808334000-1808339400@aasantacruz.org
SUMMARY:Intergroup Steering Committee
DESCRIPTION:Steering Committee meets on the third Wednesday of each month at 7:30pm. Intergroup Council officers and all Area Reps are invited. \n\n\n\n\n\nJoin the Zoom Meetinghttps://zoom.us/j/816 2421 5008Meeting ID: 816 2421 5008Passcode: 4755782
URL:https://aasantacruz.org/event/intergroup-steering-committee-3/2027-04-21/
CATEGORIES:Intergroup
END:VEVENT
BEGIN:VEVENT
DTSTART;TZID=America/Los_Angeles:20270519T190000
DTEND;TZID=America/Los_Angeles:20270519T203000
DTSTAMP:20260424T031748
CREATED:20240618T181642Z
LAST-MODIFIED:20240618T181644Z
UID:10001305-1810753200-1810758600@aasantacruz.org
SUMMARY:Intergroup Steering Committee
DESCRIPTION:Steering Committee meets on the third Wednesday of each month at 7:30pm. Intergroup Council officers and all Area Reps are invited. \n\n\n\n\n\nJoin the Zoom Meetinghttps://zoom.us/j/816 2421 5008Meeting ID: 816 2421 5008Passcode: 4755782
URL:https://aasantacruz.org/event/intergroup-steering-committee-3/2027-05-19/
CATEGORIES:Intergroup
END:VEVENT
BEGIN:VEVENT
DTSTART;TZID=America/Los_Angeles:20270616T190000
DTEND;TZID=America/Los_Angeles:20270616T203000
DTSTAMP:20260424T031748
CREATED:20240618T181642Z
LAST-MODIFIED:20240618T181644Z
UID:10001306-1813172400-1813177800@aasantacruz.org
SUMMARY:Intergroup Steering Committee
DESCRIPTION:Steering Committee meets on the third Wednesday of each month at 7:30pm. Intergroup Council officers and all Area Reps are invited. \n\n\n\n\n\nJoin the Zoom Meetinghttps://zoom.us/j/816 2421 5008Meeting ID: 816 2421 5008Passcode: 4755782
URL:https://aasantacruz.org/event/intergroup-steering-committee-3/2027-06-16/
CATEGORIES:Intergroup
END:VEVENT
BEGIN:VEVENT
DTSTART;TZID=America/Los_Angeles:20270721T190000
DTEND;TZID=America/Los_Angeles:20270721T203000
DTSTAMP:20260424T031748
CREATED:20240618T181642Z
LAST-MODIFIED:20240618T181644Z
UID:10001307-1816196400-1816201800@aasantacruz.org
SUMMARY:Intergroup Steering Committee
DESCRIPTION:Steering Committee meets on the third Wednesday of each month at 7:30pm. Intergroup Council officers and all Area Reps are invited. \n\n\n\n\n\nJoin the Zoom Meetinghttps://zoom.us/j/816 2421 5008Meeting ID: 816 2421 5008Passcode: 4755782
URL:https://aasantacruz.org/event/intergroup-steering-committee-3/2027-07-21/
CATEGORIES:Intergroup
END:VEVENT
BEGIN:VEVENT
DTSTART;TZID=America/Los_Angeles:20270818T190000
DTEND;TZID=America/Los_Angeles:20270818T203000
DTSTAMP:20260424T031748
CREATED:20240618T181642Z
LAST-MODIFIED:20240618T181644Z
UID:10001308-1818615600-1818621000@aasantacruz.org
SUMMARY:Intergroup Steering Committee
DESCRIPTION:Steering Committee meets on the third Wednesday of each month at 7:30pm. Intergroup Council officers and all Area Reps are invited. \n\n\n\n\n\nJoin the Zoom Meetinghttps://zoom.us/j/816 2421 5008Meeting ID: 816 2421 5008Passcode: 4755782
URL:https://aasantacruz.org/event/intergroup-steering-committee-3/2027-08-18/
CATEGORIES:Intergroup
END:VEVENT
BEGIN:VEVENT
DTSTART;TZID=America/Los_Angeles:20270915T190000
DTEND;TZID=America/Los_Angeles:20270915T203000
DTSTAMP:20260424T031748
CREATED:20240618T181642Z
LAST-MODIFIED:20240618T181644Z
UID:10001309-1821034800-1821040200@aasantacruz.org
SUMMARY:Intergroup Steering Committee
DESCRIPTION:Steering Committee meets on the third Wednesday of each month at 7:30pm. Intergroup Council officers and all Area Reps are invited. \n\n\n\n\n\nJoin the Zoom Meetinghttps://zoom.us/j/816 2421 5008Meeting ID: 816 2421 5008Passcode: 4755782
URL:https://aasantacruz.org/event/intergroup-steering-committee-3/2027-09-15/
CATEGORIES:Intergroup
END:VEVENT
BEGIN:VEVENT
DTSTART;TZID=America/Los_Angeles:20271020T190000
DTEND;TZID=America/Los_Angeles:20271020T203000
DTSTAMP:20260424T031748
CREATED:20240618T181642Z
LAST-MODIFIED:20240618T181644Z
UID:10001310-1824058800-1824064200@aasantacruz.org
SUMMARY:Intergroup Steering Committee
DESCRIPTION:Steering Committee meets on the third Wednesday of each month at 7:30pm. Intergroup Council officers and all Area Reps are invited. \n\n\n\n\n\nJoin the Zoom Meetinghttps://zoom.us/j/816 2421 5008Meeting ID: 816 2421 5008Passcode: 4755782
URL:https://aasantacruz.org/event/intergroup-steering-committee-3/2027-10-20/
CATEGORIES:Intergroup
END:VEVENT
BEGIN:VEVENT
DTSTART;TZID=America/Los_Angeles:20271117T190000
DTEND;TZID=America/Los_Angeles:20271117T203000
DTSTAMP:20260424T031748
CREATED:20240618T181642Z
LAST-MODIFIED:20240618T181644Z
UID:10001311-1826478000-1826483400@aasantacruz.org
SUMMARY:Intergroup Steering Committee
DESCRIPTION:Steering Committee meets on the third Wednesday of each month at 7:30pm. Intergroup Council officers and all Area Reps are invited. \n\n\n\n\n\nJoin the Zoom Meetinghttps://zoom.us/j/816 2421 5008Meeting ID: 816 2421 5008Passcode: 4755782
URL:https://aasantacruz.org/event/intergroup-steering-committee-3/2027-11-17/
CATEGORIES:Intergroup
END:VEVENT
BEGIN:VEVENT
DTSTART;TZID=America/Los_Angeles:20271215T190000
DTEND;TZID=America/Los_Angeles:20271215T203000
DTSTAMP:20260424T031748
CREATED:20240618T181642Z
LAST-MODIFIED:20240618T181644Z
UID:10001312-1828897200-1828902600@aasantacruz.org
SUMMARY:Intergroup Steering Committee
DESCRIPTION:Steering Committee meets on the third Wednesday of each month at 7:30pm. Intergroup Council officers and all Area Reps are invited. \n\n\n\n\n\nJoin the Zoom Meetinghttps://zoom.us/j/816 2421 5008Meeting ID: 816 2421 5008Passcode: 4755782
URL:https://aasantacruz.org/event/intergroup-steering-committee-3/2027-12-15/
CATEGORIES:Intergroup
END:VEVENT
BEGIN:VEVENT
DTSTART;TZID=America/Los_Angeles:20280119T190000
DTEND;TZID=America/Los_Angeles:20280119T203000
DTSTAMP:20260424T031748
CREATED:20240618T181642Z
LAST-MODIFIED:20240618T181644Z
UID:10001313-1831921200-1831926600@aasantacruz.org
SUMMARY:Intergroup Steering Committee
DESCRIPTION:Steering Committee meets on the third Wednesday of each month at 7:30pm. Intergroup Council officers and all Area Reps are invited. \n\n\n\n\n\nJoin the Zoom Meetinghttps://zoom.us/j/816 2421 5008Meeting ID: 816 2421 5008Passcode: 4755782
URL:https://aasantacruz.org/event/intergroup-steering-committee-3/2028-01-19/
CATEGORIES:Intergroup
END:VEVENT
BEGIN:VEVENT
DTSTART;TZID=America/Los_Angeles:20280216T190000
DTEND;TZID=America/Los_Angeles:20280216T203000
DTSTAMP:20260424T031748
CREATED:20240618T181642Z
LAST-MODIFIED:20240618T181644Z
UID:10001314-1834340400-1834345800@aasantacruz.org
SUMMARY:Intergroup Steering Committee
DESCRIPTION:Steering Committee meets on the third Wednesday of each month at 7:30pm. Intergroup Council officers and all Area Reps are invited. \n\n\n\n\n\nJoin the Zoom Meetinghttps://zoom.us/j/816 2421 5008Meeting ID: 816 2421 5008Passcode: 4755782
URL:https://aasantacruz.org/event/intergroup-steering-committee-3/2028-02-16/
CATEGORIES:Intergroup
END:VEVENT
BEGIN:VEVENT
DTSTART;TZID=America/Los_Angeles:20280315T190000
DTEND;TZID=America/Los_Angeles:20280315T203000
DTSTAMP:20260424T031748
CREATED:20240618T181642Z
LAST-MODIFIED:20240618T181644Z
UID:10001315-1836759600-1836765000@aasantacruz.org
SUMMARY:Intergroup Steering Committee
DESCRIPTION:Steering Committee meets on the third Wednesday of each month at 7:30pm. Intergroup Council officers and all Area Reps are invited. \n\n\n\n\n\nJoin the Zoom Meetinghttps://zoom.us/j/816 2421 5008Meeting ID: 816 2421 5008Passcode: 4755782
URL:https://aasantacruz.org/event/intergroup-steering-committee-3/2028-03-15/
CATEGORIES:Intergroup
END:VEVENT
BEGIN:VEVENT
DTSTART;TZID=America/Los_Angeles:20280419T190000
DTEND;TZID=America/Los_Angeles:20280419T203000
DTSTAMP:20260424T031748
CREATED:20240618T181642Z
LAST-MODIFIED:20240618T181644Z
UID:10001316-1839783600-1839789000@aasantacruz.org
SUMMARY:Intergroup Steering Committee
DESCRIPTION:Steering Committee meets on the third Wednesday of each month at 7:30pm. Intergroup Council officers and all Area Reps are invited. \n\n\n\n\n\nJoin the Zoom Meetinghttps://zoom.us/j/816 2421 5008Meeting ID: 816 2421 5008Passcode: 4755782
URL:https://aasantacruz.org/event/intergroup-steering-committee-3/2028-04-19/
CATEGORIES:Intergroup
END:VEVENT
BEGIN:VEVENT
DTSTART;TZID=America/Los_Angeles:20280517T190000
DTEND;TZID=America/Los_Angeles:20280517T203000
DTSTAMP:20260424T031748
CREATED:20240618T181642Z
LAST-MODIFIED:20240618T181644Z
UID:10001317-1842202800-1842208200@aasantacruz.org
SUMMARY:Intergroup Steering Committee
DESCRIPTION:Steering Committee meets on the third Wednesday of each month at 7:30pm. Intergroup Council officers and all Area Reps are invited. \n\n\n\n\n\nJoin the Zoom Meetinghttps://zoom.us/j/816 2421 5008Meeting ID: 816 2421 5008Passcode: 4755782
URL:https://aasantacruz.org/event/intergroup-steering-committee-3/2028-05-17/
CATEGORIES:Intergroup
END:VEVENT
BEGIN:VEVENT
DTSTART;TZID=America/Los_Angeles:20280621T190000
DTEND;TZID=America/Los_Angeles:20280621T203000
DTSTAMP:20260424T031748
CREATED:20240618T181642Z
LAST-MODIFIED:20240618T181644Z
UID:10001318-1845226800-1845232200@aasantacruz.org
SUMMARY:Intergroup Steering Committee
DESCRIPTION:Steering Committee meets on the third Wednesday of each month at 7:30pm. Intergroup Council officers and all Area Reps are invited. \n\n\n\n\n\nJoin the Zoom Meetinghttps://zoom.us/j/816 2421 5008Meeting ID: 816 2421 5008Passcode: 4755782
URL:https://aasantacruz.org/event/intergroup-steering-committee-3/2028-06-21/
CATEGORIES:Intergroup
END:VEVENT
BEGIN:VEVENT
DTSTART;TZID=America/Los_Angeles:20280719T190000
DTEND;TZID=America/Los_Angeles:20280719T203000
DTSTAMP:20260424T031748
CREATED:20240618T181642Z
LAST-MODIFIED:20240618T181644Z
UID:10001319-1847646000-1847651400@aasantacruz.org
SUMMARY:Intergroup Steering Committee
DESCRIPTION:Steering Committee meets on the third Wednesday of each month at 7:30pm. Intergroup Council officers and all Area Reps are invited. \n\n\n\n\n\nJoin the Zoom Meetinghttps://zoom.us/j/816 2421 5008Meeting ID: 816 2421 5008Passcode: 4755782
URL:https://aasantacruz.org/event/intergroup-steering-committee-3/2028-07-19/
CATEGORIES:Intergroup
END:VEVENT
BEGIN:VEVENT
DTSTART;TZID=America/Los_Angeles:20280816T190000
DTEND;TZID=America/Los_Angeles:20280816T203000
DTSTAMP:20260424T031748
CREATED:20240618T181642Z
LAST-MODIFIED:20240618T181644Z
UID:10001320-1850065200-1850070600@aasantacruz.org
SUMMARY:Intergroup Steering Committee
DESCRIPTION:Steering Committee meets on the third Wednesday of each month at 7:30pm. Intergroup Council officers and all Area Reps are invited. \n\n\n\n\n\nJoin the Zoom Meetinghttps://zoom.us/j/816 2421 5008Meeting ID: 816 2421 5008Passcode: 4755782
URL:https://aasantacruz.org/event/intergroup-steering-committee-3/2028-08-16/
CATEGORIES:Intergroup
END:VEVENT
BEGIN:VEVENT
DTSTART;TZID=America/Los_Angeles:20280920T190000
DTEND;TZID=America/Los_Angeles:20280920T203000
DTSTAMP:20260424T031748
CREATED:20240618T181642Z
LAST-MODIFIED:20240618T181644Z
UID:10001321-1853089200-1853094600@aasantacruz.org
SUMMARY:Intergroup Steering Committee
DESCRIPTION:Steering Committee meets on the third Wednesday of each month at 7:30pm. Intergroup Council officers and all Area Reps are invited. \n\n\n\n\n\nJoin the Zoom Meetinghttps://zoom.us/j/816 2421 5008Meeting ID: 816 2421 5008Passcode: 4755782
URL:https://aasantacruz.org/event/intergroup-steering-committee-3/2028-09-20/
CATEGORIES:Intergroup
END:VEVENT
BEGIN:VEVENT
DTSTART;TZID=America/Los_Angeles:20281018T190000
DTEND;TZID=America/Los_Angeles:20281018T203000
DTSTAMP:20260424T031748
CREATED:20240618T181642Z
LAST-MODIFIED:20240618T181644Z
UID:10001322-1855508400-1855513800@aasantacruz.org
SUMMARY:Intergroup Steering Committee
DESCRIPTION:Steering Committee meets on the third Wednesday of each month at 7:30pm. Intergroup Council officers and all Area Reps are invited. \n\n\n\n\n\nJoin the Zoom Meetinghttps://zoom.us/j/816 2421 5008Meeting ID: 816 2421 5008Passcode: 4755782
URL:https://aasantacruz.org/event/intergroup-steering-committee-3/2028-10-18/
CATEGORIES:Intergroup
END:VEVENT
END:VCALENDAR