BEGIN:VCALENDAR
VERSION:2.0
PRODID:-//Alcoholics Anonymous of Santa Cruz County - ECPv6.15.20//NONSGML v1.0//EN
CALSCALE:GREGORIAN
METHOD:PUBLISH
X-WR-CALNAME:Alcoholics Anonymous of Santa Cruz County
X-ORIGINAL-URL:https://aasantacruz.org
X-WR-CALDESC:Events for Alcoholics Anonymous of Santa Cruz County
REFRESH-INTERVAL;VALUE=DURATION:PT1H
X-Robots-Tag:noindex
X-PUBLISHED-TTL:PT1H
BEGIN:VTIMEZONE
TZID:America/Los_Angeles
BEGIN:DAYLIGHT
TZOFFSETFROM:-0800
TZOFFSETTO:-0700
TZNAME:PDT
DTSTART:20250309T100000
END:DAYLIGHT
BEGIN:STANDARD
TZOFFSETFROM:-0700
TZOFFSETTO:-0800
TZNAME:PST
DTSTART:20251102T090000
END:STANDARD
BEGIN:DAYLIGHT
TZOFFSETFROM:-0800
TZOFFSETTO:-0700
TZNAME:PDT
DTSTART:20260308T100000
END:DAYLIGHT
BEGIN:STANDARD
TZOFFSETFROM:-0700
TZOFFSETTO:-0800
TZNAME:PST
DTSTART:20261101T090000
END:STANDARD
BEGIN:DAYLIGHT
TZOFFSETFROM:-0800
TZOFFSETTO:-0700
TZNAME:PDT
DTSTART:20270314T100000
END:DAYLIGHT
BEGIN:STANDARD
TZOFFSETFROM:-0700
TZOFFSETTO:-0800
TZNAME:PST
DTSTART:20271107T090000
END:STANDARD
BEGIN:DAYLIGHT
TZOFFSETFROM:-0800
TZOFFSETTO:-0700
TZNAME:PDT
DTSTART:20280312T100000
END:DAYLIGHT
BEGIN:STANDARD
TZOFFSETFROM:-0700
TZOFFSETTO:-0800
TZNAME:PST
DTSTART:20281105T090000
END:STANDARD
BEGIN:DAYLIGHT
TZOFFSETFROM:-0800
TZOFFSETTO:-0700
TZNAME:PDT
DTSTART:20290311T100000
END:DAYLIGHT
BEGIN:STANDARD
TZOFFSETFROM:-0700
TZOFFSETTO:-0800
TZNAME:PST
DTSTART:20291104T090000
END:STANDARD
END:VTIMEZONE
BEGIN:VEVENT
DTSTART;TZID=America/Los_Angeles:20260506T190000
DTEND;TZID=America/Los_Angeles:20260506T203000
DTSTAMP:20260424T031732
CREATED:20240618T181756Z
LAST-MODIFIED:20240618T181809Z
UID:10001351-1778094000-1778099400@aasantacruz.org
SUMMARY:Intergroup Council Meeting
DESCRIPTION:Intergroup Council meets on the first Wednesday of each month at 7:00 pm. This is a hybrid meeting.  \n\n\n\n\n\nOr\, Join the Zoom Meetinghttps://us02web.zoom.us/j/81624215008Meeting ID: 816 2421 5008Passcode: 4755782
URL:https://aasantacruz.org/event/intergroup-council-meeting-2/2026-05-06/
LOCATION:Mid-County Senior Center\, 829 Bay Ave.\, Capitola\, CA\, 95010\, United States
CATEGORIES:Intergroup
END:VEVENT
BEGIN:VEVENT
DTSTART;TZID=America/Los_Angeles:20260603T190000
DTEND;TZID=America/Los_Angeles:20260603T203000
DTSTAMP:20260424T031732
CREATED:20240618T181756Z
LAST-MODIFIED:20240618T181809Z
UID:10001352-1780513200-1780518600@aasantacruz.org
SUMMARY:Intergroup Council Meeting
DESCRIPTION:Intergroup Council meets on the first Wednesday of each month at 7:00 pm. This is a hybrid meeting.  \n\n\n\n\n\nOr\, Join the Zoom Meetinghttps://us02web.zoom.us/j/81624215008Meeting ID: 816 2421 5008Passcode: 4755782
URL:https://aasantacruz.org/event/intergroup-council-meeting-2/2026-06-03/
LOCATION:Mid-County Senior Center\, 829 Bay Ave.\, Capitola\, CA\, 95010\, United States
CATEGORIES:Intergroup
END:VEVENT
BEGIN:VEVENT
DTSTART;TZID=America/Los_Angeles:20260701T190000
DTEND;TZID=America/Los_Angeles:20260701T203000
DTSTAMP:20260424T031732
CREATED:20240618T181756Z
LAST-MODIFIED:20240618T181809Z
UID:10001353-1782932400-1782937800@aasantacruz.org
SUMMARY:Intergroup Council Meeting
DESCRIPTION:Intergroup Council meets on the first Wednesday of each month at 7:00 pm. This is a hybrid meeting.  \n\n\n\n\n\nOr\, Join the Zoom Meetinghttps://us02web.zoom.us/j/81624215008Meeting ID: 816 2421 5008Passcode: 4755782
URL:https://aasantacruz.org/event/intergroup-council-meeting-2/2026-07-01/
LOCATION:Mid-County Senior Center\, 829 Bay Ave.\, Capitola\, CA\, 95010\, United States
CATEGORIES:Intergroup
END:VEVENT
BEGIN:VEVENT
DTSTART;TZID=America/Los_Angeles:20260805T190000
DTEND;TZID=America/Los_Angeles:20260805T203000
DTSTAMP:20260424T031732
CREATED:20240618T181756Z
LAST-MODIFIED:20240618T181809Z
UID:10001354-1785956400-1785961800@aasantacruz.org
SUMMARY:Intergroup Council Meeting
DESCRIPTION:Intergroup Council meets on the first Wednesday of each month at 7:00 pm. This is a hybrid meeting.  \n\n\n\n\n\nOr\, Join the Zoom Meetinghttps://us02web.zoom.us/j/81624215008Meeting ID: 816 2421 5008Passcode: 4755782
URL:https://aasantacruz.org/event/intergroup-council-meeting-2/2026-08-05/
LOCATION:Mid-County Senior Center\, 829 Bay Ave.\, Capitola\, CA\, 95010\, United States
CATEGORIES:Intergroup
END:VEVENT
BEGIN:VEVENT
DTSTART;TZID=America/Los_Angeles:20260902T190000
DTEND;TZID=America/Los_Angeles:20260902T203000
DTSTAMP:20260424T031732
CREATED:20240618T181756Z
LAST-MODIFIED:20240618T181809Z
UID:10001355-1788375600-1788381000@aasantacruz.org
SUMMARY:Intergroup Council Meeting
DESCRIPTION:Intergroup Council meets on the first Wednesday of each month at 7:00 pm. This is a hybrid meeting.  \n\n\n\n\n\nOr\, Join the Zoom Meetinghttps://us02web.zoom.us/j/81624215008Meeting ID: 816 2421 5008Passcode: 4755782
URL:https://aasantacruz.org/event/intergroup-council-meeting-2/2026-09-02/
LOCATION:Mid-County Senior Center\, 829 Bay Ave.\, Capitola\, CA\, 95010\, United States
CATEGORIES:Intergroup
END:VEVENT
BEGIN:VEVENT
DTSTART;TZID=America/Los_Angeles:20261007T190000
DTEND;TZID=America/Los_Angeles:20261007T203000
DTSTAMP:20260424T031732
CREATED:20240618T181756Z
LAST-MODIFIED:20240618T181809Z
UID:10001356-1791399600-1791405000@aasantacruz.org
SUMMARY:Intergroup Council Meeting
DESCRIPTION:Intergroup Council meets on the first Wednesday of each month at 7:00 pm. This is a hybrid meeting.  \n\n\n\n\n\nOr\, Join the Zoom Meetinghttps://us02web.zoom.us/j/81624215008Meeting ID: 816 2421 5008Passcode: 4755782
URL:https://aasantacruz.org/event/intergroup-council-meeting-2/2026-10-07/
LOCATION:Mid-County Senior Center\, 829 Bay Ave.\, Capitola\, CA\, 95010\, United States
CATEGORIES:Intergroup
END:VEVENT
BEGIN:VEVENT
DTSTART;TZID=America/Los_Angeles:20261104T190000
DTEND;TZID=America/Los_Angeles:20261104T203000
DTSTAMP:20260424T031732
CREATED:20240618T181756Z
LAST-MODIFIED:20240618T181809Z
UID:10001357-1793818800-1793824200@aasantacruz.org
SUMMARY:Intergroup Council Meeting
DESCRIPTION:Intergroup Council meets on the first Wednesday of each month at 7:00 pm. This is a hybrid meeting.  \n\n\n\n\n\nOr\, Join the Zoom Meetinghttps://us02web.zoom.us/j/81624215008Meeting ID: 816 2421 5008Passcode: 4755782
URL:https://aasantacruz.org/event/intergroup-council-meeting-2/2026-11-04/
LOCATION:Mid-County Senior Center\, 829 Bay Ave.\, Capitola\, CA\, 95010\, United States
CATEGORIES:Intergroup
END:VEVENT
BEGIN:VEVENT
DTSTART;TZID=America/Los_Angeles:20261202T190000
DTEND;TZID=America/Los_Angeles:20261202T203000
DTSTAMP:20260424T031732
CREATED:20240618T181756Z
LAST-MODIFIED:20240618T181809Z
UID:10001358-1796238000-1796243400@aasantacruz.org
SUMMARY:Intergroup Council Meeting
DESCRIPTION:Intergroup Council meets on the first Wednesday of each month at 7:00 pm. This is a hybrid meeting.  \n\n\n\n\n\nOr\, Join the Zoom Meetinghttps://us02web.zoom.us/j/81624215008Meeting ID: 816 2421 5008Passcode: 4755782
URL:https://aasantacruz.org/event/intergroup-council-meeting-2/2026-12-02/
LOCATION:Mid-County Senior Center\, 829 Bay Ave.\, Capitola\, CA\, 95010\, United States
CATEGORIES:Intergroup
END:VEVENT
BEGIN:VEVENT
DTSTART;TZID=America/Los_Angeles:20270106T190000
DTEND;TZID=America/Los_Angeles:20270106T203000
DTSTAMP:20260424T031732
CREATED:20240618T181756Z
LAST-MODIFIED:20240618T181809Z
UID:10001359-1799262000-1799267400@aasantacruz.org
SUMMARY:Intergroup Council Meeting
DESCRIPTION:Intergroup Council meets on the first Wednesday of each month at 7:00 pm. This is a hybrid meeting.  \n\n\n\n\n\nOr\, Join the Zoom Meetinghttps://us02web.zoom.us/j/81624215008Meeting ID: 816 2421 5008Passcode: 4755782
URL:https://aasantacruz.org/event/intergroup-council-meeting-2/2027-01-06/
LOCATION:Mid-County Senior Center\, 829 Bay Ave.\, Capitola\, CA\, 95010\, United States
CATEGORIES:Intergroup
END:VEVENT
BEGIN:VEVENT
DTSTART;TZID=America/Los_Angeles:20270203T190000
DTEND;TZID=America/Los_Angeles:20270203T203000
DTSTAMP:20260424T031732
CREATED:20240618T181756Z
LAST-MODIFIED:20240618T181809Z
UID:10001360-1801681200-1801686600@aasantacruz.org
SUMMARY:Intergroup Council Meeting
DESCRIPTION:Intergroup Council meets on the first Wednesday of each month at 7:00 pm. This is a hybrid meeting.  \n\n\n\n\n\nOr\, Join the Zoom Meetinghttps://us02web.zoom.us/j/81624215008Meeting ID: 816 2421 5008Passcode: 4755782
URL:https://aasantacruz.org/event/intergroup-council-meeting-2/2027-02-03/
LOCATION:Mid-County Senior Center\, 829 Bay Ave.\, Capitola\, CA\, 95010\, United States
CATEGORIES:Intergroup
END:VEVENT
BEGIN:VEVENT
DTSTART;TZID=America/Los_Angeles:20270303T190000
DTEND;TZID=America/Los_Angeles:20270303T203000
DTSTAMP:20260424T031732
CREATED:20240618T181756Z
LAST-MODIFIED:20240618T181809Z
UID:10001361-1804100400-1804105800@aasantacruz.org
SUMMARY:Intergroup Council Meeting
DESCRIPTION:Intergroup Council meets on the first Wednesday of each month at 7:00 pm. This is a hybrid meeting.  \n\n\n\n\n\nOr\, Join the Zoom Meetinghttps://us02web.zoom.us/j/81624215008Meeting ID: 816 2421 5008Passcode: 4755782
URL:https://aasantacruz.org/event/intergroup-council-meeting-2/2027-03-03/
LOCATION:Mid-County Senior Center\, 829 Bay Ave.\, Capitola\, CA\, 95010\, United States
CATEGORIES:Intergroup
END:VEVENT
BEGIN:VEVENT
DTSTART;TZID=America/Los_Angeles:20270407T190000
DTEND;TZID=America/Los_Angeles:20270407T203000
DTSTAMP:20260424T031732
CREATED:20240618T181756Z
LAST-MODIFIED:20240618T181809Z
UID:10001362-1807124400-1807129800@aasantacruz.org
SUMMARY:Intergroup Council Meeting
DESCRIPTION:Intergroup Council meets on the first Wednesday of each month at 7:00 pm. This is a hybrid meeting.  \n\n\n\n\n\nOr\, Join the Zoom Meetinghttps://us02web.zoom.us/j/81624215008Meeting ID: 816 2421 5008Passcode: 4755782
URL:https://aasantacruz.org/event/intergroup-council-meeting-2/2027-04-07/
LOCATION:Mid-County Senior Center\, 829 Bay Ave.\, Capitola\, CA\, 95010\, United States
CATEGORIES:Intergroup
END:VEVENT
BEGIN:VEVENT
DTSTART;TZID=America/Los_Angeles:20270505T190000
DTEND;TZID=America/Los_Angeles:20270505T203000
DTSTAMP:20260424T031732
CREATED:20240618T181756Z
LAST-MODIFIED:20240618T181809Z
UID:10001363-1809543600-1809549000@aasantacruz.org
SUMMARY:Intergroup Council Meeting
DESCRIPTION:Intergroup Council meets on the first Wednesday of each month at 7:00 pm. This is a hybrid meeting.  \n\n\n\n\n\nOr\, Join the Zoom Meetinghttps://us02web.zoom.us/j/81624215008Meeting ID: 816 2421 5008Passcode: 4755782
URL:https://aasantacruz.org/event/intergroup-council-meeting-2/2027-05-05/
LOCATION:Mid-County Senior Center\, 829 Bay Ave.\, Capitola\, CA\, 95010\, United States
CATEGORIES:Intergroup
END:VEVENT
BEGIN:VEVENT
DTSTART;TZID=America/Los_Angeles:20270602T190000
DTEND;TZID=America/Los_Angeles:20270602T203000
DTSTAMP:20260424T031732
CREATED:20240618T181756Z
LAST-MODIFIED:20240618T181809Z
UID:10001364-1811962800-1811968200@aasantacruz.org
SUMMARY:Intergroup Council Meeting
DESCRIPTION:Intergroup Council meets on the first Wednesday of each month at 7:00 pm. This is a hybrid meeting.  \n\n\n\n\n\nOr\, Join the Zoom Meetinghttps://us02web.zoom.us/j/81624215008Meeting ID: 816 2421 5008Passcode: 4755782
URL:https://aasantacruz.org/event/intergroup-council-meeting-2/2027-06-02/
LOCATION:Mid-County Senior Center\, 829 Bay Ave.\, Capitola\, CA\, 95010\, United States
CATEGORIES:Intergroup
END:VEVENT
BEGIN:VEVENT
DTSTART;TZID=America/Los_Angeles:20270707T190000
DTEND;TZID=America/Los_Angeles:20270707T203000
DTSTAMP:20260424T031732
CREATED:20240618T181756Z
LAST-MODIFIED:20240618T181809Z
UID:10001365-1814986800-1814992200@aasantacruz.org
SUMMARY:Intergroup Council Meeting
DESCRIPTION:Intergroup Council meets on the first Wednesday of each month at 7:00 pm. This is a hybrid meeting.  \n\n\n\n\n\nOr\, Join the Zoom Meetinghttps://us02web.zoom.us/j/81624215008Meeting ID: 816 2421 5008Passcode: 4755782
URL:https://aasantacruz.org/event/intergroup-council-meeting-2/2027-07-07/
LOCATION:Mid-County Senior Center\, 829 Bay Ave.\, Capitola\, CA\, 95010\, United States
CATEGORIES:Intergroup
END:VEVENT
BEGIN:VEVENT
DTSTART;TZID=America/Los_Angeles:20270804T190000
DTEND;TZID=America/Los_Angeles:20270804T203000
DTSTAMP:20260424T031732
CREATED:20240618T181756Z
LAST-MODIFIED:20240618T181809Z
UID:10001366-1817406000-1817411400@aasantacruz.org
SUMMARY:Intergroup Council Meeting
DESCRIPTION:Intergroup Council meets on the first Wednesday of each month at 7:00 pm. This is a hybrid meeting.  \n\n\n\n\n\nOr\, Join the Zoom Meetinghttps://us02web.zoom.us/j/81624215008Meeting ID: 816 2421 5008Passcode: 4755782
URL:https://aasantacruz.org/event/intergroup-council-meeting-2/2027-08-04/
LOCATION:Mid-County Senior Center\, 829 Bay Ave.\, Capitola\, CA\, 95010\, United States
CATEGORIES:Intergroup
END:VEVENT
BEGIN:VEVENT
DTSTART;TZID=America/Los_Angeles:20270901T190000
DTEND;TZID=America/Los_Angeles:20270901T203000
DTSTAMP:20260424T031732
CREATED:20240618T181756Z
LAST-MODIFIED:20240618T181809Z
UID:10001367-1819825200-1819830600@aasantacruz.org
SUMMARY:Intergroup Council Meeting
DESCRIPTION:Intergroup Council meets on the first Wednesday of each month at 7:00 pm. This is a hybrid meeting.  \n\n\n\n\n\nOr\, Join the Zoom Meetinghttps://us02web.zoom.us/j/81624215008Meeting ID: 816 2421 5008Passcode: 4755782
URL:https://aasantacruz.org/event/intergroup-council-meeting-2/2027-09-01/
LOCATION:Mid-County Senior Center\, 829 Bay Ave.\, Capitola\, CA\, 95010\, United States
CATEGORIES:Intergroup
END:VEVENT
BEGIN:VEVENT
DTSTART;TZID=America/Los_Angeles:20271006T190000
DTEND;TZID=America/Los_Angeles:20271006T203000
DTSTAMP:20260424T031732
CREATED:20240618T181756Z
LAST-MODIFIED:20240618T181809Z
UID:10001368-1822849200-1822854600@aasantacruz.org
SUMMARY:Intergroup Council Meeting
DESCRIPTION:Intergroup Council meets on the first Wednesday of each month at 7:00 pm. This is a hybrid meeting.  \n\n\n\n\n\nOr\, Join the Zoom Meetinghttps://us02web.zoom.us/j/81624215008Meeting ID: 816 2421 5008Passcode: 4755782
URL:https://aasantacruz.org/event/intergroup-council-meeting-2/2027-10-06/
LOCATION:Mid-County Senior Center\, 829 Bay Ave.\, Capitola\, CA\, 95010\, United States
CATEGORIES:Intergroup
END:VEVENT
BEGIN:VEVENT
DTSTART;TZID=America/Los_Angeles:20271103T190000
DTEND;TZID=America/Los_Angeles:20271103T203000
DTSTAMP:20260424T031732
CREATED:20240618T181756Z
LAST-MODIFIED:20240618T181809Z
UID:10001369-1825268400-1825273800@aasantacruz.org
SUMMARY:Intergroup Council Meeting
DESCRIPTION:Intergroup Council meets on the first Wednesday of each month at 7:00 pm. This is a hybrid meeting.  \n\n\n\n\n\nOr\, Join the Zoom Meetinghttps://us02web.zoom.us/j/81624215008Meeting ID: 816 2421 5008Passcode: 4755782
URL:https://aasantacruz.org/event/intergroup-council-meeting-2/2027-11-03/
LOCATION:Mid-County Senior Center\, 829 Bay Ave.\, Capitola\, CA\, 95010\, United States
CATEGORIES:Intergroup
END:VEVENT
BEGIN:VEVENT
DTSTART;TZID=America/Los_Angeles:20271201T190000
DTEND;TZID=America/Los_Angeles:20271201T203000
DTSTAMP:20260424T031732
CREATED:20240618T181756Z
LAST-MODIFIED:20240618T181809Z
UID:10001370-1827687600-1827693000@aasantacruz.org
SUMMARY:Intergroup Council Meeting
DESCRIPTION:Intergroup Council meets on the first Wednesday of each month at 7:00 pm. This is a hybrid meeting.  \n\n\n\n\n\nOr\, Join the Zoom Meetinghttps://us02web.zoom.us/j/81624215008Meeting ID: 816 2421 5008Passcode: 4755782
URL:https://aasantacruz.org/event/intergroup-council-meeting-2/2027-12-01/
LOCATION:Mid-County Senior Center\, 829 Bay Ave.\, Capitola\, CA\, 95010\, United States
CATEGORIES:Intergroup
END:VEVENT
BEGIN:VEVENT
DTSTART;TZID=America/Los_Angeles:20280105T190000
DTEND;TZID=America/Los_Angeles:20280105T203000
DTSTAMP:20260424T031732
CREATED:20240618T181756Z
LAST-MODIFIED:20240618T181809Z
UID:10001371-1830711600-1830717000@aasantacruz.org
SUMMARY:Intergroup Council Meeting
DESCRIPTION:Intergroup Council meets on the first Wednesday of each month at 7:00 pm. This is a hybrid meeting.  \n\n\n\n\n\nOr\, Join the Zoom Meetinghttps://us02web.zoom.us/j/81624215008Meeting ID: 816 2421 5008Passcode: 4755782
URL:https://aasantacruz.org/event/intergroup-council-meeting-2/2028-01-05/
LOCATION:Mid-County Senior Center\, 829 Bay Ave.\, Capitola\, CA\, 95010\, United States
CATEGORIES:Intergroup
END:VEVENT
BEGIN:VEVENT
DTSTART;TZID=America/Los_Angeles:20280202T190000
DTEND;TZID=America/Los_Angeles:20280202T203000
DTSTAMP:20260424T031732
CREATED:20240618T181756Z
LAST-MODIFIED:20240618T181809Z
UID:10001372-1833130800-1833136200@aasantacruz.org
SUMMARY:Intergroup Council Meeting
DESCRIPTION:Intergroup Council meets on the first Wednesday of each month at 7:00 pm. This is a hybrid meeting.  \n\n\n\n\n\nOr\, Join the Zoom Meetinghttps://us02web.zoom.us/j/81624215008Meeting ID: 816 2421 5008Passcode: 4755782
URL:https://aasantacruz.org/event/intergroup-council-meeting-2/2028-02-02/
LOCATION:Mid-County Senior Center\, 829 Bay Ave.\, Capitola\, CA\, 95010\, United States
CATEGORIES:Intergroup
END:VEVENT
BEGIN:VEVENT
DTSTART;TZID=America/Los_Angeles:20280301T190000
DTEND;TZID=America/Los_Angeles:20280301T203000
DTSTAMP:20260424T031732
CREATED:20240618T181756Z
LAST-MODIFIED:20240618T181809Z
UID:10001373-1835550000-1835555400@aasantacruz.org
SUMMARY:Intergroup Council Meeting
DESCRIPTION:Intergroup Council meets on the first Wednesday of each month at 7:00 pm. This is a hybrid meeting.  \n\n\n\n\n\nOr\, Join the Zoom Meetinghttps://us02web.zoom.us/j/81624215008Meeting ID: 816 2421 5008Passcode: 4755782
URL:https://aasantacruz.org/event/intergroup-council-meeting-2/2028-03-01/
LOCATION:Mid-County Senior Center\, 829 Bay Ave.\, Capitola\, CA\, 95010\, United States
CATEGORIES:Intergroup
END:VEVENT
BEGIN:VEVENT
DTSTART;TZID=America/Los_Angeles:20280405T190000
DTEND;TZID=America/Los_Angeles:20280405T203000
DTSTAMP:20260424T031732
CREATED:20240618T181756Z
LAST-MODIFIED:20240618T181809Z
UID:10001374-1838574000-1838579400@aasantacruz.org
SUMMARY:Intergroup Council Meeting
DESCRIPTION:Intergroup Council meets on the first Wednesday of each month at 7:00 pm. This is a hybrid meeting.  \n\n\n\n\n\nOr\, Join the Zoom Meetinghttps://us02web.zoom.us/j/81624215008Meeting ID: 816 2421 5008Passcode: 4755782
URL:https://aasantacruz.org/event/intergroup-council-meeting-2/2028-04-05/
LOCATION:Mid-County Senior Center\, 829 Bay Ave.\, Capitola\, CA\, 95010\, United States
CATEGORIES:Intergroup
END:VEVENT
BEGIN:VEVENT
DTSTART;TZID=America/Los_Angeles:20280503T190000
DTEND;TZID=America/Los_Angeles:20280503T203000
DTSTAMP:20260424T031732
CREATED:20240618T181756Z
LAST-MODIFIED:20240618T181809Z
UID:10001375-1840993200-1840998600@aasantacruz.org
SUMMARY:Intergroup Council Meeting
DESCRIPTION:Intergroup Council meets on the first Wednesday of each month at 7:00 pm. This is a hybrid meeting.  \n\n\n\n\n\nOr\, Join the Zoom Meetinghttps://us02web.zoom.us/j/81624215008Meeting ID: 816 2421 5008Passcode: 4755782
URL:https://aasantacruz.org/event/intergroup-council-meeting-2/2028-05-03/
LOCATION:Mid-County Senior Center\, 829 Bay Ave.\, Capitola\, CA\, 95010\, United States
CATEGORIES:Intergroup
END:VEVENT
BEGIN:VEVENT
DTSTART;TZID=America/Los_Angeles:20280607T190000
DTEND;TZID=America/Los_Angeles:20280607T203000
DTSTAMP:20260424T031732
CREATED:20240618T181756Z
LAST-MODIFIED:20240618T181809Z
UID:10001376-1844017200-1844022600@aasantacruz.org
SUMMARY:Intergroup Council Meeting
DESCRIPTION:Intergroup Council meets on the first Wednesday of each month at 7:00 pm. This is a hybrid meeting.  \n\n\n\n\n\nOr\, Join the Zoom Meetinghttps://us02web.zoom.us/j/81624215008Meeting ID: 816 2421 5008Passcode: 4755782
URL:https://aasantacruz.org/event/intergroup-council-meeting-2/2028-06-07/
LOCATION:Mid-County Senior Center\, 829 Bay Ave.\, Capitola\, CA\, 95010\, United States
CATEGORIES:Intergroup
END:VEVENT
BEGIN:VEVENT
DTSTART;TZID=America/Los_Angeles:20280705T190000
DTEND;TZID=America/Los_Angeles:20280705T203000
DTSTAMP:20260424T031732
CREATED:20240618T181756Z
LAST-MODIFIED:20240618T181809Z
UID:10001377-1846436400-1846441800@aasantacruz.org
SUMMARY:Intergroup Council Meeting
DESCRIPTION:Intergroup Council meets on the first Wednesday of each month at 7:00 pm. This is a hybrid meeting.  \n\n\n\n\n\nOr\, Join the Zoom Meetinghttps://us02web.zoom.us/j/81624215008Meeting ID: 816 2421 5008Passcode: 4755782
URL:https://aasantacruz.org/event/intergroup-council-meeting-2/2028-07-05/
LOCATION:Mid-County Senior Center\, 829 Bay Ave.\, Capitola\, CA\, 95010\, United States
CATEGORIES:Intergroup
END:VEVENT
BEGIN:VEVENT
DTSTART;TZID=America/Los_Angeles:20280802T190000
DTEND;TZID=America/Los_Angeles:20280802T203000
DTSTAMP:20260424T031732
CREATED:20240618T181756Z
LAST-MODIFIED:20240618T181809Z
UID:10001378-1848855600-1848861000@aasantacruz.org
SUMMARY:Intergroup Council Meeting
DESCRIPTION:Intergroup Council meets on the first Wednesday of each month at 7:00 pm. This is a hybrid meeting.  \n\n\n\n\n\nOr\, Join the Zoom Meetinghttps://us02web.zoom.us/j/81624215008Meeting ID: 816 2421 5008Passcode: 4755782
URL:https://aasantacruz.org/event/intergroup-council-meeting-2/2028-08-02/
LOCATION:Mid-County Senior Center\, 829 Bay Ave.\, Capitola\, CA\, 95010\, United States
CATEGORIES:Intergroup
END:VEVENT
BEGIN:VEVENT
DTSTART;TZID=America/Los_Angeles:20280906T190000
DTEND;TZID=America/Los_Angeles:20280906T203000
DTSTAMP:20260424T031732
CREATED:20240618T181756Z
LAST-MODIFIED:20240618T181809Z
UID:10001379-1851879600-1851885000@aasantacruz.org
SUMMARY:Intergroup Council Meeting
DESCRIPTION:Intergroup Council meets on the first Wednesday of each month at 7:00 pm. This is a hybrid meeting.  \n\n\n\n\n\nOr\, Join the Zoom Meetinghttps://us02web.zoom.us/j/81624215008Meeting ID: 816 2421 5008Passcode: 4755782
URL:https://aasantacruz.org/event/intergroup-council-meeting-2/2028-09-06/
LOCATION:Mid-County Senior Center\, 829 Bay Ave.\, Capitola\, CA\, 95010\, United States
CATEGORIES:Intergroup
END:VEVENT
BEGIN:VEVENT
DTSTART;TZID=America/Los_Angeles:20281004T190000
DTEND;TZID=America/Los_Angeles:20281004T203000
DTSTAMP:20260424T031732
CREATED:20240618T181756Z
LAST-MODIFIED:20240618T181809Z
UID:10001380-1854298800-1854304200@aasantacruz.org
SUMMARY:Intergroup Council Meeting
DESCRIPTION:Intergroup Council meets on the first Wednesday of each month at 7:00 pm. This is a hybrid meeting.  \n\n\n\n\n\nOr\, Join the Zoom Meetinghttps://us02web.zoom.us/j/81624215008Meeting ID: 816 2421 5008Passcode: 4755782
URL:https://aasantacruz.org/event/intergroup-council-meeting-2/2028-10-04/
LOCATION:Mid-County Senior Center\, 829 Bay Ave.\, Capitola\, CA\, 95010\, United States
CATEGORIES:Intergroup
END:VEVENT
END:VCALENDAR