BEGIN:VCALENDAR
VERSION:2.0
PRODID:-//Alcoholics Anonymous of Santa Cruz County - ECPv6.15.20//NONSGML v1.0//EN
CALSCALE:GREGORIAN
METHOD:PUBLISH
X-ORIGINAL-URL:https://aasantacruz.org
X-WR-CALDESC:Events for Alcoholics Anonymous of Santa Cruz County
REFRESH-INTERVAL;VALUE=DURATION:PT1H
X-Robots-Tag:noindex
X-PUBLISHED-TTL:PT1H
BEGIN:VTIMEZONE
TZID:America/Los_Angeles
BEGIN:DAYLIGHT
TZOFFSETFROM:-0800
TZOFFSETTO:-0700
TZNAME:PDT
DTSTART:20240310T100000
END:DAYLIGHT
BEGIN:STANDARD
TZOFFSETFROM:-0700
TZOFFSETTO:-0800
TZNAME:PST
DTSTART:20241103T090000
END:STANDARD
BEGIN:DAYLIGHT
TZOFFSETFROM:-0800
TZOFFSETTO:-0700
TZNAME:PDT
DTSTART:20250309T100000
END:DAYLIGHT
BEGIN:STANDARD
TZOFFSETFROM:-0700
TZOFFSETTO:-0800
TZNAME:PST
DTSTART:20251102T090000
END:STANDARD
BEGIN:DAYLIGHT
TZOFFSETFROM:-0800
TZOFFSETTO:-0700
TZNAME:PDT
DTSTART:20260308T100000
END:DAYLIGHT
BEGIN:STANDARD
TZOFFSETFROM:-0700
TZOFFSETTO:-0800
TZNAME:PST
DTSTART:20261101T090000
END:STANDARD
BEGIN:DAYLIGHT
TZOFFSETFROM:-0800
TZOFFSETTO:-0700
TZNAME:PDT
DTSTART:20270314T100000
END:DAYLIGHT
BEGIN:STANDARD
TZOFFSETFROM:-0700
TZOFFSETTO:-0800
TZNAME:PST
DTSTART:20271107T090000
END:STANDARD
END:VTIMEZONE
BEGIN:VEVENT
DTSTART;TZID=America/Los_Angeles:20260207T190000
DTEND;TZID=America/Los_Angeles:20260207T201500
DTSTAMP:20260424T055125
CREATED:20220907T194901Z
LAST-MODIFIED:20240723T233643Z
UID:10001716-1770490800-1770495300@aasantacruz.org
SUMMARY:Birthday Speaker Meeting
DESCRIPTION:
URL:https://aasantacruz.org/event/birthday-speaker-meeting/2026-02-07/
LOCATION:Mid-County Senior Center\, 829 Bay Ave.\, Capitola\, CA\, 95010\, United States
CATEGORIES:Intergroup
END:VEVENT
BEGIN:VEVENT
DTSTART;TZID=America/Los_Angeles:20260204T190000
DTEND;TZID=America/Los_Angeles:20260204T203000
DTSTAMP:20260424T055125
CREATED:20240618T181756Z
LAST-MODIFIED:20240618T181809Z
UID:10001348-1770231600-1770237000@aasantacruz.org
SUMMARY:Intergroup Council Meeting
DESCRIPTION:Intergroup Council meets on the first Wednesday of each month at 7:00 pm. This is a hybrid meeting.  \n\n\n\n\n\nOr\, Join the Zoom Meetinghttps://us02web.zoom.us/j/81624215008Meeting ID: 816 2421 5008Passcode: 4755782
URL:https://aasantacruz.org/event/intergroup-council-meeting-2/2026-02-04/
LOCATION:Mid-County Senior Center\, 829 Bay Ave.\, Capitola\, CA\, 95010\, United States
CATEGORIES:Intergroup
END:VEVENT
BEGIN:VEVENT
DTSTART;TZID=America/Los_Angeles:20260131T130000
DTEND;TZID=America/Los_Angeles:20260131T153000
DTSTAMP:20260424T055125
CREATED:20251207T184334Z
LAST-MODIFIED:20251207T184412Z
UID:10001677-1769864400-1769873400@aasantacruz.org
SUMMARY:Safety Workshop & Potluck
DESCRIPTION:1-31-Safety-Workshop-EnglighDownload\n\n\n\n1-31-Safety-Workshop-EspanolDownload\n\n\n\nHybrid format\, bilingual English/Spanish with translation\, ADA accessible spaceThemes: Safety and Inclusion\, 12 Traditions\, Fellowship\, 3 Legacies \n\n\n\nZoom: ID: 857 3939 7902; PW: 121212 \n\n\n\nThe workshop will be a fellowship-oriented gathering with a POTLUCK and roundtable breakout groups\, following an array of experienced speakers from the Area on GSO’s “Guidelines on Safety and A.A. Groups”. Join us and help carry the message! \n\n\n\nHave questions\, or want to be of service? Email safety@aasantacruz.org.
URL:https://aasantacruz.org/event/safety-workshop-potluck/
LOCATION:Mid-County Senior Center\, 829 Bay Ave.\, Capitola\, CA\, 95010\, United States
ATTACH;FMTTYPE=image/jpeg:https://aasantacruz.org/wp-content/uploads/2025/12/1-31-Safety-Workshop-Engligh.jpg
END:VEVENT
BEGIN:VEVENT
DTSTART;TZID=America/Los_Angeles:20260114T193000
DTEND;TZID=America/Los_Angeles:20260114T213000
DTSTAMP:20260424T055125
CREATED:20240506T151212Z
LAST-MODIFIED:20240506T151213Z
UID:10000620-1768419000-1768426200@aasantacruz.org
SUMMARY:General Service District Meeting (Hybrid)
DESCRIPTION:New GSR Orientation starts at 6:45 PM. \n\n\n\n\n\nJoin the Zoom Meeting \n\n\n\n\n\nJoin Zoom Meetinghttps://us06web.zoom.us/j/89890038938?pwd=LzBNK3U0Z2ZadlFuQ2FkU0ZYdFk3Zz09 \n\n\n\nMeeting ID: 898 9003 8938Passcode: 121212
URL:https://aasantacruz.org/event/general-service-district-meeting-2/2026-01-14/
LOCATION:Mid-County Senior Center\, 829 Bay Ave.\, Capitola\, CA\, 95010\, United States
CATEGORIES:Local
END:VEVENT
BEGIN:VEVENT
DTSTART;TZID=America/Los_Angeles:20260107T190000
DTEND;TZID=America/Los_Angeles:20260107T203000
DTSTAMP:20260424T055125
CREATED:20240618T181756Z
LAST-MODIFIED:20240618T181809Z
UID:10001347-1767812400-1767817800@aasantacruz.org
SUMMARY:Intergroup Council Meeting
DESCRIPTION:Intergroup Council meets on the first Wednesday of each month at 7:00 pm. This is a hybrid meeting.  \n\n\n\n\n\nOr\, Join the Zoom Meetinghttps://us02web.zoom.us/j/81624215008Meeting ID: 816 2421 5008Passcode: 4755782
URL:https://aasantacruz.org/event/intergroup-council-meeting-2/2026-01-07/
LOCATION:Mid-County Senior Center\, 829 Bay Ave.\, Capitola\, CA\, 95010\, United States
CATEGORIES:Intergroup
END:VEVENT
BEGIN:VEVENT
DTSTART;TZID=America/Los_Angeles:20260103T190000
DTEND;TZID=America/Los_Angeles:20260103T201500
DTSTAMP:20260424T055125
CREATED:20250904T031204Z
LAST-MODIFIED:20250904T031205Z
UID:10001418-1767466800-1767471300@aasantacruz.org
SUMMARY:Birthday Speaker Meeting
DESCRIPTION:BSM-Janurary-2026Download
URL:https://aasantacruz.org/event/birthday-speaker-meeting-11/
LOCATION:Mid-County Senior Center\, 829 Bay Ave.\, Capitola\, CA\, 95010\, United States
CATEGORIES:Intergroup
ATTACH;FMTTYPE=image/jpeg:https://aasantacruz.org/wp-content/uploads/2022/09/BSM-Janurary-2026.jpg
END:VEVENT
BEGIN:VEVENT
DTSTART;TZID=America/Los_Angeles:20260103T190000
DTEND;TZID=America/Los_Angeles:20260103T201500
DTSTAMP:20260424T055125
CREATED:20220907T194901Z
LAST-MODIFIED:20240723T233643Z
UID:10001681-1767466800-1767471300@aasantacruz.org
SUMMARY:Birthday Speaker Meeting
DESCRIPTION:
URL:https://aasantacruz.org/event/birthday-speaker-meeting/2026-01-03/
LOCATION:Mid-County Senior Center\, 829 Bay Ave.\, Capitola\, CA\, 95010\, United States
CATEGORIES:Intergroup
END:VEVENT
BEGIN:VEVENT
DTSTART;TZID=America/Los_Angeles:20251213T110000
DTEND;TZID=America/Los_Angeles:20251213T140000
DTSTAMP:20260424T055125
CREATED:20251119T150432Z
LAST-MODIFIED:20251119T150433Z
UID:10001661-1765623600-1765634400@aasantacruz.org
SUMMARY:Early Risers Holiday Party
DESCRIPTION:Early Risers Holiday PartyDownload\n\n\n\nJoin us for Food\, Fellowship\, & Fun!
URL:https://aasantacruz.org/event/early-risers-holiday-party/
LOCATION:Mid-County Senior Center\, 829 Bay Ave.\, Capitola\, CA\, 95010\, United States
ATTACH;FMTTYPE=image/jpeg:https://aasantacruz.org/wp-content/uploads/2025/11/Early-Risers-Holiday-Party.jpg
END:VEVENT
BEGIN:VEVENT
DTSTART;TZID=America/Los_Angeles:20251210T193000
DTEND;TZID=America/Los_Angeles:20251210T213000
DTSTAMP:20260424T055125
CREATED:20240506T151212Z
LAST-MODIFIED:20240506T151213Z
UID:10000619-1765395000-1765402200@aasantacruz.org
SUMMARY:General Service District Meeting (Hybrid)
DESCRIPTION:New GSR Orientation starts at 6:45 PM. \n\n\n\n\n\nJoin the Zoom Meeting \n\n\n\n\n\nJoin Zoom Meetinghttps://us06web.zoom.us/j/89890038938?pwd=LzBNK3U0Z2ZadlFuQ2FkU0ZYdFk3Zz09 \n\n\n\nMeeting ID: 898 9003 8938Passcode: 121212
URL:https://aasantacruz.org/event/general-service-district-meeting-2/2025-12-10/
LOCATION:Mid-County Senior Center\, 829 Bay Ave.\, Capitola\, CA\, 95010\, United States
CATEGORIES:Local
END:VEVENT
BEGIN:VEVENT
DTSTART;TZID=America/Los_Angeles:20251206T203000
DTEND;TZID=America/Los_Angeles:20251206T230000
DTSTAMP:20260424T055125
CREATED:20251112T023924Z
LAST-MODIFIED:20251112T023925Z
UID:10001660-1765053000-1765062000@aasantacruz.org
SUMMARY:BSM After Party
DESCRIPTION:Dec-6-BSM-AfterDownload
URL:https://aasantacruz.org/event/bsm-after-party/
LOCATION:Mid-County Senior Center\, 829 Bay Ave.\, Capitola\, CA\, 95010\, United States
ATTACH;FMTTYPE=image/jpeg:https://aasantacruz.org/wp-content/uploads/2025/11/Dec-6-BSM-After.jpg
END:VEVENT
BEGIN:VEVENT
DTSTART;TZID=America/Los_Angeles:20251206T190000
DTEND;TZID=America/Los_Angeles:20251206T201500
DTSTAMP:20260424T055125
CREATED:20251105T154405Z
LAST-MODIFIED:20251119T144651Z
UID:10001417-1765047600-1765052100@aasantacruz.org
SUMMARY:Birthday Speaker Meeting
DESCRIPTION:ZOOM MEETING ID: 289 528 4510 \n\n\n\nPASSCODE: 4755782 \n\n\n\n\n\nBSM25-DEC-FlyerDownload
URL:https://aasantacruz.org/event/birthday-speaker-meeting-12/
LOCATION:Mid-County Senior Center\, 829 Bay Ave.\, Capitola\, CA\, 95010\, United States
CATEGORIES:Intergroup
ATTACH;FMTTYPE=image/jpeg:https://aasantacruz.org/wp-content/uploads/2025/11/BSM25-DEC-US-Letter-v2102225.jpg
END:VEVENT
BEGIN:VEVENT
DTSTART;TZID=America/Los_Angeles:20251206T190000
DTEND;TZID=America/Los_Angeles:20251206T201500
DTSTAMP:20260424T055125
CREATED:20220907T194901Z
LAST-MODIFIED:20240723T233643Z
UID:10001680-1765047600-1765052100@aasantacruz.org
SUMMARY:Birthday Speaker Meeting
DESCRIPTION:
URL:https://aasantacruz.org/event/birthday-speaker-meeting/2025-12-06/
LOCATION:Mid-County Senior Center\, 829 Bay Ave.\, Capitola\, CA\, 95010\, United States
CATEGORIES:Intergroup
END:VEVENT
BEGIN:VEVENT
DTSTART;TZID=America/Los_Angeles:20251203T190000
DTEND;TZID=America/Los_Angeles:20251203T203000
DTSTAMP:20260424T055125
CREATED:20240618T181756Z
LAST-MODIFIED:20240618T181809Z
UID:10001346-1764788400-1764793800@aasantacruz.org
SUMMARY:Intergroup Council Meeting
DESCRIPTION:Intergroup Council meets on the first Wednesday of each month at 7:00 pm. This is a hybrid meeting.  \n\n\n\n\n\nOr\, Join the Zoom Meetinghttps://us02web.zoom.us/j/81624215008Meeting ID: 816 2421 5008Passcode: 4755782
URL:https://aasantacruz.org/event/intergroup-council-meeting-2/2025-12-03/
LOCATION:Mid-County Senior Center\, 829 Bay Ave.\, Capitola\, CA\, 95010\, United States
CATEGORIES:Intergroup
END:VEVENT
BEGIN:VEVENT
DTSTART;TZID=America/Los_Angeles:20251112T193000
DTEND;TZID=America/Los_Angeles:20251112T213000
DTSTAMP:20260424T055125
CREATED:20240506T151212Z
LAST-MODIFIED:20240506T151213Z
UID:10000618-1762975800-1762983000@aasantacruz.org
SUMMARY:General Service District Meeting (Hybrid)
DESCRIPTION:New GSR Orientation starts at 6:45 PM. \n\n\n\n\n\nJoin the Zoom Meeting \n\n\n\n\n\nJoin Zoom Meetinghttps://us06web.zoom.us/j/89890038938?pwd=LzBNK3U0Z2ZadlFuQ2FkU0ZYdFk3Zz09 \n\n\n\nMeeting ID: 898 9003 8938Passcode: 121212
URL:https://aasantacruz.org/event/general-service-district-meeting-2/2025-11-12/
LOCATION:Mid-County Senior Center\, 829 Bay Ave.\, Capitola\, CA\, 95010\, United States
CATEGORIES:Local
END:VEVENT
BEGIN:VEVENT
DTSTART;TZID=America/Los_Angeles:20251105T190000
DTEND;TZID=America/Los_Angeles:20251105T203000
DTSTAMP:20260424T055125
CREATED:20240618T181756Z
LAST-MODIFIED:20240618T181809Z
UID:10001345-1762369200-1762374600@aasantacruz.org
SUMMARY:Intergroup Council Meeting
DESCRIPTION:Intergroup Council meets on the first Wednesday of each month at 7:00 pm. This is a hybrid meeting.  \n\n\n\n\n\nOr\, Join the Zoom Meetinghttps://us02web.zoom.us/j/81624215008Meeting ID: 816 2421 5008Passcode: 4755782
URL:https://aasantacruz.org/event/intergroup-council-meeting-2/2025-11-05/
LOCATION:Mid-County Senior Center\, 829 Bay Ave.\, Capitola\, CA\, 95010\, United States
CATEGORIES:Intergroup
END:VEVENT
BEGIN:VEVENT
DTSTART;TZID=America/Los_Angeles:20251101T190000
DTEND;TZID=America/Los_Angeles:20251101T201500
DTSTAMP:20260424T055125
CREATED:20250904T030615Z
LAST-MODIFIED:20250904T030817Z
UID:10001416-1762023600-1762028100@aasantacruz.org
SUMMARY:Birthday Speaker Meeting
DESCRIPTION:BSM-November-2025Download
URL:https://aasantacruz.org/event/birthday-speaker-meeting-10/
LOCATION:Mid-County Senior Center\, 829 Bay Ave.\, Capitola\, CA\, 95010\, United States
CATEGORIES:Intergroup
ATTACH;FMTTYPE=image/jpeg:https://aasantacruz.org/wp-content/uploads/2025/09/BSM-November-2025.jpg
END:VEVENT
BEGIN:VEVENT
DTSTART;TZID=America/Los_Angeles:20251101T190000
DTEND;TZID=America/Los_Angeles:20251101T201500
DTSTAMP:20260424T055125
CREATED:20220907T194901Z
LAST-MODIFIED:20240723T233643Z
UID:10001650-1762023600-1762028100@aasantacruz.org
SUMMARY:Birthday Speaker Meeting
DESCRIPTION:
URL:https://aasantacruz.org/event/birthday-speaker-meeting/2025-11-01/
LOCATION:Mid-County Senior Center\, 829 Bay Ave.\, Capitola\, CA\, 95010\, United States
CATEGORIES:Intergroup
END:VEVENT
BEGIN:VEVENT
DTSTART;TZID=America/Los_Angeles:20251008T193000
DTEND;TZID=America/Los_Angeles:20251008T213000
DTSTAMP:20260424T055125
CREATED:20240506T151212Z
LAST-MODIFIED:20240506T151213Z
UID:10000617-1759951800-1759959000@aasantacruz.org
SUMMARY:General Service District Meeting (Hybrid)
DESCRIPTION:New GSR Orientation starts at 6:45 PM. \n\n\n\n\n\nJoin the Zoom Meeting \n\n\n\n\n\nJoin Zoom Meetinghttps://us06web.zoom.us/j/89890038938?pwd=LzBNK3U0Z2ZadlFuQ2FkU0ZYdFk3Zz09 \n\n\n\nMeeting ID: 898 9003 8938Passcode: 121212
URL:https://aasantacruz.org/event/general-service-district-meeting-2/2025-10-08/
LOCATION:Mid-County Senior Center\, 829 Bay Ave.\, Capitola\, CA\, 95010\, United States
CATEGORIES:Local
END:VEVENT
BEGIN:VEVENT
DTSTART;TZID=America/Los_Angeles:20251004T190000
DTEND;TZID=America/Los_Angeles:20251004T201500
DTSTAMP:20260424T055125
CREATED:20250904T030442Z
LAST-MODIFIED:20250912T204226Z
UID:10001415-1759604400-1759608900@aasantacruz.org
SUMMARY:Birthday Speaker Meeting
DESCRIPTION:BSM October 2025Download
URL:https://aasantacruz.org/event/birthday-speaker-meeting-9/
LOCATION:Mid-County Senior Center\, 829 Bay Ave.\, Capitola\, CA\, 95010\, United States
CATEGORIES:Intergroup
ATTACH;FMTTYPE=image/jpeg:https://aasantacruz.org/wp-content/uploads/2025/09/BSM-October-2025-1.jpg
END:VEVENT
BEGIN:VEVENT
DTSTART;TZID=America/Los_Angeles:20251004T190000
DTEND;TZID=America/Los_Angeles:20251004T201500
DTSTAMP:20260424T055125
CREATED:20220907T194901Z
LAST-MODIFIED:20240723T233643Z
UID:10001649-1759604400-1759608900@aasantacruz.org
SUMMARY:Birthday Speaker Meeting
DESCRIPTION:
URL:https://aasantacruz.org/event/birthday-speaker-meeting/2025-10-04/
LOCATION:Mid-County Senior Center\, 829 Bay Ave.\, Capitola\, CA\, 95010\, United States
CATEGORIES:Intergroup
END:VEVENT
BEGIN:VEVENT
DTSTART;TZID=America/Los_Angeles:20251001T190000
DTEND;TZID=America/Los_Angeles:20251001T203000
DTSTAMP:20260424T055125
CREATED:20240618T181756Z
LAST-MODIFIED:20240618T181809Z
UID:10001344-1759345200-1759350600@aasantacruz.org
SUMMARY:Intergroup Council Meeting
DESCRIPTION:Intergroup Council meets on the first Wednesday of each month at 7:00 pm. This is a hybrid meeting.  \n\n\n\n\n\nOr\, Join the Zoom Meetinghttps://us02web.zoom.us/j/81624215008Meeting ID: 816 2421 5008Passcode: 4755782
URL:https://aasantacruz.org/event/intergroup-council-meeting-2/2025-10-01/
LOCATION:Mid-County Senior Center\, 829 Bay Ave.\, Capitola\, CA\, 95010\, United States
CATEGORIES:Intergroup
END:VEVENT
BEGIN:VEVENT
DTSTART;TZID=America/Los_Angeles:20250910T193000
DTEND;TZID=America/Los_Angeles:20250910T213000
DTSTAMP:20260424T055125
CREATED:20240506T151212Z
LAST-MODIFIED:20240506T151213Z
UID:10000616-1757532600-1757539800@aasantacruz.org
SUMMARY:General Service District Meeting (Hybrid)
DESCRIPTION:New GSR Orientation starts at 6:45 PM. \n\n\n\n\n\nJoin the Zoom Meeting \n\n\n\n\n\nJoin Zoom Meetinghttps://us06web.zoom.us/j/89890038938?pwd=LzBNK3U0Z2ZadlFuQ2FkU0ZYdFk3Zz09 \n\n\n\nMeeting ID: 898 9003 8938Passcode: 121212
URL:https://aasantacruz.org/event/general-service-district-meeting-2/2025-09-10/
LOCATION:Mid-County Senior Center\, 829 Bay Ave.\, Capitola\, CA\, 95010\, United States
CATEGORIES:Local
END:VEVENT
BEGIN:VEVENT
DTSTART;TZID=America/Los_Angeles:20250906T190000
DTEND;TZID=America/Los_Angeles:20250906T201500
DTSTAMP:20260424T055125
CREATED:20220907T194901Z
LAST-MODIFIED:20240723T233643Z
UID:10001618-1757185200-1757189700@aasantacruz.org
SUMMARY:Birthday Speaker Meeting
DESCRIPTION:
URL:https://aasantacruz.org/event/birthday-speaker-meeting/2025-09-06/
LOCATION:Mid-County Senior Center\, 829 Bay Ave.\, Capitola\, CA\, 95010\, United States
CATEGORIES:Intergroup
END:VEVENT
BEGIN:VEVENT
DTSTART;TZID=America/Los_Angeles:20250903T190000
DTEND;TZID=America/Los_Angeles:20250903T203000
DTSTAMP:20260424T055125
CREATED:20240618T181756Z
LAST-MODIFIED:20240618T181809Z
UID:10001343-1756926000-1756931400@aasantacruz.org
SUMMARY:Intergroup Council Meeting
DESCRIPTION:Intergroup Council meets on the first Wednesday of each month at 7:00 pm. This is a hybrid meeting.  \n\n\n\n\n\nOr\, Join the Zoom Meetinghttps://us02web.zoom.us/j/81624215008Meeting ID: 816 2421 5008Passcode: 4755782
URL:https://aasantacruz.org/event/intergroup-council-meeting-2/2025-09-03/
LOCATION:Mid-County Senior Center\, 829 Bay Ave.\, Capitola\, CA\, 95010\, United States
CATEGORIES:Intergroup
END:VEVENT
BEGIN:VEVENT
DTSTART;TZID=America/Los_Angeles:20250813T193000
DTEND;TZID=America/Los_Angeles:20250813T213000
DTSTAMP:20260424T055125
CREATED:20240506T151212Z
LAST-MODIFIED:20240506T151213Z
UID:10000615-1755113400-1755120600@aasantacruz.org
SUMMARY:General Service District Meeting (Hybrid)
DESCRIPTION:New GSR Orientation starts at 6:45 PM. \n\n\n\n\n\nJoin the Zoom Meeting \n\n\n\n\n\nJoin Zoom Meetinghttps://us06web.zoom.us/j/89890038938?pwd=LzBNK3U0Z2ZadlFuQ2FkU0ZYdFk3Zz09 \n\n\n\nMeeting ID: 898 9003 8938Passcode: 121212
URL:https://aasantacruz.org/event/general-service-district-meeting-2/2025-08-13/
LOCATION:Mid-County Senior Center\, 829 Bay Ave.\, Capitola\, CA\, 95010\, United States
CATEGORIES:Local
END:VEVENT
BEGIN:VEVENT
DTSTART;TZID=America/Los_Angeles:20250806T190000
DTEND;TZID=America/Los_Angeles:20250806T203000
DTSTAMP:20260424T055125
CREATED:20240618T181756Z
LAST-MODIFIED:20240618T181809Z
UID:10001342-1754506800-1754512200@aasantacruz.org
SUMMARY:Intergroup Council Meeting
DESCRIPTION:Intergroup Council meets on the first Wednesday of each month at 7:00 pm. This is a hybrid meeting.  \n\n\n\n\n\nOr\, Join the Zoom Meetinghttps://us02web.zoom.us/j/81624215008Meeting ID: 816 2421 5008Passcode: 4755782
URL:https://aasantacruz.org/event/intergroup-council-meeting-2/2025-08-06/
LOCATION:Mid-County Senior Center\, 829 Bay Ave.\, Capitola\, CA\, 95010\, United States
CATEGORIES:Intergroup
END:VEVENT
BEGIN:VEVENT
DTSTART;TZID=America/Los_Angeles:20250802T190000
DTEND;TZID=America/Los_Angeles:20250802T201500
DTSTAMP:20260424T055125
CREATED:20250511T134150Z
LAST-MODIFIED:20250511T134227Z
UID:10001413-1754161200-1754165700@aasantacruz.org
SUMMARY:Birthday Speaker Meeting
DESCRIPTION:BSM-August-2025Download
URL:https://aasantacruz.org/event/birthday-speaker-meeting-27/
LOCATION:Mid-County Senior Center\, 829 Bay Ave.\, Capitola\, CA\, 95010\, United States
CATEGORIES:Intergroup
ATTACH;FMTTYPE=image/jpeg:https://aasantacruz.org/wp-content/uploads/2025/05/BSM-August-2025.jpg
END:VEVENT
BEGIN:VEVENT
DTSTART;TZID=America/Los_Angeles:20250802T190000
DTEND;TZID=America/Los_Angeles:20250802T201500
DTSTAMP:20260424T055125
CREATED:20220907T194901Z
LAST-MODIFIED:20240723T233643Z
UID:10001617-1754161200-1754165700@aasantacruz.org
SUMMARY:Birthday Speaker Meeting
DESCRIPTION:
URL:https://aasantacruz.org/event/birthday-speaker-meeting/2025-08-02/
LOCATION:Mid-County Senior Center\, 829 Bay Ave.\, Capitola\, CA\, 95010\, United States
CATEGORIES:Intergroup
END:VEVENT
BEGIN:VEVENT
DTSTART;TZID=America/Los_Angeles:20250709T193000
DTEND;TZID=America/Los_Angeles:20250709T213000
DTSTAMP:20260424T055125
CREATED:20240506T151212Z
LAST-MODIFIED:20240506T151213Z
UID:10000614-1752089400-1752096600@aasantacruz.org
SUMMARY:General Service District Meeting (Hybrid)
DESCRIPTION:New GSR Orientation starts at 6:45 PM. \n\n\n\n\n\nJoin the Zoom Meeting \n\n\n\n\n\nJoin Zoom Meetinghttps://us06web.zoom.us/j/89890038938?pwd=LzBNK3U0Z2ZadlFuQ2FkU0ZYdFk3Zz09 \n\n\n\nMeeting ID: 898 9003 8938Passcode: 121212
URL:https://aasantacruz.org/event/general-service-district-meeting-2/2025-07-09/
LOCATION:Mid-County Senior Center\, 829 Bay Ave.\, Capitola\, CA\, 95010\, United States
CATEGORIES:Local
END:VEVENT
BEGIN:VEVENT
DTSTART;TZID=America/Los_Angeles:20250705T190000
DTEND;TZID=America/Los_Angeles:20250705T201500
DTSTAMP:20260424T055125
CREATED:20250511T133919Z
LAST-MODIFIED:20250624T172346Z
UID:10001412-1751742000-1751746500@aasantacruz.org
SUMMARY:Birthday Speaker Meeting
DESCRIPTION:BSM25-JULYDownload
URL:https://aasantacruz.org/event/birthday-speaker-meeting-26/
LOCATION:Mid-County Senior Center\, 829 Bay Ave.\, Capitola\, CA\, 95010\, United States
CATEGORIES:Intergroup
ATTACH;FMTTYPE=image/jpeg:https://aasantacruz.org/wp-content/uploads/2025/05/BSM25-JUL-5th-CORRECTION.jpg
END:VEVENT
END:VCALENDAR