BEGIN:VCALENDAR
VERSION:2.0
PRODID:-//Alcoholics Anonymous of Santa Cruz County - ECPv6.15.20//NONSGML v1.0//EN
CALSCALE:GREGORIAN
METHOD:PUBLISH
X-WR-CALNAME:Alcoholics Anonymous of Santa Cruz County
X-ORIGINAL-URL:https://aasantacruz.org
X-WR-CALDESC:Events for Alcoholics Anonymous of Santa Cruz County
REFRESH-INTERVAL;VALUE=DURATION:PT1H
X-Robots-Tag:noindex
X-PUBLISHED-TTL:PT1H
BEGIN:VTIMEZONE
TZID:America/Los_Angeles
BEGIN:DAYLIGHT
TZOFFSETFROM:-0800
TZOFFSETTO:-0700
TZNAME:PDT
DTSTART:20250309T100000
END:DAYLIGHT
BEGIN:STANDARD
TZOFFSETFROM:-0700
TZOFFSETTO:-0800
TZNAME:PST
DTSTART:20251102T090000
END:STANDARD
BEGIN:DAYLIGHT
TZOFFSETFROM:-0800
TZOFFSETTO:-0700
TZNAME:PDT
DTSTART:20260308T100000
END:DAYLIGHT
BEGIN:STANDARD
TZOFFSETFROM:-0700
TZOFFSETTO:-0800
TZNAME:PST
DTSTART:20261101T090000
END:STANDARD
BEGIN:DAYLIGHT
TZOFFSETFROM:-0800
TZOFFSETTO:-0700
TZNAME:PDT
DTSTART:20270314T100000
END:DAYLIGHT
BEGIN:STANDARD
TZOFFSETFROM:-0700
TZOFFSETTO:-0800
TZNAME:PST
DTSTART:20271107T090000
END:STANDARD
BEGIN:DAYLIGHT
TZOFFSETFROM:-0800
TZOFFSETTO:-0700
TZNAME:PDT
DTSTART:20280312T100000
END:DAYLIGHT
BEGIN:STANDARD
TZOFFSETFROM:-0700
TZOFFSETTO:-0800
TZNAME:PST
DTSTART:20281105T090000
END:STANDARD
END:VTIMEZONE
BEGIN:VEVENT
DTSTART;TZID=America/Los_Angeles:20261111T193000
DTEND;TZID=America/Los_Angeles:20261111T213000
DTSTAMP:20260424T055316
CREATED:20240506T151212Z
LAST-MODIFIED:20240506T151213Z
UID:10000630-1794425400-1794432600@aasantacruz.org
SUMMARY:General Service District Meeting (Hybrid)
DESCRIPTION:New GSR Orientation starts at 6:45 PM. \n\n\n\n\n\nJoin the Zoom Meeting \n\n\n\n\n\nJoin Zoom Meetinghttps://us06web.zoom.us/j/89890038938?pwd=LzBNK3U0Z2ZadlFuQ2FkU0ZYdFk3Zz09 \n\n\n\nMeeting ID: 898 9003 8938Passcode: 121212
URL:https://aasantacruz.org/event/general-service-district-meeting-2/2026-11-11/
LOCATION:Mid-County Senior Center\, 829 Bay Ave.\, Capitola\, CA\, 95010\, United States
CATEGORIES:Local
END:VEVENT
BEGIN:VEVENT
DTSTART;TZID=America/Los_Angeles:20261202T190000
DTEND;TZID=America/Los_Angeles:20261202T203000
DTSTAMP:20260424T055316
CREATED:20240618T181756Z
LAST-MODIFIED:20240618T181809Z
UID:10001358-1796238000-1796243400@aasantacruz.org
SUMMARY:Intergroup Council Meeting
DESCRIPTION:Intergroup Council meets on the first Wednesday of each month at 7:00 pm. This is a hybrid meeting.  \n\n\n\n\n\nOr\, Join the Zoom Meetinghttps://us02web.zoom.us/j/81624215008Meeting ID: 816 2421 5008Passcode: 4755782
URL:https://aasantacruz.org/event/intergroup-council-meeting-2/2026-12-02/
LOCATION:Mid-County Senior Center\, 829 Bay Ave.\, Capitola\, CA\, 95010\, United States
CATEGORIES:Intergroup
END:VEVENT
BEGIN:VEVENT
DTSTART;TZID=America/Los_Angeles:20261205T190000
DTEND;TZID=America/Los_Angeles:20261205T201500
DTSTAMP:20260424T055316
CREATED:20220907T194901Z
LAST-MODIFIED:20240723T233643Z
UID:10001429-1796497200-1796501700@aasantacruz.org
SUMMARY:Birthday Speaker Meeting
DESCRIPTION:
URL:https://aasantacruz.org/event/birthday-speaker-meeting/2026-12-05/
LOCATION:Mid-County Senior Center\, 829 Bay Ave.\, Capitola\, CA\, 95010\, United States
CATEGORIES:Intergroup
END:VEVENT
BEGIN:VEVENT
DTSTART;TZID=America/Los_Angeles:20261209T193000
DTEND;TZID=America/Los_Angeles:20261209T213000
DTSTAMP:20260424T055316
CREATED:20240506T151212Z
LAST-MODIFIED:20240506T151213Z
UID:10000631-1796844600-1796851800@aasantacruz.org
SUMMARY:General Service District Meeting (Hybrid)
DESCRIPTION:New GSR Orientation starts at 6:45 PM. \n\n\n\n\n\nJoin the Zoom Meeting \n\n\n\n\n\nJoin Zoom Meetinghttps://us06web.zoom.us/j/89890038938?pwd=LzBNK3U0Z2ZadlFuQ2FkU0ZYdFk3Zz09 \n\n\n\nMeeting ID: 898 9003 8938Passcode: 121212
URL:https://aasantacruz.org/event/general-service-district-meeting-2/2026-12-09/
LOCATION:Mid-County Senior Center\, 829 Bay Ave.\, Capitola\, CA\, 95010\, United States
CATEGORIES:Local
END:VEVENT
BEGIN:VEVENT
DTSTART;TZID=America/Los_Angeles:20270102T190000
DTEND;TZID=America/Los_Angeles:20270102T201500
DTSTAMP:20260424T055316
CREATED:20220907T194901Z
LAST-MODIFIED:20240723T233643Z
UID:10001430-1798916400-1798920900@aasantacruz.org
SUMMARY:Birthday Speaker Meeting
DESCRIPTION:
URL:https://aasantacruz.org/event/birthday-speaker-meeting/2027-01-02/
LOCATION:Mid-County Senior Center\, 829 Bay Ave.\, Capitola\, CA\, 95010\, United States
CATEGORIES:Intergroup
END:VEVENT
BEGIN:VEVENT
DTSTART;TZID=America/Los_Angeles:20270106T190000
DTEND;TZID=America/Los_Angeles:20270106T203000
DTSTAMP:20260424T055316
CREATED:20240618T181756Z
LAST-MODIFIED:20240618T181809Z
UID:10001359-1799262000-1799267400@aasantacruz.org
SUMMARY:Intergroup Council Meeting
DESCRIPTION:Intergroup Council meets on the first Wednesday of each month at 7:00 pm. This is a hybrid meeting.  \n\n\n\n\n\nOr\, Join the Zoom Meetinghttps://us02web.zoom.us/j/81624215008Meeting ID: 816 2421 5008Passcode: 4755782
URL:https://aasantacruz.org/event/intergroup-council-meeting-2/2027-01-06/
LOCATION:Mid-County Senior Center\, 829 Bay Ave.\, Capitola\, CA\, 95010\, United States
CATEGORIES:Intergroup
END:VEVENT
BEGIN:VEVENT
DTSTART;TZID=America/Los_Angeles:20270113T193000
DTEND;TZID=America/Los_Angeles:20270113T213000
DTSTAMP:20260424T055316
CREATED:20240506T151212Z
LAST-MODIFIED:20240506T151213Z
UID:10000632-1799868600-1799875800@aasantacruz.org
SUMMARY:General Service District Meeting (Hybrid)
DESCRIPTION:New GSR Orientation starts at 6:45 PM. \n\n\n\n\n\nJoin the Zoom Meeting \n\n\n\n\n\nJoin Zoom Meetinghttps://us06web.zoom.us/j/89890038938?pwd=LzBNK3U0Z2ZadlFuQ2FkU0ZYdFk3Zz09 \n\n\n\nMeeting ID: 898 9003 8938Passcode: 121212
URL:https://aasantacruz.org/event/general-service-district-meeting-2/2027-01-13/
LOCATION:Mid-County Senior Center\, 829 Bay Ave.\, Capitola\, CA\, 95010\, United States
CATEGORIES:Local
END:VEVENT
BEGIN:VEVENT
DTSTART;TZID=America/Los_Angeles:20270203T190000
DTEND;TZID=America/Los_Angeles:20270203T203000
DTSTAMP:20260424T055316
CREATED:20240618T181756Z
LAST-MODIFIED:20240618T181809Z
UID:10001360-1801681200-1801686600@aasantacruz.org
SUMMARY:Intergroup Council Meeting
DESCRIPTION:Intergroup Council meets on the first Wednesday of each month at 7:00 pm. This is a hybrid meeting.  \n\n\n\n\n\nOr\, Join the Zoom Meetinghttps://us02web.zoom.us/j/81624215008Meeting ID: 816 2421 5008Passcode: 4755782
URL:https://aasantacruz.org/event/intergroup-council-meeting-2/2027-02-03/
LOCATION:Mid-County Senior Center\, 829 Bay Ave.\, Capitola\, CA\, 95010\, United States
CATEGORIES:Intergroup
END:VEVENT
BEGIN:VEVENT
DTSTART;TZID=America/Los_Angeles:20270206T190000
DTEND;TZID=America/Los_Angeles:20270206T201500
DTSTAMP:20260424T055316
CREATED:20220907T194901Z
LAST-MODIFIED:20240723T233643Z
UID:10001431-1801940400-1801944900@aasantacruz.org
SUMMARY:Birthday Speaker Meeting
DESCRIPTION:
URL:https://aasantacruz.org/event/birthday-speaker-meeting/2027-02-06/
LOCATION:Mid-County Senior Center\, 829 Bay Ave.\, Capitola\, CA\, 95010\, United States
CATEGORIES:Intergroup
END:VEVENT
BEGIN:VEVENT
DTSTART;TZID=America/Los_Angeles:20270210T193000
DTEND;TZID=America/Los_Angeles:20270210T213000
DTSTAMP:20260424T055316
CREATED:20240506T151212Z
LAST-MODIFIED:20240506T151213Z
UID:10000633-1802287800-1802295000@aasantacruz.org
SUMMARY:General Service District Meeting (Hybrid)
DESCRIPTION:New GSR Orientation starts at 6:45 PM. \n\n\n\n\n\nJoin the Zoom Meeting \n\n\n\n\n\nJoin Zoom Meetinghttps://us06web.zoom.us/j/89890038938?pwd=LzBNK3U0Z2ZadlFuQ2FkU0ZYdFk3Zz09 \n\n\n\nMeeting ID: 898 9003 8938Passcode: 121212
URL:https://aasantacruz.org/event/general-service-district-meeting-2/2027-02-10/
LOCATION:Mid-County Senior Center\, 829 Bay Ave.\, Capitola\, CA\, 95010\, United States
CATEGORIES:Local
END:VEVENT
BEGIN:VEVENT
DTSTART;TZID=America/Los_Angeles:20270303T190000
DTEND;TZID=America/Los_Angeles:20270303T203000
DTSTAMP:20260424T055316
CREATED:20240618T181756Z
LAST-MODIFIED:20240618T181809Z
UID:10001361-1804100400-1804105800@aasantacruz.org
SUMMARY:Intergroup Council Meeting
DESCRIPTION:Intergroup Council meets on the first Wednesday of each month at 7:00 pm. This is a hybrid meeting.  \n\n\n\n\n\nOr\, Join the Zoom Meetinghttps://us02web.zoom.us/j/81624215008Meeting ID: 816 2421 5008Passcode: 4755782
URL:https://aasantacruz.org/event/intergroup-council-meeting-2/2027-03-03/
LOCATION:Mid-County Senior Center\, 829 Bay Ave.\, Capitola\, CA\, 95010\, United States
CATEGORIES:Intergroup
END:VEVENT
BEGIN:VEVENT
DTSTART;TZID=America/Los_Angeles:20270306T190000
DTEND;TZID=America/Los_Angeles:20270306T201500
DTSTAMP:20260424T055316
CREATED:20220907T194901Z
LAST-MODIFIED:20240723T233643Z
UID:10001432-1804359600-1804364100@aasantacruz.org
SUMMARY:Birthday Speaker Meeting
DESCRIPTION:
URL:https://aasantacruz.org/event/birthday-speaker-meeting/2027-03-06/
LOCATION:Mid-County Senior Center\, 829 Bay Ave.\, Capitola\, CA\, 95010\, United States
CATEGORIES:Intergroup
END:VEVENT
BEGIN:VEVENT
DTSTART;TZID=America/Los_Angeles:20270310T193000
DTEND;TZID=America/Los_Angeles:20270310T213000
DTSTAMP:20260424T055316
CREATED:20240506T151212Z
LAST-MODIFIED:20240506T151213Z
UID:10000634-1804707000-1804714200@aasantacruz.org
SUMMARY:General Service District Meeting (Hybrid)
DESCRIPTION:New GSR Orientation starts at 6:45 PM. \n\n\n\n\n\nJoin the Zoom Meeting \n\n\n\n\n\nJoin Zoom Meetinghttps://us06web.zoom.us/j/89890038938?pwd=LzBNK3U0Z2ZadlFuQ2FkU0ZYdFk3Zz09 \n\n\n\nMeeting ID: 898 9003 8938Passcode: 121212
URL:https://aasantacruz.org/event/general-service-district-meeting-2/2027-03-10/
LOCATION:Mid-County Senior Center\, 829 Bay Ave.\, Capitola\, CA\, 95010\, United States
CATEGORIES:Local
END:VEVENT
BEGIN:VEVENT
DTSTART;TZID=America/Los_Angeles:20270403T190000
DTEND;TZID=America/Los_Angeles:20270403T201500
DTSTAMP:20260424T055316
CREATED:20220907T194901Z
LAST-MODIFIED:20240723T233643Z
UID:10001433-1806778800-1806783300@aasantacruz.org
SUMMARY:Birthday Speaker Meeting
DESCRIPTION:
URL:https://aasantacruz.org/event/birthday-speaker-meeting/2027-04-03/
LOCATION:Mid-County Senior Center\, 829 Bay Ave.\, Capitola\, CA\, 95010\, United States
CATEGORIES:Intergroup
END:VEVENT
BEGIN:VEVENT
DTSTART;TZID=America/Los_Angeles:20270407T190000
DTEND;TZID=America/Los_Angeles:20270407T203000
DTSTAMP:20260424T055316
CREATED:20240618T181756Z
LAST-MODIFIED:20240618T181809Z
UID:10001362-1807124400-1807129800@aasantacruz.org
SUMMARY:Intergroup Council Meeting
DESCRIPTION:Intergroup Council meets on the first Wednesday of each month at 7:00 pm. This is a hybrid meeting.  \n\n\n\n\n\nOr\, Join the Zoom Meetinghttps://us02web.zoom.us/j/81624215008Meeting ID: 816 2421 5008Passcode: 4755782
URL:https://aasantacruz.org/event/intergroup-council-meeting-2/2027-04-07/
LOCATION:Mid-County Senior Center\, 829 Bay Ave.\, Capitola\, CA\, 95010\, United States
CATEGORIES:Intergroup
END:VEVENT
BEGIN:VEVENT
DTSTART;TZID=America/Los_Angeles:20270414T193000
DTEND;TZID=America/Los_Angeles:20270414T213000
DTSTAMP:20260424T055316
CREATED:20240506T151212Z
LAST-MODIFIED:20240506T151213Z
UID:10000635-1807731000-1807738200@aasantacruz.org
SUMMARY:General Service District Meeting (Hybrid)
DESCRIPTION:New GSR Orientation starts at 6:45 PM. \n\n\n\n\n\nJoin the Zoom Meeting \n\n\n\n\n\nJoin Zoom Meetinghttps://us06web.zoom.us/j/89890038938?pwd=LzBNK3U0Z2ZadlFuQ2FkU0ZYdFk3Zz09 \n\n\n\nMeeting ID: 898 9003 8938Passcode: 121212
URL:https://aasantacruz.org/event/general-service-district-meeting-2/2027-04-14/
LOCATION:Mid-County Senior Center\, 829 Bay Ave.\, Capitola\, CA\, 95010\, United States
CATEGORIES:Local
END:VEVENT
BEGIN:VEVENT
DTSTART;TZID=America/Los_Angeles:20270501T190000
DTEND;TZID=America/Los_Angeles:20270501T201500
DTSTAMP:20260424T055316
CREATED:20220907T194901Z
LAST-MODIFIED:20240723T233643Z
UID:10001434-1809198000-1809202500@aasantacruz.org
SUMMARY:Birthday Speaker Meeting
DESCRIPTION:
URL:https://aasantacruz.org/event/birthday-speaker-meeting/2027-05-01/
LOCATION:Mid-County Senior Center\, 829 Bay Ave.\, Capitola\, CA\, 95010\, United States
CATEGORIES:Intergroup
END:VEVENT
BEGIN:VEVENT
DTSTART;TZID=America/Los_Angeles:20270505T190000
DTEND;TZID=America/Los_Angeles:20270505T203000
DTSTAMP:20260424T055316
CREATED:20240618T181756Z
LAST-MODIFIED:20240618T181809Z
UID:10001363-1809543600-1809549000@aasantacruz.org
SUMMARY:Intergroup Council Meeting
DESCRIPTION:Intergroup Council meets on the first Wednesday of each month at 7:00 pm. This is a hybrid meeting.  \n\n\n\n\n\nOr\, Join the Zoom Meetinghttps://us02web.zoom.us/j/81624215008Meeting ID: 816 2421 5008Passcode: 4755782
URL:https://aasantacruz.org/event/intergroup-council-meeting-2/2027-05-05/
LOCATION:Mid-County Senior Center\, 829 Bay Ave.\, Capitola\, CA\, 95010\, United States
CATEGORIES:Intergroup
END:VEVENT
BEGIN:VEVENT
DTSTART;TZID=America/Los_Angeles:20270512T193000
DTEND;TZID=America/Los_Angeles:20270512T213000
DTSTAMP:20260424T055316
CREATED:20240506T151212Z
LAST-MODIFIED:20240506T151213Z
UID:10000636-1810150200-1810157400@aasantacruz.org
SUMMARY:General Service District Meeting (Hybrid)
DESCRIPTION:New GSR Orientation starts at 6:45 PM. \n\n\n\n\n\nJoin the Zoom Meeting \n\n\n\n\n\nJoin Zoom Meetinghttps://us06web.zoom.us/j/89890038938?pwd=LzBNK3U0Z2ZadlFuQ2FkU0ZYdFk3Zz09 \n\n\n\nMeeting ID: 898 9003 8938Passcode: 121212
URL:https://aasantacruz.org/event/general-service-district-meeting-2/2027-05-12/
LOCATION:Mid-County Senior Center\, 829 Bay Ave.\, Capitola\, CA\, 95010\, United States
CATEGORIES:Local
END:VEVENT
BEGIN:VEVENT
DTSTART;TZID=America/Los_Angeles:20270602T190000
DTEND;TZID=America/Los_Angeles:20270602T203000
DTSTAMP:20260424T055316
CREATED:20240618T181756Z
LAST-MODIFIED:20240618T181809Z
UID:10001364-1811962800-1811968200@aasantacruz.org
SUMMARY:Intergroup Council Meeting
DESCRIPTION:Intergroup Council meets on the first Wednesday of each month at 7:00 pm. This is a hybrid meeting.  \n\n\n\n\n\nOr\, Join the Zoom Meetinghttps://us02web.zoom.us/j/81624215008Meeting ID: 816 2421 5008Passcode: 4755782
URL:https://aasantacruz.org/event/intergroup-council-meeting-2/2027-06-02/
LOCATION:Mid-County Senior Center\, 829 Bay Ave.\, Capitola\, CA\, 95010\, United States
CATEGORIES:Intergroup
END:VEVENT
BEGIN:VEVENT
DTSTART;TZID=America/Los_Angeles:20270605T190000
DTEND;TZID=America/Los_Angeles:20270605T201500
DTSTAMP:20260424T055316
CREATED:20220907T194901Z
LAST-MODIFIED:20240723T233643Z
UID:10001435-1812222000-1812226500@aasantacruz.org
SUMMARY:Birthday Speaker Meeting
DESCRIPTION:
URL:https://aasantacruz.org/event/birthday-speaker-meeting/2027-06-05/
LOCATION:Mid-County Senior Center\, 829 Bay Ave.\, Capitola\, CA\, 95010\, United States
CATEGORIES:Intergroup
END:VEVENT
BEGIN:VEVENT
DTSTART;TZID=America/Los_Angeles:20270609T193000
DTEND;TZID=America/Los_Angeles:20270609T213000
DTSTAMP:20260424T055316
CREATED:20240506T151212Z
LAST-MODIFIED:20240506T151213Z
UID:10000637-1812569400-1812576600@aasantacruz.org
SUMMARY:General Service District Meeting (Hybrid)
DESCRIPTION:New GSR Orientation starts at 6:45 PM. \n\n\n\n\n\nJoin the Zoom Meeting \n\n\n\n\n\nJoin Zoom Meetinghttps://us06web.zoom.us/j/89890038938?pwd=LzBNK3U0Z2ZadlFuQ2FkU0ZYdFk3Zz09 \n\n\n\nMeeting ID: 898 9003 8938Passcode: 121212
URL:https://aasantacruz.org/event/general-service-district-meeting-2/2027-06-09/
LOCATION:Mid-County Senior Center\, 829 Bay Ave.\, Capitola\, CA\, 95010\, United States
CATEGORIES:Local
END:VEVENT
BEGIN:VEVENT
DTSTART;TZID=America/Los_Angeles:20270703T190000
DTEND;TZID=America/Los_Angeles:20270703T201500
DTSTAMP:20260424T055316
CREATED:20220907T194901Z
LAST-MODIFIED:20240723T233643Z
UID:10001436-1814641200-1814645700@aasantacruz.org
SUMMARY:Birthday Speaker Meeting
DESCRIPTION:
URL:https://aasantacruz.org/event/birthday-speaker-meeting/2027-07-03/
LOCATION:Mid-County Senior Center\, 829 Bay Ave.\, Capitola\, CA\, 95010\, United States
CATEGORIES:Intergroup
END:VEVENT
BEGIN:VEVENT
DTSTART;TZID=America/Los_Angeles:20270707T190000
DTEND;TZID=America/Los_Angeles:20270707T203000
DTSTAMP:20260424T055316
CREATED:20240618T181756Z
LAST-MODIFIED:20240618T181809Z
UID:10001365-1814986800-1814992200@aasantacruz.org
SUMMARY:Intergroup Council Meeting
DESCRIPTION:Intergroup Council meets on the first Wednesday of each month at 7:00 pm. This is a hybrid meeting.  \n\n\n\n\n\nOr\, Join the Zoom Meetinghttps://us02web.zoom.us/j/81624215008Meeting ID: 816 2421 5008Passcode: 4755782
URL:https://aasantacruz.org/event/intergroup-council-meeting-2/2027-07-07/
LOCATION:Mid-County Senior Center\, 829 Bay Ave.\, Capitola\, CA\, 95010\, United States
CATEGORIES:Intergroup
END:VEVENT
BEGIN:VEVENT
DTSTART;TZID=America/Los_Angeles:20270714T193000
DTEND;TZID=America/Los_Angeles:20270714T213000
DTSTAMP:20260424T055316
CREATED:20240506T151212Z
LAST-MODIFIED:20240506T151213Z
UID:10000638-1815593400-1815600600@aasantacruz.org
SUMMARY:General Service District Meeting (Hybrid)
DESCRIPTION:New GSR Orientation starts at 6:45 PM. \n\n\n\n\n\nJoin the Zoom Meeting \n\n\n\n\n\nJoin Zoom Meetinghttps://us06web.zoom.us/j/89890038938?pwd=LzBNK3U0Z2ZadlFuQ2FkU0ZYdFk3Zz09 \n\n\n\nMeeting ID: 898 9003 8938Passcode: 121212
URL:https://aasantacruz.org/event/general-service-district-meeting-2/2027-07-14/
LOCATION:Mid-County Senior Center\, 829 Bay Ave.\, Capitola\, CA\, 95010\, United States
CATEGORIES:Local
END:VEVENT
BEGIN:VEVENT
DTSTART;TZID=America/Los_Angeles:20270804T190000
DTEND;TZID=America/Los_Angeles:20270804T203000
DTSTAMP:20260424T055316
CREATED:20240618T181756Z
LAST-MODIFIED:20240618T181809Z
UID:10001366-1817406000-1817411400@aasantacruz.org
SUMMARY:Intergroup Council Meeting
DESCRIPTION:Intergroup Council meets on the first Wednesday of each month at 7:00 pm. This is a hybrid meeting.  \n\n\n\n\n\nOr\, Join the Zoom Meetinghttps://us02web.zoom.us/j/81624215008Meeting ID: 816 2421 5008Passcode: 4755782
URL:https://aasantacruz.org/event/intergroup-council-meeting-2/2027-08-04/
LOCATION:Mid-County Senior Center\, 829 Bay Ave.\, Capitola\, CA\, 95010\, United States
CATEGORIES:Intergroup
END:VEVENT
BEGIN:VEVENT
DTSTART;TZID=America/Los_Angeles:20270807T190000
DTEND;TZID=America/Los_Angeles:20270807T201500
DTSTAMP:20260424T055316
CREATED:20220907T194901Z
LAST-MODIFIED:20240723T233643Z
UID:10001437-1817665200-1817669700@aasantacruz.org
SUMMARY:Birthday Speaker Meeting
DESCRIPTION:
URL:https://aasantacruz.org/event/birthday-speaker-meeting/2027-08-07/
LOCATION:Mid-County Senior Center\, 829 Bay Ave.\, Capitola\, CA\, 95010\, United States
CATEGORIES:Intergroup
END:VEVENT
BEGIN:VEVENT
DTSTART;TZID=America/Los_Angeles:20270811T193000
DTEND;TZID=America/Los_Angeles:20270811T213000
DTSTAMP:20260424T055316
CREATED:20240506T151212Z
LAST-MODIFIED:20240506T151213Z
UID:10000639-1818012600-1818019800@aasantacruz.org
SUMMARY:General Service District Meeting (Hybrid)
DESCRIPTION:New GSR Orientation starts at 6:45 PM. \n\n\n\n\n\nJoin the Zoom Meeting \n\n\n\n\n\nJoin Zoom Meetinghttps://us06web.zoom.us/j/89890038938?pwd=LzBNK3U0Z2ZadlFuQ2FkU0ZYdFk3Zz09 \n\n\n\nMeeting ID: 898 9003 8938Passcode: 121212
URL:https://aasantacruz.org/event/general-service-district-meeting-2/2027-08-11/
LOCATION:Mid-County Senior Center\, 829 Bay Ave.\, Capitola\, CA\, 95010\, United States
CATEGORIES:Local
END:VEVENT
BEGIN:VEVENT
DTSTART;TZID=America/Los_Angeles:20270901T190000
DTEND;TZID=America/Los_Angeles:20270901T203000
DTSTAMP:20260424T055316
CREATED:20240618T181756Z
LAST-MODIFIED:20240618T181809Z
UID:10001367-1819825200-1819830600@aasantacruz.org
SUMMARY:Intergroup Council Meeting
DESCRIPTION:Intergroup Council meets on the first Wednesday of each month at 7:00 pm. This is a hybrid meeting.  \n\n\n\n\n\nOr\, Join the Zoom Meetinghttps://us02web.zoom.us/j/81624215008Meeting ID: 816 2421 5008Passcode: 4755782
URL:https://aasantacruz.org/event/intergroup-council-meeting-2/2027-09-01/
LOCATION:Mid-County Senior Center\, 829 Bay Ave.\, Capitola\, CA\, 95010\, United States
CATEGORIES:Intergroup
END:VEVENT
BEGIN:VEVENT
DTSTART;TZID=America/Los_Angeles:20270904T190000
DTEND;TZID=America/Los_Angeles:20270904T201500
DTSTAMP:20260424T055316
CREATED:20220907T194901Z
LAST-MODIFIED:20240723T233643Z
UID:10001438-1820084400-1820088900@aasantacruz.org
SUMMARY:Birthday Speaker Meeting
DESCRIPTION:
URL:https://aasantacruz.org/event/birthday-speaker-meeting/2027-09-04/
LOCATION:Mid-County Senior Center\, 829 Bay Ave.\, Capitola\, CA\, 95010\, United States
CATEGORIES:Intergroup
END:VEVENT
END:VCALENDAR