BEGIN:VCALENDAR
VERSION:2.0
PRODID:-//Alcoholics Anonymous of Santa Cruz County - ECPv6.15.20//NONSGML v1.0//EN
CALSCALE:GREGORIAN
METHOD:PUBLISH
X-ORIGINAL-URL:https://aasantacruz.org
X-WR-CALDESC:Events for Alcoholics Anonymous of Santa Cruz County
REFRESH-INTERVAL;VALUE=DURATION:PT1H
X-Robots-Tag:noindex
X-PUBLISHED-TTL:PT1H
BEGIN:VTIMEZONE
TZID:America/Los_Angeles
BEGIN:DAYLIGHT
TZOFFSETFROM:-0800
TZOFFSETTO:-0700
TZNAME:PDT
DTSTART:20230312T100000
END:DAYLIGHT
BEGIN:STANDARD
TZOFFSETFROM:-0700
TZOFFSETTO:-0800
TZNAME:PST
DTSTART:20231105T090000
END:STANDARD
BEGIN:DAYLIGHT
TZOFFSETFROM:-0800
TZOFFSETTO:-0700
TZNAME:PDT
DTSTART:20240310T100000
END:DAYLIGHT
BEGIN:STANDARD
TZOFFSETFROM:-0700
TZOFFSETTO:-0800
TZNAME:PST
DTSTART:20241103T090000
END:STANDARD
BEGIN:DAYLIGHT
TZOFFSETFROM:-0800
TZOFFSETTO:-0700
TZNAME:PDT
DTSTART:20250309T100000
END:DAYLIGHT
BEGIN:STANDARD
TZOFFSETFROM:-0700
TZOFFSETTO:-0800
TZNAME:PST
DTSTART:20251102T090000
END:STANDARD
BEGIN:DAYLIGHT
TZOFFSETFROM:-0800
TZOFFSETTO:-0700
TZNAME:PDT
DTSTART:20260308T100000
END:DAYLIGHT
BEGIN:STANDARD
TZOFFSETFROM:-0700
TZOFFSETTO:-0800
TZNAME:PST
DTSTART:20261101T090000
END:STANDARD
END:VTIMEZONE
BEGIN:VEVENT
DTSTART;TZID=America/Los_Angeles:20251031T193000
DTEND;TZID=America/Los_Angeles:20251031T220000
DTSTAMP:20260425T114359
CREATED:20251016T024042Z
LAST-MODIFIED:20251016T024105Z
UID:10001656-1761939000-1761948000@aasantacruz.org
SUMMARY:SCF Halloween Dance/Potluck
DESCRIPTION:SC Fellowship Halloween DanceDownload
URL:https://aasantacruz.org/event/scf-halloween-dance-potluck/
LOCATION:Santa Cruz Fellowship\, 412 Front Street\, Santa Cruz\, CA\, 95060\, United States
ATTACH;FMTTYPE=image/jpeg:https://aasantacruz.org/wp-content/uploads/2025/10/scf-halloween.jpg
END:VEVENT
BEGIN:VEVENT
DTSTART;TZID=America/Los_Angeles:20250101T090000
DTEND;TZID=America/Los_Angeles:20250101T190000
DTSTAMP:20260425T114359
CREATED:20241231T222922Z
LAST-MODIFIED:20241231T222924Z
UID:10001545-1735722000-1735758000@aasantacruz.org
SUMMARY:Santa Cruz Fellowship New Years Day BBQ
DESCRIPTION:SCFAA-2025-New-YearsDownload
URL:https://aasantacruz.org/event/santa-cruz-fellowship-new-years-day-bbq/
LOCATION:Santa Cruz Fellowship\, 412 Front Street\, Santa Cruz\, CA\, 95060\, United States
ATTACH;FMTTYPE=image/jpeg:https://aasantacruz.org/wp-content/uploads/2024/12/SCFAA-2025-New-Years.jpg
END:VEVENT
BEGIN:VEVENT
DTSTART;TZID=America/Los_Angeles:20241229T080000
DTEND;TZID=America/Los_Angeles:20241229T170000
DTSTAMP:20260425T114359
CREATED:20240531T181511Z
LAST-MODIFIED:20240531T183101Z
UID:10001268-1735459200-1735491600@aasantacruz.org
SUMMARY:Santa Cruz Fellowship 4th Step Workshop
DESCRIPTION:SCF-Flyer-4th-StepDownload
URL:https://aasantacruz.org/event/santa-cruz-fellowship-4th-step-workshop/2024-12-29/
LOCATION:Santa Cruz Fellowship\, 412 Front Street\, Santa Cruz\, CA\, 95060\, United States
CATEGORIES:Santa Cruz Fellowship
ATTACH;FMTTYPE=image/jpeg:https://aasantacruz.org/wp-content/uploads/2024/05/SCF-Flyer-4th-Step.jpg
END:VEVENT
BEGIN:VEVENT
DTSTART;TZID=America/Los_Angeles:20241225T090000
DTEND;TZID=America/Los_Angeles:20241225T190000
DTSTAMP:20260425T114359
CREATED:20241211T015356Z
LAST-MODIFIED:20241215T160736Z
UID:10001472-1735117200-1735153200@aasantacruz.org
SUMMARY:Santa Cruz Fellowship Christmas Alcathon
DESCRIPTION:SCF_2024_Christmas_AlcathonDownload
URL:https://aasantacruz.org/event/scf-christmas-alcathon-2/
LOCATION:Santa Cruz Fellowship\, 412 Front Street\, Santa Cruz\, CA\, 95060\, United States
CATEGORIES:Santa Cruz Fellowship
ATTACH;FMTTYPE=image/jpeg:https://aasantacruz.org/wp-content/uploads/2024/12/SCF_2024_Christmas_Alcathon-1.jpg
END:VEVENT
BEGIN:VEVENT
DTSTART;TZID=America/Los_Angeles:20241128T090000
DTEND;TZID=America/Los_Angeles:20241128T190000
DTSTAMP:20260425T114359
CREATED:20241127T004900Z
LAST-MODIFIED:20241127T004901Z
UID:10001470-1732784400-1732820400@aasantacruz.org
SUMMARY:Santa Cruz Thanksgiving Alcathon
DESCRIPTION:Santa-Cruz-Fellowship-AlcathonDownload\n\n\n\nMeetings every hour.
URL:https://aasantacruz.org/event/santa-cruz-thanksgiving-alcathon/
LOCATION:Santa Cruz Fellowship\, 412 Front Street\, Santa Cruz\, CA\, 95060\, United States
ATTACH;FMTTYPE=image/jpeg:https://aasantacruz.org/wp-content/uploads/2024/11/Santa-Cruz-Fellowship-Alcathon.jpg
END:VEVENT
BEGIN:VEVENT
DTSTART;TZID=America/Los_Angeles:20241124T080000
DTEND;TZID=America/Los_Angeles:20241124T170000
DTSTAMP:20260425T114359
CREATED:20240531T181511Z
LAST-MODIFIED:20240531T183101Z
UID:10001267-1732435200-1732467600@aasantacruz.org
SUMMARY:Santa Cruz Fellowship 4th Step Workshop
DESCRIPTION:SCF-Flyer-4th-StepDownload
URL:https://aasantacruz.org/event/santa-cruz-fellowship-4th-step-workshop/2024-11-24/
LOCATION:Santa Cruz Fellowship\, 412 Front Street\, Santa Cruz\, CA\, 95060\, United States
CATEGORIES:Santa Cruz Fellowship
ATTACH;FMTTYPE=image/jpeg:https://aasantacruz.org/wp-content/uploads/2024/05/SCF-Flyer-4th-Step.jpg
END:VEVENT
BEGIN:VEVENT
DTSTART;TZID=America/Los_Angeles:20241027T080000
DTEND;TZID=America/Los_Angeles:20241027T170000
DTSTAMP:20260425T114359
CREATED:20240531T181511Z
LAST-MODIFIED:20240531T183101Z
UID:10001266-1730016000-1730048400@aasantacruz.org
SUMMARY:Santa Cruz Fellowship 4th Step Workshop
DESCRIPTION:SCF-Flyer-4th-StepDownload
URL:https://aasantacruz.org/event/santa-cruz-fellowship-4th-step-workshop/2024-10-27/
LOCATION:Santa Cruz Fellowship\, 412 Front Street\, Santa Cruz\, CA\, 95060\, United States
CATEGORIES:Santa Cruz Fellowship
ATTACH;FMTTYPE=image/jpeg:https://aasantacruz.org/wp-content/uploads/2024/05/SCF-Flyer-4th-Step.jpg
END:VEVENT
BEGIN:VEVENT
DTSTART;TZID=America/Los_Angeles:20240929T080000
DTEND;TZID=America/Los_Angeles:20240929T170000
DTSTAMP:20260425T114359
CREATED:20240531T181511Z
LAST-MODIFIED:20240531T183101Z
UID:10001265-1727596800-1727629200@aasantacruz.org
SUMMARY:Santa Cruz Fellowship 4th Step Workshop
DESCRIPTION:SCF-Flyer-4th-StepDownload
URL:https://aasantacruz.org/event/santa-cruz-fellowship-4th-step-workshop/2024-09-29/
LOCATION:Santa Cruz Fellowship\, 412 Front Street\, Santa Cruz\, CA\, 95060\, United States
CATEGORIES:Santa Cruz Fellowship
ATTACH;FMTTYPE=image/jpeg:https://aasantacruz.org/wp-content/uploads/2024/05/SCF-Flyer-4th-Step.jpg
END:VEVENT
BEGIN:VEVENT
DTSTART;TZID=America/Los_Angeles:20240825T080000
DTEND;TZID=America/Los_Angeles:20240825T170000
DTSTAMP:20260425T114359
CREATED:20240531T181511Z
LAST-MODIFIED:20240531T183101Z
UID:10001264-1724572800-1724605200@aasantacruz.org
SUMMARY:Santa Cruz Fellowship 4th Step Workshop
DESCRIPTION:SCF-Flyer-4th-StepDownload
URL:https://aasantacruz.org/event/santa-cruz-fellowship-4th-step-workshop/2024-08-25/
LOCATION:Santa Cruz Fellowship\, 412 Front Street\, Santa Cruz\, CA\, 95060\, United States
CATEGORIES:Santa Cruz Fellowship
ATTACH;FMTTYPE=image/jpeg:https://aasantacruz.org/wp-content/uploads/2024/05/SCF-Flyer-4th-Step.jpg
END:VEVENT
BEGIN:VEVENT
DTSTART;TZID=America/Los_Angeles:20240728T080000
DTEND;TZID=America/Los_Angeles:20240728T170000
DTSTAMP:20260425T114359
CREATED:20240531T181511Z
LAST-MODIFIED:20240531T183101Z
UID:10001263-1722153600-1722186000@aasantacruz.org
SUMMARY:Santa Cruz Fellowship 4th Step Workshop
DESCRIPTION:SCF-Flyer-4th-StepDownload
URL:https://aasantacruz.org/event/santa-cruz-fellowship-4th-step-workshop/2024-07-28/
LOCATION:Santa Cruz Fellowship\, 412 Front Street\, Santa Cruz\, CA\, 95060\, United States
CATEGORIES:Santa Cruz Fellowship
ATTACH;FMTTYPE=image/jpeg:https://aasantacruz.org/wp-content/uploads/2024/05/SCF-Flyer-4th-Step.jpg
END:VEVENT
BEGIN:VEVENT
DTSTART;TZID=America/Los_Angeles:20240704T090000
DTEND;TZID=America/Los_Angeles:20240704T210000
DTSTAMP:20260425T114359
CREATED:20240614T140102Z
LAST-MODIFIED:20240614T140105Z
UID:10001270-1720083600-1720126800@aasantacruz.org
SUMMARY:4th of July BBQ
DESCRIPTION:4th-of-July-Flyer-2024Download
URL:https://aasantacruz.org/event/4th-of-july-bbq/
LOCATION:Santa Cruz Fellowship\, 412 Front Street\, Santa Cruz\, CA\, 95060\, United States
CATEGORIES:Santa Cruz Fellowship
ATTACH;FMTTYPE=image/jpeg:https://aasantacruz.org/wp-content/uploads/2024/06/4th-of-July-Flyer-2024.jpg
END:VEVENT
BEGIN:VEVENT
DTSTART;TZID=America/Los_Angeles:20240630T161500
DTEND;TZID=America/Los_Angeles:20240630T174500
DTSTAMP:20260425T114359
CREATED:20240531T182132Z
LAST-MODIFIED:20240531T182905Z
UID:10001269-1719764100-1719769500@aasantacruz.org
SUMMARY:Santa Cruz Fellowship 4th Step Workshop
DESCRIPTION:SCF-Flyer-4th-StepDownload
URL:https://aasantacruz.org/event/santa-cruz-fellowship-4th-step-workshop-2/
LOCATION:Santa Cruz Fellowship\, 412 Front Street\, Santa Cruz\, CA\, 95060\, United States
CATEGORIES:Santa Cruz Fellowship
ATTACH;FMTTYPE=image/jpeg:https://aasantacruz.org/wp-content/uploads/2024/05/SCF-Flyer-4th-Step.jpg
END:VEVENT
BEGIN:VEVENT
DTSTART;TZID=America/Los_Angeles:20240526T090000
DTEND;TZID=America/Los_Angeles:20240526T210000
DTSTAMP:20260425T114359
CREATED:20240506T031359Z
LAST-MODIFIED:20240514T191625Z
UID:10001248-1716714000-1716757200@aasantacruz.org
SUMMARY:SCF Memorial Day Alcathon / BBQ
DESCRIPTION:Meetings every hour. Food and Music from 1:00 pm to 3:00 pm \n\n\n\nMemorial-Day-BBQ-2024Download
URL:https://aasantacruz.org/event/scf-memorial-day-alcathon-bbq/
LOCATION:Santa Cruz Fellowship\, 412 Front Street\, Santa Cruz\, CA\, 95060\, United States
CATEGORIES:Santa Cruz Fellowship
ATTACH;FMTTYPE=image/jpeg:https://aasantacruz.org/wp-content/uploads/2024/05/SCF-Memorial-Day-2024-Flyer.jpg
END:VEVENT
END:VCALENDAR