BEGIN:VCALENDAR
VERSION:2.0
PRODID:-//Alcoholics Anonymous of Santa Cruz County - ECPv6.15.20//NONSGML v1.0//EN
CALSCALE:GREGORIAN
METHOD:PUBLISH
X-WR-CALNAME:Alcoholics Anonymous of Santa Cruz County
X-ORIGINAL-URL:https://aasantacruz.org
X-WR-CALDESC:Events for Alcoholics Anonymous of Santa Cruz County
REFRESH-INTERVAL;VALUE=DURATION:PT1H
X-Robots-Tag:noindex
X-PUBLISHED-TTL:PT1H
BEGIN:VTIMEZONE
TZID:America/Los_Angeles
BEGIN:DAYLIGHT
TZOFFSETFROM:-0800
TZOFFSETTO:-0700
TZNAME:PDT
DTSTART:20230312T100000
END:DAYLIGHT
BEGIN:STANDARD
TZOFFSETFROM:-0700
TZOFFSETTO:-0800
TZNAME:PST
DTSTART:20231105T090000
END:STANDARD
BEGIN:DAYLIGHT
TZOFFSETFROM:-0800
TZOFFSETTO:-0700
TZNAME:PDT
DTSTART:20240310T100000
END:DAYLIGHT
BEGIN:STANDARD
TZOFFSETFROM:-0700
TZOFFSETTO:-0800
TZNAME:PST
DTSTART:20241103T090000
END:STANDARD
BEGIN:DAYLIGHT
TZOFFSETFROM:-0800
TZOFFSETTO:-0700
TZNAME:PDT
DTSTART:20250309T100000
END:DAYLIGHT
BEGIN:STANDARD
TZOFFSETFROM:-0700
TZOFFSETTO:-0800
TZNAME:PST
DTSTART:20251102T090000
END:STANDARD
BEGIN:DAYLIGHT
TZOFFSETFROM:-0800
TZOFFSETTO:-0700
TZNAME:PDT
DTSTART:20260308T100000
END:DAYLIGHT
BEGIN:STANDARD
TZOFFSETFROM:-0700
TZOFFSETTO:-0800
TZNAME:PST
DTSTART:20261101T090000
END:STANDARD
END:VTIMEZONE
BEGIN:VEVENT
DTSTART;TZID=America/Los_Angeles:20251102T130000
DTEND;TZID=America/Los_Angeles:20251102T140000
DTSTAMP:20260425T111240
CREATED:20250624T172213Z
LAST-MODIFIED:20250624T172216Z
UID:10001593-1762088400-1762092000@aasantacruz.org
SUMMARY:CRUZYPAA Business Meeting (2025)
DESCRIPTION:
URL:https://aasantacruz.org/event/cruzypaa-business-meeting-2025-3/2025-11-02/
LOCATION:Tradewinds Church\, 4525 Soquel Drive\, Soquel\, CA\, 95073
ATTACH;FMTTYPE=image/jpeg:https://aasantacruz.org/wp-content/uploads/2025/05/CRUZYPAA-BIZ-MEETING-FLYER-2025.jpg
END:VEVENT
BEGIN:VEVENT
DTSTART;TZID=America/Los_Angeles:20251019T130000
DTEND;TZID=America/Los_Angeles:20251019T140000
DTSTAMP:20260425T111240
CREATED:20250519T154638Z
LAST-MODIFIED:20250519T154639Z
UID:10001606-1760878800-1760882400@aasantacruz.org
SUMMARY:CRUZYPAA Business Meeting (2025)
DESCRIPTION:CRUZYPAA-BIZ-MEETING-FLYER-2025Download
URL:https://aasantacruz.org/event/cruzypaa-business-meeting-2025-2/2025-10-19/
LOCATION:Tradewinds Church\, 4525 Soquel Drive\, Soquel\, CA\, 95073
ATTACH;FMTTYPE=image/jpeg:https://aasantacruz.org/wp-content/uploads/2025/05/CRUZYPAA-BIZ-MEETING-FLYER-2025.jpg
END:VEVENT
BEGIN:VEVENT
DTSTART;TZID=America/Los_Angeles:20251005T130000
DTEND;TZID=America/Los_Angeles:20251005T140000
DTSTAMP:20260425T111240
CREATED:20250624T172213Z
LAST-MODIFIED:20250624T172216Z
UID:10001592-1759669200-1759672800@aasantacruz.org
SUMMARY:CRUZYPAA Business Meeting (2025)
DESCRIPTION:
URL:https://aasantacruz.org/event/cruzypaa-business-meeting-2025-3/2025-10-05/
LOCATION:Tradewinds Church\, 4525 Soquel Drive\, Soquel\, CA\, 95073
ATTACH;FMTTYPE=image/jpeg:https://aasantacruz.org/wp-content/uploads/2025/05/CRUZYPAA-BIZ-MEETING-FLYER-2025.jpg
END:VEVENT
BEGIN:VEVENT
DTSTART;TZID=America/Los_Angeles:20250921T130000
DTEND;TZID=America/Los_Angeles:20250921T140000
DTSTAMP:20260425T111240
CREATED:20250519T154638Z
LAST-MODIFIED:20250519T154639Z
UID:10001605-1758459600-1758463200@aasantacruz.org
SUMMARY:CRUZYPAA Business Meeting (2025)
DESCRIPTION:CRUZYPAA-BIZ-MEETING-FLYER-2025Download
URL:https://aasantacruz.org/event/cruzypaa-business-meeting-2025-2/2025-09-21/
LOCATION:Tradewinds Church\, 4525 Soquel Drive\, Soquel\, CA\, 95073
ATTACH;FMTTYPE=image/jpeg:https://aasantacruz.org/wp-content/uploads/2025/05/CRUZYPAA-BIZ-MEETING-FLYER-2025.jpg
END:VEVENT
BEGIN:VEVENT
DTSTART;TZID=America/Los_Angeles:20250907T130000
DTEND;TZID=America/Los_Angeles:20250907T140000
DTSTAMP:20260425T111240
CREATED:20250624T172213Z
LAST-MODIFIED:20250624T172216Z
UID:10001591-1757250000-1757253600@aasantacruz.org
SUMMARY:CRUZYPAA Business Meeting (2025)
DESCRIPTION:
URL:https://aasantacruz.org/event/cruzypaa-business-meeting-2025-3/2025-09-07/
LOCATION:Tradewinds Church\, 4525 Soquel Drive\, Soquel\, CA\, 95073
ATTACH;FMTTYPE=image/jpeg:https://aasantacruz.org/wp-content/uploads/2025/05/CRUZYPAA-BIZ-MEETING-FLYER-2025.jpg
END:VEVENT
BEGIN:VEVENT
DTSTART;TZID=America/Los_Angeles:20250817T130000
DTEND;TZID=America/Los_Angeles:20250817T140000
DTSTAMP:20260425T111240
CREATED:20250519T154638Z
LAST-MODIFIED:20250519T154639Z
UID:10001604-1755435600-1755439200@aasantacruz.org
SUMMARY:CRUZYPAA Business Meeting (2025)
DESCRIPTION:CRUZYPAA-BIZ-MEETING-FLYER-2025Download
URL:https://aasantacruz.org/event/cruzypaa-business-meeting-2025-2/2025-08-17/
LOCATION:Tradewinds Church\, 4525 Soquel Drive\, Soquel\, CA\, 95073
ATTACH;FMTTYPE=image/jpeg:https://aasantacruz.org/wp-content/uploads/2025/05/CRUZYPAA-BIZ-MEETING-FLYER-2025.jpg
END:VEVENT
BEGIN:VEVENT
DTSTART;TZID=America/Los_Angeles:20250803T130000
DTEND;TZID=America/Los_Angeles:20250803T140000
DTSTAMP:20260425T111240
CREATED:20250624T172213Z
LAST-MODIFIED:20250624T172216Z
UID:10001590-1754226000-1754229600@aasantacruz.org
SUMMARY:CRUZYPAA Business Meeting (2025)
DESCRIPTION:
URL:https://aasantacruz.org/event/cruzypaa-business-meeting-2025-3/2025-08-03/
LOCATION:Tradewinds Church\, 4525 Soquel Drive\, Soquel\, CA\, 95073
ATTACH;FMTTYPE=image/jpeg:https://aasantacruz.org/wp-content/uploads/2025/05/CRUZYPAA-BIZ-MEETING-FLYER-2025.jpg
END:VEVENT
BEGIN:VEVENT
DTSTART;TZID=America/Los_Angeles:20250720T130000
DTEND;TZID=America/Los_Angeles:20250720T140000
DTSTAMP:20260425T111240
CREATED:20250519T154638Z
LAST-MODIFIED:20250519T154639Z
UID:10001603-1753016400-1753020000@aasantacruz.org
SUMMARY:CRUZYPAA Business Meeting (2025)
DESCRIPTION:CRUZYPAA-BIZ-MEETING-FLYER-2025Download
URL:https://aasantacruz.org/event/cruzypaa-business-meeting-2025-2/2025-07-20/
LOCATION:Tradewinds Church\, 4525 Soquel Drive\, Soquel\, CA\, 95073
ATTACH;FMTTYPE=image/jpeg:https://aasantacruz.org/wp-content/uploads/2025/05/CRUZYPAA-BIZ-MEETING-FLYER-2025.jpg
END:VEVENT
BEGIN:VEVENT
DTSTART;TZID=America/Los_Angeles:20250706T130000
DTEND;TZID=America/Los_Angeles:20250706T140000
DTSTAMP:20260425T111240
CREATED:20250624T172213Z
LAST-MODIFIED:20250624T172216Z
UID:10001589-1751806800-1751810400@aasantacruz.org
SUMMARY:CRUZYPAA Business Meeting (2025)
DESCRIPTION:
URL:https://aasantacruz.org/event/cruzypaa-business-meeting-2025-3/2025-07-06/
LOCATION:Tradewinds Church\, 4525 Soquel Drive\, Soquel\, CA\, 95073
ATTACH;FMTTYPE=image/jpeg:https://aasantacruz.org/wp-content/uploads/2025/05/CRUZYPAA-BIZ-MEETING-FLYER-2025.jpg
END:VEVENT
BEGIN:VEVENT
DTSTART;TZID=America/Los_Angeles:20250615T130000
DTEND;TZID=America/Los_Angeles:20250615T140000
DTSTAMP:20260425T111240
CREATED:20250519T154638Z
LAST-MODIFIED:20250519T154639Z
UID:10001602-1749992400-1749996000@aasantacruz.org
SUMMARY:CRUZYPAA Business Meeting (2025)
DESCRIPTION:CRUZYPAA-BIZ-MEETING-FLYER-2025Download
URL:https://aasantacruz.org/event/cruzypaa-business-meeting-2025-2/2025-06-15/
LOCATION:Tradewinds Church\, 4525 Soquel Drive\, Soquel\, CA\, 95073
ATTACH;FMTTYPE=image/jpeg:https://aasantacruz.org/wp-content/uploads/2025/05/CRUZYPAA-BIZ-MEETING-FLYER-2025.jpg
END:VEVENT
BEGIN:VEVENT
DTSTART;TZID=America/Los_Angeles:20250601T150000
DTEND;TZID=America/Los_Angeles:20250601T170000
DTSTAMP:20260425T111240
CREATED:20250502T034326Z
LAST-MODIFIED:20250511T134922Z
UID:10001565-1748790000-1748797200@aasantacruz.org
SUMMARY:Unity Day
DESCRIPTION:Unity-Day-2025Download
URL:https://aasantacruz.org/event/unity-day-2/
LOCATION:Tradewinds Church\, 4525 Soquel Drive\, Soquel\, CA\, 95073
ATTACH;FMTTYPE=image/jpeg:https://aasantacruz.org/wp-content/uploads/2025/05/Unity-Day-2025-scaled-1.jpg
END:VEVENT
BEGIN:VEVENT
DTSTART;TZID=America/Los_Angeles:20250601T130000
DTEND;TZID=America/Los_Angeles:20250601T140000
DTSTAMP:20260425T111240
CREATED:20250519T154307Z
LAST-MODIFIED:20250519T154348Z
UID:10001588-1748782800-1748786400@aasantacruz.org
SUMMARY:CRUZYPAA Business Meeting (2025)
DESCRIPTION:CRUZYPAA-BIZ-MEETING-FLYER-2025Download
URL:https://aasantacruz.org/event/cruzypaa-business-meeting-2025/
LOCATION:Tradewinds Church\, 4525 Soquel Drive\, Soquel\, CA\, 95073
ATTACH;FMTTYPE=image/jpeg:https://aasantacruz.org/wp-content/uploads/2025/05/CRUZYPAA-BIZ-MEETING-FLYER-2025.jpg
END:VEVENT
BEGIN:VEVENT
DTSTART;TZID=America/Los_Angeles:20250531T190000
DTEND;TZID=America/Los_Angeles:20250531T220000
DTSTAMP:20260425T111240
CREATED:20250511T133051Z
LAST-MODIFIED:20250511T133052Z
UID:10001584-1748718000-1748728800@aasantacruz.org
SUMMARY:CRUZYPAA Prom
DESCRIPTION:CRUZYPAA-prom-2025Download
URL:https://aasantacruz.org/event/cruzypaa-prom/
LOCATION:Tradewinds Church\, 4525 Soquel Drive\, Soquel\, CA\, 95073
CATEGORIES:CRUZYPAA
ATTACH;FMTTYPE=image/jpeg:https://aasantacruz.org/wp-content/uploads/2025/05/CRUZYPAA-prom-2025.jpg
END:VEVENT
BEGIN:VEVENT
DTSTART;TZID=America/Los_Angeles:20250301T130000
DTEND;TZID=America/Los_Angeles:20250301T150000
DTSTAMP:20260425T111240
CREATED:20250214T174314Z
LAST-MODIFIED:20250214T174315Z
UID:10001560-1740834000-1740841200@aasantacruz.org
SUMMARY:CRUZYPAA Elections
DESCRIPTION:CRUZYPAA-elections-2025Download
URL:https://aasantacruz.org/event/cruzypaa-elections-2/
LOCATION:Tradewinds Church\, 4525 Soquel Drive\, Soquel\, CA\, 95073
ATTACH;FMTTYPE=image/jpeg:https://aasantacruz.org/wp-content/uploads/2025/02/CRUZYPAA-elections-2025.jpg
END:VEVENT
BEGIN:VEVENT
DTSTART;TZID=America/Los_Angeles:20241214T180000
DTEND;TZID=America/Los_Angeles:20241214T220000
DTSTAMP:20260425T111240
CREATED:20241214T185258Z
LAST-MODIFIED:20241214T185259Z
UID:10001473-1734199200-1734213600@aasantacruz.org
SUMMARY:Fiesta Navidena
DESCRIPTION:Fiesta-NavidenaDownload
URL:https://aasantacruz.org/event/fiesta-navidena/
LOCATION:Tradewinds Church\, 4525 Soquel Drive\, Soquel\, CA\, 95073
CATEGORIES:ACYPAA
ATTACH;FMTTYPE=image/jpeg:https://aasantacruz.org/wp-content/uploads/2024/12/Fiesta-Navidena.jpg
END:VEVENT
BEGIN:VEVENT
DTSTART;TZID=America/Los_Angeles:20240831T180000
DTEND;TZID=America/Los_Angeles:20240831T210000
DTSTAMP:20260425T111240
CREATED:20240809T202705Z
LAST-MODIFIED:20240809T202706Z
UID:10001463-1725127200-1725138000@aasantacruz.org
SUMMARY:ACCYPA Frat Party
DESCRIPTION:frat-party-flyerDownload
URL:https://aasantacruz.org/event/accypa-frat-party/
LOCATION:Tradewinds Church\, 4525 Soquel Drive\, Soquel\, CA\, 95073
ATTACH;FMTTYPE=image/jpeg:https://aasantacruz.org/wp-content/uploads/2024/08/frat-party-flyer.jpg
END:VEVENT
BEGIN:VEVENT
DTSTART;TZID=America/Los_Angeles:20240525T190000
DTEND;TZID=America/Los_Angeles:20240526T000000
DTSTAMP:20260425T111240
CREATED:20240514T191443Z
LAST-MODIFIED:20240514T191535Z
UID:10001260-1716663600-1716681600@aasantacruz.org
SUMMARY:Sober Prom
DESCRIPTION:Sober Prom FlierDownload
URL:https://aasantacruz.org/event/sober-prom-2/
LOCATION:Tradewinds Church\, 4525 Soquel Drive\, Soquel\, CA\, 95073
CATEGORIES:CRUZYPAA
ATTACH;FMTTYPE=image/jpeg:https://aasantacruz.org/wp-content/uploads/2024/05/Prom.jpg
END:VEVENT
BEGIN:VEVENT
DTSTART;TZID=America/Los_Angeles:20240518T130000
DTEND;TZID=America/Los_Angeles:20240518T160000
DTSTAMP:20260425T111240
CREATED:20240408T190819Z
LAST-MODIFIED:20240408T190954Z
UID:10001246-1716037200-1716048000@aasantacruz.org
SUMMARY:Unity Day
DESCRIPTION:Hosted by General Service\, Santa Cruz County Intergroup\, H&I and ACYPAA \n\n\n\n2024-Unity-DayDownload
URL:https://aasantacruz.org/event/unity-day/
LOCATION:Tradewinds Church\, 4525 Soquel Drive\, Soquel\, CA\, 95073
CATEGORIES:Intergroup
ATTACH;FMTTYPE=image/png:https://aasantacruz.org/wp-content/uploads/2024/04/2024-Unity-Day.png
END:VEVENT
END:VCALENDAR