BEGIN:VCALENDAR
VERSION:2.0
PRODID:-//Alcoholics Anonymous of Santa Cruz County - ECPv6.15.20//NONSGML v1.0//EN
CALSCALE:GREGORIAN
METHOD:PUBLISH
X-ORIGINAL-URL:https://aasantacruz.org
X-WR-CALDESC:Events for Alcoholics Anonymous of Santa Cruz County
REFRESH-INTERVAL;VALUE=DURATION:PT1H
X-Robots-Tag:noindex
X-PUBLISHED-TTL:PT1H
BEGIN:VTIMEZONE
TZID:America/Los_Angeles
BEGIN:DAYLIGHT
TZOFFSETFROM:-0800
TZOFFSETTO:-0700
TZNAME:PDT
DTSTART:20250309T100000
END:DAYLIGHT
BEGIN:STANDARD
TZOFFSETFROM:-0700
TZOFFSETTO:-0800
TZNAME:PST
DTSTART:20251102T090000
END:STANDARD
BEGIN:DAYLIGHT
TZOFFSETFROM:-0800
TZOFFSETTO:-0700
TZNAME:PDT
DTSTART:20260308T100000
END:DAYLIGHT
BEGIN:STANDARD
TZOFFSETFROM:-0700
TZOFFSETTO:-0800
TZNAME:PST
DTSTART:20261101T090000
END:STANDARD
BEGIN:DAYLIGHT
TZOFFSETFROM:-0800
TZOFFSETTO:-0700
TZNAME:PDT
DTSTART:20270314T100000
END:DAYLIGHT
BEGIN:STANDARD
TZOFFSETFROM:-0700
TZOFFSETTO:-0800
TZNAME:PST
DTSTART:20271107T090000
END:STANDARD
BEGIN:DAYLIGHT
TZOFFSETFROM:-0800
TZOFFSETTO:-0700
TZNAME:PDT
DTSTART:20280312T100000
END:DAYLIGHT
BEGIN:STANDARD
TZOFFSETFROM:-0700
TZOFFSETTO:-0800
TZNAME:PST
DTSTART:20281105T090000
END:STANDARD
BEGIN:DAYLIGHT
TZOFFSETFROM:-0800
TZOFFSETTO:-0700
TZNAME:PDT
DTSTART:20290311T100000
END:DAYLIGHT
BEGIN:STANDARD
TZOFFSETFROM:-0700
TZOFFSETTO:-0800
TZNAME:PST
DTSTART:20291104T090000
END:STANDARD
END:VTIMEZONE
BEGIN:VEVENT
DTSTART;TZID=America/Los_Angeles:20260422T190000
DTEND;TZID=America/Los_Angeles:20260422T200000
DTSTAMP:20260421T202246
CREATED:20240102T205703Z
LAST-MODIFIED:20240102T205705Z
UID:10000822-1776884400-1776888000@aasantacruz.org
SUMMARY:H&I Committee Meeting
DESCRIPTION:
URL:https://aasantacruz.org/event/hi-committee-meeting/2026-04-22/
LOCATION:Trinity Presbyterian Church\, 420 Melrose Ave\, Santa Cruz\, CA\, 95062
END:VEVENT
BEGIN:VEVENT
DTSTART;TZID=America/Los_Angeles:20260527T190000
DTEND;TZID=America/Los_Angeles:20260527T200000
DTSTAMP:20260421T202246
CREATED:20240102T205703Z
LAST-MODIFIED:20240102T205705Z
UID:10000823-1779908400-1779912000@aasantacruz.org
SUMMARY:H&I Committee Meeting
DESCRIPTION:
URL:https://aasantacruz.org/event/hi-committee-meeting/2026-05-27/
LOCATION:Trinity Presbyterian Church\, 420 Melrose Ave\, Santa Cruz\, CA\, 95062
END:VEVENT
BEGIN:VEVENT
DTSTART;TZID=America/Los_Angeles:20260624T190000
DTEND;TZID=America/Los_Angeles:20260624T200000
DTSTAMP:20260421T202246
CREATED:20240102T205703Z
LAST-MODIFIED:20240102T205705Z
UID:10000824-1782327600-1782331200@aasantacruz.org
SUMMARY:H&I Committee Meeting
DESCRIPTION:
URL:https://aasantacruz.org/event/hi-committee-meeting/2026-06-24/
LOCATION:Trinity Presbyterian Church\, 420 Melrose Ave\, Santa Cruz\, CA\, 95062
END:VEVENT
BEGIN:VEVENT
DTSTART;TZID=America/Los_Angeles:20260722T190000
DTEND;TZID=America/Los_Angeles:20260722T200000
DTSTAMP:20260421T202246
CREATED:20240102T205703Z
LAST-MODIFIED:20240102T205705Z
UID:10000825-1784746800-1784750400@aasantacruz.org
SUMMARY:H&I Committee Meeting
DESCRIPTION:
URL:https://aasantacruz.org/event/hi-committee-meeting/2026-07-22/
LOCATION:Trinity Presbyterian Church\, 420 Melrose Ave\, Santa Cruz\, CA\, 95062
END:VEVENT
BEGIN:VEVENT
DTSTART;TZID=America/Los_Angeles:20260826T190000
DTEND;TZID=America/Los_Angeles:20260826T200000
DTSTAMP:20260421T202246
CREATED:20240102T205703Z
LAST-MODIFIED:20240102T205705Z
UID:10000826-1787770800-1787774400@aasantacruz.org
SUMMARY:H&I Committee Meeting
DESCRIPTION:
URL:https://aasantacruz.org/event/hi-committee-meeting/2026-08-26/
LOCATION:Trinity Presbyterian Church\, 420 Melrose Ave\, Santa Cruz\, CA\, 95062
END:VEVENT
BEGIN:VEVENT
DTSTART;TZID=America/Los_Angeles:20260923T190000
DTEND;TZID=America/Los_Angeles:20260923T200000
DTSTAMP:20260421T202246
CREATED:20240102T205703Z
LAST-MODIFIED:20240102T205705Z
UID:10000827-1790190000-1790193600@aasantacruz.org
SUMMARY:H&I Committee Meeting
DESCRIPTION:
URL:https://aasantacruz.org/event/hi-committee-meeting/2026-09-23/
LOCATION:Trinity Presbyterian Church\, 420 Melrose Ave\, Santa Cruz\, CA\, 95062
END:VEVENT
BEGIN:VEVENT
DTSTART;TZID=America/Los_Angeles:20261028T190000
DTEND;TZID=America/Los_Angeles:20261028T200000
DTSTAMP:20260421T202246
CREATED:20240102T205703Z
LAST-MODIFIED:20240102T205705Z
UID:10000828-1793214000-1793217600@aasantacruz.org
SUMMARY:H&I Committee Meeting
DESCRIPTION:
URL:https://aasantacruz.org/event/hi-committee-meeting/2026-10-28/
LOCATION:Trinity Presbyterian Church\, 420 Melrose Ave\, Santa Cruz\, CA\, 95062
END:VEVENT
BEGIN:VEVENT
DTSTART;TZID=America/Los_Angeles:20261125T190000
DTEND;TZID=America/Los_Angeles:20261125T200000
DTSTAMP:20260421T202246
CREATED:20240102T205703Z
LAST-MODIFIED:20240102T205705Z
UID:10000829-1795633200-1795636800@aasantacruz.org
SUMMARY:H&I Committee Meeting
DESCRIPTION:
URL:https://aasantacruz.org/event/hi-committee-meeting/2026-11-25/
LOCATION:Trinity Presbyterian Church\, 420 Melrose Ave\, Santa Cruz\, CA\, 95062
END:VEVENT
BEGIN:VEVENT
DTSTART;TZID=America/Los_Angeles:20261223T190000
DTEND;TZID=America/Los_Angeles:20261223T200000
DTSTAMP:20260421T202246
CREATED:20240102T205703Z
LAST-MODIFIED:20240102T205705Z
UID:10000830-1798052400-1798056000@aasantacruz.org
SUMMARY:H&I Committee Meeting
DESCRIPTION:
URL:https://aasantacruz.org/event/hi-committee-meeting/2026-12-23/
LOCATION:Trinity Presbyterian Church\, 420 Melrose Ave\, Santa Cruz\, CA\, 95062
END:VEVENT
BEGIN:VEVENT
DTSTART;TZID=America/Los_Angeles:20270127T190000
DTEND;TZID=America/Los_Angeles:20270127T200000
DTSTAMP:20260421T202246
CREATED:20240102T205703Z
LAST-MODIFIED:20240102T205705Z
UID:10000831-1801076400-1801080000@aasantacruz.org
SUMMARY:H&I Committee Meeting
DESCRIPTION:
URL:https://aasantacruz.org/event/hi-committee-meeting/2027-01-27/
LOCATION:Trinity Presbyterian Church\, 420 Melrose Ave\, Santa Cruz\, CA\, 95062
END:VEVENT
BEGIN:VEVENT
DTSTART;TZID=America/Los_Angeles:20270224T190000
DTEND;TZID=America/Los_Angeles:20270224T200000
DTSTAMP:20260421T202246
CREATED:20240102T205703Z
LAST-MODIFIED:20240102T205705Z
UID:10000832-1803495600-1803499200@aasantacruz.org
SUMMARY:H&I Committee Meeting
DESCRIPTION:
URL:https://aasantacruz.org/event/hi-committee-meeting/2027-02-24/
LOCATION:Trinity Presbyterian Church\, 420 Melrose Ave\, Santa Cruz\, CA\, 95062
END:VEVENT
BEGIN:VEVENT
DTSTART;TZID=America/Los_Angeles:20270324T190000
DTEND;TZID=America/Los_Angeles:20270324T200000
DTSTAMP:20260421T202246
CREATED:20240102T205703Z
LAST-MODIFIED:20240102T205705Z
UID:10000833-1805914800-1805918400@aasantacruz.org
SUMMARY:H&I Committee Meeting
DESCRIPTION:
URL:https://aasantacruz.org/event/hi-committee-meeting/2027-03-24/
LOCATION:Trinity Presbyterian Church\, 420 Melrose Ave\, Santa Cruz\, CA\, 95062
END:VEVENT
BEGIN:VEVENT
DTSTART;TZID=America/Los_Angeles:20270428T190000
DTEND;TZID=America/Los_Angeles:20270428T200000
DTSTAMP:20260421T202246
CREATED:20240102T205703Z
LAST-MODIFIED:20240102T205705Z
UID:10000834-1808938800-1808942400@aasantacruz.org
SUMMARY:H&I Committee Meeting
DESCRIPTION:
URL:https://aasantacruz.org/event/hi-committee-meeting/2027-04-28/
LOCATION:Trinity Presbyterian Church\, 420 Melrose Ave\, Santa Cruz\, CA\, 95062
END:VEVENT
BEGIN:VEVENT
DTSTART;TZID=America/Los_Angeles:20270526T190000
DTEND;TZID=America/Los_Angeles:20270526T200000
DTSTAMP:20260421T202246
CREATED:20240102T205703Z
LAST-MODIFIED:20240102T205705Z
UID:10000835-1811358000-1811361600@aasantacruz.org
SUMMARY:H&I Committee Meeting
DESCRIPTION:
URL:https://aasantacruz.org/event/hi-committee-meeting/2027-05-26/
LOCATION:Trinity Presbyterian Church\, 420 Melrose Ave\, Santa Cruz\, CA\, 95062
END:VEVENT
BEGIN:VEVENT
DTSTART;TZID=America/Los_Angeles:20270623T190000
DTEND;TZID=America/Los_Angeles:20270623T200000
DTSTAMP:20260421T202246
CREATED:20240102T205703Z
LAST-MODIFIED:20240102T205705Z
UID:10000836-1813777200-1813780800@aasantacruz.org
SUMMARY:H&I Committee Meeting
DESCRIPTION:
URL:https://aasantacruz.org/event/hi-committee-meeting/2027-06-23/
LOCATION:Trinity Presbyterian Church\, 420 Melrose Ave\, Santa Cruz\, CA\, 95062
END:VEVENT
BEGIN:VEVENT
DTSTART;TZID=America/Los_Angeles:20270728T190000
DTEND;TZID=America/Los_Angeles:20270728T200000
DTSTAMP:20260421T202246
CREATED:20240102T205703Z
LAST-MODIFIED:20240102T205705Z
UID:10000837-1816801200-1816804800@aasantacruz.org
SUMMARY:H&I Committee Meeting
DESCRIPTION:
URL:https://aasantacruz.org/event/hi-committee-meeting/2027-07-28/
LOCATION:Trinity Presbyterian Church\, 420 Melrose Ave\, Santa Cruz\, CA\, 95062
END:VEVENT
BEGIN:VEVENT
DTSTART;TZID=America/Los_Angeles:20270825T190000
DTEND;TZID=America/Los_Angeles:20270825T200000
DTSTAMP:20260421T202246
CREATED:20240102T205703Z
LAST-MODIFIED:20240102T205705Z
UID:10000838-1819220400-1819224000@aasantacruz.org
SUMMARY:H&I Committee Meeting
DESCRIPTION:
URL:https://aasantacruz.org/event/hi-committee-meeting/2027-08-25/
LOCATION:Trinity Presbyterian Church\, 420 Melrose Ave\, Santa Cruz\, CA\, 95062
END:VEVENT
BEGIN:VEVENT
DTSTART;TZID=America/Los_Angeles:20270922T190000
DTEND;TZID=America/Los_Angeles:20270922T200000
DTSTAMP:20260421T202246
CREATED:20240102T205703Z
LAST-MODIFIED:20240102T205705Z
UID:10000839-1821639600-1821643200@aasantacruz.org
SUMMARY:H&I Committee Meeting
DESCRIPTION:
URL:https://aasantacruz.org/event/hi-committee-meeting/2027-09-22/
LOCATION:Trinity Presbyterian Church\, 420 Melrose Ave\, Santa Cruz\, CA\, 95062
END:VEVENT
BEGIN:VEVENT
DTSTART;TZID=America/Los_Angeles:20271027T190000
DTEND;TZID=America/Los_Angeles:20271027T200000
DTSTAMP:20260421T202246
CREATED:20240102T205703Z
LAST-MODIFIED:20240102T205705Z
UID:10000840-1824663600-1824667200@aasantacruz.org
SUMMARY:H&I Committee Meeting
DESCRIPTION:
URL:https://aasantacruz.org/event/hi-committee-meeting/2027-10-27/
LOCATION:Trinity Presbyterian Church\, 420 Melrose Ave\, Santa Cruz\, CA\, 95062
END:VEVENT
BEGIN:VEVENT
DTSTART;TZID=America/Los_Angeles:20271124T190000
DTEND;TZID=America/Los_Angeles:20271124T200000
DTSTAMP:20260421T202246
CREATED:20240102T205703Z
LAST-MODIFIED:20240102T205705Z
UID:10000841-1827082800-1827086400@aasantacruz.org
SUMMARY:H&I Committee Meeting
DESCRIPTION:
URL:https://aasantacruz.org/event/hi-committee-meeting/2027-11-24/
LOCATION:Trinity Presbyterian Church\, 420 Melrose Ave\, Santa Cruz\, CA\, 95062
END:VEVENT
BEGIN:VEVENT
DTSTART;TZID=America/Los_Angeles:20271222T190000
DTEND;TZID=America/Los_Angeles:20271222T200000
DTSTAMP:20260421T202246
CREATED:20240102T205703Z
LAST-MODIFIED:20240102T205705Z
UID:10000842-1829502000-1829505600@aasantacruz.org
SUMMARY:H&I Committee Meeting
DESCRIPTION:
URL:https://aasantacruz.org/event/hi-committee-meeting/2027-12-22/
LOCATION:Trinity Presbyterian Church\, 420 Melrose Ave\, Santa Cruz\, CA\, 95062
END:VEVENT
BEGIN:VEVENT
DTSTART;TZID=America/Los_Angeles:20280126T190000
DTEND;TZID=America/Los_Angeles:20280126T200000
DTSTAMP:20260421T202246
CREATED:20240102T205703Z
LAST-MODIFIED:20240102T205705Z
UID:10000843-1832526000-1832529600@aasantacruz.org
SUMMARY:H&I Committee Meeting
DESCRIPTION:
URL:https://aasantacruz.org/event/hi-committee-meeting/2028-01-26/
LOCATION:Trinity Presbyterian Church\, 420 Melrose Ave\, Santa Cruz\, CA\, 95062
END:VEVENT
BEGIN:VEVENT
DTSTART;TZID=America/Los_Angeles:20280223T190000
DTEND;TZID=America/Los_Angeles:20280223T200000
DTSTAMP:20260421T202246
CREATED:20240102T205703Z
LAST-MODIFIED:20240102T205705Z
UID:10000844-1834945200-1834948800@aasantacruz.org
SUMMARY:H&I Committee Meeting
DESCRIPTION:
URL:https://aasantacruz.org/event/hi-committee-meeting/2028-02-23/
LOCATION:Trinity Presbyterian Church\, 420 Melrose Ave\, Santa Cruz\, CA\, 95062
END:VEVENT
BEGIN:VEVENT
DTSTART;TZID=America/Los_Angeles:20280322T190000
DTEND;TZID=America/Los_Angeles:20280322T200000
DTSTAMP:20260421T202246
CREATED:20240102T205703Z
LAST-MODIFIED:20240102T205705Z
UID:10000845-1837364400-1837368000@aasantacruz.org
SUMMARY:H&I Committee Meeting
DESCRIPTION:
URL:https://aasantacruz.org/event/hi-committee-meeting/2028-03-22/
LOCATION:Trinity Presbyterian Church\, 420 Melrose Ave\, Santa Cruz\, CA\, 95062
END:VEVENT
BEGIN:VEVENT
DTSTART;TZID=America/Los_Angeles:20280426T190000
DTEND;TZID=America/Los_Angeles:20280426T200000
DTSTAMP:20260421T202246
CREATED:20240102T205703Z
LAST-MODIFIED:20240102T205705Z
UID:10000846-1840388400-1840392000@aasantacruz.org
SUMMARY:H&I Committee Meeting
DESCRIPTION:
URL:https://aasantacruz.org/event/hi-committee-meeting/2028-04-26/
LOCATION:Trinity Presbyterian Church\, 420 Melrose Ave\, Santa Cruz\, CA\, 95062
END:VEVENT
BEGIN:VEVENT
DTSTART;TZID=America/Los_Angeles:20280524T190000
DTEND;TZID=America/Los_Angeles:20280524T200000
DTSTAMP:20260421T202246
CREATED:20240102T205703Z
LAST-MODIFIED:20240102T205705Z
UID:10000847-1842807600-1842811200@aasantacruz.org
SUMMARY:H&I Committee Meeting
DESCRIPTION:
URL:https://aasantacruz.org/event/hi-committee-meeting/2028-05-24/
LOCATION:Trinity Presbyterian Church\, 420 Melrose Ave\, Santa Cruz\, CA\, 95062
END:VEVENT
BEGIN:VEVENT
DTSTART;TZID=America/Los_Angeles:20280628T190000
DTEND;TZID=America/Los_Angeles:20280628T200000
DTSTAMP:20260421T202246
CREATED:20240102T205703Z
LAST-MODIFIED:20240102T205705Z
UID:10000848-1845831600-1845835200@aasantacruz.org
SUMMARY:H&I Committee Meeting
DESCRIPTION:
URL:https://aasantacruz.org/event/hi-committee-meeting/2028-06-28/
LOCATION:Trinity Presbyterian Church\, 420 Melrose Ave\, Santa Cruz\, CA\, 95062
END:VEVENT
BEGIN:VEVENT
DTSTART;TZID=America/Los_Angeles:20280726T190000
DTEND;TZID=America/Los_Angeles:20280726T200000
DTSTAMP:20260421T202246
CREATED:20240102T205703Z
LAST-MODIFIED:20240102T205705Z
UID:10000849-1848250800-1848254400@aasantacruz.org
SUMMARY:H&I Committee Meeting
DESCRIPTION:
URL:https://aasantacruz.org/event/hi-committee-meeting/2028-07-26/
LOCATION:Trinity Presbyterian Church\, 420 Melrose Ave\, Santa Cruz\, CA\, 95062
END:VEVENT
BEGIN:VEVENT
DTSTART;TZID=America/Los_Angeles:20280823T190000
DTEND;TZID=America/Los_Angeles:20280823T200000
DTSTAMP:20260421T202246
CREATED:20240102T205703Z
LAST-MODIFIED:20240102T205705Z
UID:10000850-1850670000-1850673600@aasantacruz.org
SUMMARY:H&I Committee Meeting
DESCRIPTION:
URL:https://aasantacruz.org/event/hi-committee-meeting/2028-08-23/
LOCATION:Trinity Presbyterian Church\, 420 Melrose Ave\, Santa Cruz\, CA\, 95062
END:VEVENT
BEGIN:VEVENT
DTSTART;TZID=America/Los_Angeles:20280927T190000
DTEND;TZID=America/Los_Angeles:20280927T200000
DTSTAMP:20260421T202246
CREATED:20240102T205703Z
LAST-MODIFIED:20240102T205705Z
UID:10000851-1853694000-1853697600@aasantacruz.org
SUMMARY:H&I Committee Meeting
DESCRIPTION:
URL:https://aasantacruz.org/event/hi-committee-meeting/2028-09-27/
LOCATION:Trinity Presbyterian Church\, 420 Melrose Ave\, Santa Cruz\, CA\, 95062
END:VEVENT
END:VCALENDAR