BEGIN:VCALENDAR
VERSION:2.0
PRODID:-//Alcoholics Anonymous of Santa Cruz County - ECPv6.15.20//NONSGML v1.0//EN
CALSCALE:GREGORIAN
METHOD:PUBLISH
X-WR-CALNAME:Alcoholics Anonymous of Santa Cruz County
X-ORIGINAL-URL:https://aasantacruz.org
X-WR-CALDESC:Events for Alcoholics Anonymous of Santa Cruz County
REFRESH-INTERVAL;VALUE=DURATION:PT1H
X-Robots-Tag:noindex
X-PUBLISHED-TTL:PT1H
BEGIN:VTIMEZONE
TZID:America/Los_Angeles
BEGIN:DAYLIGHT
TZOFFSETFROM:-0800
TZOFFSETTO:-0700
TZNAME:PDT
DTSTART:20290311T100000
END:DAYLIGHT
BEGIN:STANDARD
TZOFFSETFROM:-0700
TZOFFSETTO:-0800
TZNAME:PST
DTSTART:20291104T090000
END:STANDARD
BEGIN:DAYLIGHT
TZOFFSETFROM:-0800
TZOFFSETTO:-0700
TZNAME:PDT
DTSTART:20300310T100000
END:DAYLIGHT
BEGIN:STANDARD
TZOFFSETFROM:-0700
TZOFFSETTO:-0800
TZNAME:PST
DTSTART:20301103T090000
END:STANDARD
BEGIN:DAYLIGHT
TZOFFSETFROM:-0800
TZOFFSETTO:-0700
TZNAME:PDT
DTSTART:20310309T100000
END:DAYLIGHT
BEGIN:STANDARD
TZOFFSETFROM:-0700
TZOFFSETTO:-0800
TZNAME:PST
DTSTART:20311102T090000
END:STANDARD
BEGIN:DAYLIGHT
TZOFFSETFROM:-0800
TZOFFSETTO:-0700
TZNAME:PDT
DTSTART:20320314T100000
END:DAYLIGHT
BEGIN:STANDARD
TZOFFSETFROM:-0700
TZOFFSETTO:-0800
TZNAME:PST
DTSTART:20321107T090000
END:STANDARD
END:VTIMEZONE
BEGIN:VEVENT
DTSTART;TZID=America/Los_Angeles:20300626T190000
DTEND;TZID=America/Los_Angeles:20300626T200000
DTSTAMP:20260422T024718
CREATED:20240102T205703Z
LAST-MODIFIED:20240102T205705Z
UID:10001705-1908730800-1908734400@aasantacruz.org
SUMMARY:H&I Committee Meeting
DESCRIPTION:
URL:https://aasantacruz.org/event/hi-committee-meeting/2030-06-26/
LOCATION:Trinity Presbyterian Church\, 420 Melrose Ave\, Santa Cruz\, CA\, 95062
END:VEVENT
BEGIN:VEVENT
DTSTART;TZID=America/Los_Angeles:20300724T190000
DTEND;TZID=America/Los_Angeles:20300724T200000
DTSTAMP:20260422T024718
CREATED:20240102T205703Z
LAST-MODIFIED:20240102T205705Z
UID:10001706-1911150000-1911153600@aasantacruz.org
SUMMARY:H&I Committee Meeting
DESCRIPTION:
URL:https://aasantacruz.org/event/hi-committee-meeting/2030-07-24/
LOCATION:Trinity Presbyterian Church\, 420 Melrose Ave\, Santa Cruz\, CA\, 95062
END:VEVENT
BEGIN:VEVENT
DTSTART;TZID=America/Los_Angeles:20300828T190000
DTEND;TZID=America/Los_Angeles:20300828T200000
DTSTAMP:20260422T024718
CREATED:20240102T205703Z
LAST-MODIFIED:20240102T205705Z
UID:10001707-1914174000-1914177600@aasantacruz.org
SUMMARY:H&I Committee Meeting
DESCRIPTION:
URL:https://aasantacruz.org/event/hi-committee-meeting/2030-08-28/
LOCATION:Trinity Presbyterian Church\, 420 Melrose Ave\, Santa Cruz\, CA\, 95062
END:VEVENT
BEGIN:VEVENT
DTSTART;TZID=America/Los_Angeles:20300925T190000
DTEND;TZID=America/Los_Angeles:20300925T200000
DTSTAMP:20260422T024718
CREATED:20240102T205703Z
LAST-MODIFIED:20240102T205705Z
UID:10001708-1916593200-1916596800@aasantacruz.org
SUMMARY:H&I Committee Meeting
DESCRIPTION:
URL:https://aasantacruz.org/event/hi-committee-meeting/2030-09-25/
LOCATION:Trinity Presbyterian Church\, 420 Melrose Ave\, Santa Cruz\, CA\, 95062
END:VEVENT
BEGIN:VEVENT
DTSTART;TZID=America/Los_Angeles:20301023T190000
DTEND;TZID=America/Los_Angeles:20301023T200000
DTSTAMP:20260422T024718
CREATED:20240102T205703Z
LAST-MODIFIED:20240102T205705Z
UID:10001709-1919012400-1919016000@aasantacruz.org
SUMMARY:H&I Committee Meeting
DESCRIPTION:
URL:https://aasantacruz.org/event/hi-committee-meeting/2030-10-23/
LOCATION:Trinity Presbyterian Church\, 420 Melrose Ave\, Santa Cruz\, CA\, 95062
END:VEVENT
BEGIN:VEVENT
DTSTART;TZID=America/Los_Angeles:20301127T190000
DTEND;TZID=America/Los_Angeles:20301127T200000
DTSTAMP:20260422T024718
CREATED:20240102T205703Z
LAST-MODIFIED:20240102T205705Z
UID:10001710-1922036400-1922040000@aasantacruz.org
SUMMARY:H&I Committee Meeting
DESCRIPTION:
URL:https://aasantacruz.org/event/hi-committee-meeting/2030-11-27/
LOCATION:Trinity Presbyterian Church\, 420 Melrose Ave\, Santa Cruz\, CA\, 95062
END:VEVENT
BEGIN:VEVENT
DTSTART;TZID=America/Los_Angeles:20301225T190000
DTEND;TZID=America/Los_Angeles:20301225T200000
DTSTAMP:20260422T024718
CREATED:20240102T205703Z
LAST-MODIFIED:20240102T205705Z
UID:10001711-1924455600-1924459200@aasantacruz.org
SUMMARY:H&I Committee Meeting
DESCRIPTION:
URL:https://aasantacruz.org/event/hi-committee-meeting/2030-12-25/
LOCATION:Trinity Presbyterian Church\, 420 Melrose Ave\, Santa Cruz\, CA\, 95062
END:VEVENT
BEGIN:VEVENT
DTSTART;TZID=America/Los_Angeles:20310122T190000
DTEND;TZID=America/Los_Angeles:20310122T200000
DTSTAMP:20260422T024718
CREATED:20240102T205703Z
LAST-MODIFIED:20240102T205705Z
UID:10001712-1926874800-1926878400@aasantacruz.org
SUMMARY:H&I Committee Meeting
DESCRIPTION:
URL:https://aasantacruz.org/event/hi-committee-meeting/2031-01-22/
LOCATION:Trinity Presbyterian Church\, 420 Melrose Ave\, Santa Cruz\, CA\, 95062
END:VEVENT
BEGIN:VEVENT
DTSTART;TZID=America/Los_Angeles:20310226T190000
DTEND;TZID=America/Los_Angeles:20310226T200000
DTSTAMP:20260422T024718
CREATED:20240102T205703Z
LAST-MODIFIED:20240102T205705Z
UID:10001721-1929898800-1929902400@aasantacruz.org
SUMMARY:H&I Committee Meeting
DESCRIPTION:
URL:https://aasantacruz.org/event/hi-committee-meeting/2031-02-26/
LOCATION:Trinity Presbyterian Church\, 420 Melrose Ave\, Santa Cruz\, CA\, 95062
END:VEVENT
BEGIN:VEVENT
DTSTART;TZID=America/Los_Angeles:20310326T190000
DTEND;TZID=America/Los_Angeles:20310326T200000
DTSTAMP:20260422T024718
CREATED:20240102T205703Z
LAST-MODIFIED:20240102T205705Z
UID:10001726-1932318000-1932321600@aasantacruz.org
SUMMARY:H&I Committee Meeting
DESCRIPTION:
URL:https://aasantacruz.org/event/hi-committee-meeting/2031-03-26/
LOCATION:Trinity Presbyterian Church\, 420 Melrose Ave\, Santa Cruz\, CA\, 95062
END:VEVENT
END:VCALENDAR