BEGIN:VCALENDAR
VERSION:2.0
PRODID:-//Alcoholics Anonymous of Santa Cruz County - ECPv6.15.20//NONSGML v1.0//EN
CALSCALE:GREGORIAN
METHOD:PUBLISH
X-WR-CALNAME:Alcoholics Anonymous of Santa Cruz County
X-ORIGINAL-URL:https://aasantacruz.org
X-WR-CALDESC:Events for Alcoholics Anonymous of Santa Cruz County
REFRESH-INTERVAL;VALUE=DURATION:PT1H
X-Robots-Tag:noindex
X-PUBLISHED-TTL:PT1H
BEGIN:VTIMEZONE
TZID:America/Los_Angeles
BEGIN:DAYLIGHT
TZOFFSETFROM:-0800
TZOFFSETTO:-0700
TZNAME:PDT
DTSTART:20230312T100000
END:DAYLIGHT
BEGIN:STANDARD
TZOFFSETFROM:-0700
TZOFFSETTO:-0800
TZNAME:PST
DTSTART:20231105T090000
END:STANDARD
BEGIN:DAYLIGHT
TZOFFSETFROM:-0800
TZOFFSETTO:-0700
TZNAME:PDT
DTSTART:20240310T100000
END:DAYLIGHT
BEGIN:STANDARD
TZOFFSETFROM:-0700
TZOFFSETTO:-0800
TZNAME:PST
DTSTART:20241103T090000
END:STANDARD
BEGIN:DAYLIGHT
TZOFFSETFROM:-0800
TZOFFSETTO:-0700
TZNAME:PDT
DTSTART:20250309T100000
END:DAYLIGHT
BEGIN:STANDARD
TZOFFSETFROM:-0700
TZOFFSETTO:-0800
TZNAME:PST
DTSTART:20251102T090000
END:STANDARD
BEGIN:DAYLIGHT
TZOFFSETFROM:-0800
TZOFFSETTO:-0700
TZNAME:PDT
DTSTART:20260308T100000
END:DAYLIGHT
BEGIN:STANDARD
TZOFFSETFROM:-0700
TZOFFSETTO:-0800
TZNAME:PST
DTSTART:20261101T090000
END:STANDARD
END:VTIMEZONE
BEGIN:VEVENT
DTSTART;TZID=America/Los_Angeles:20251224T070000
DTEND;TZID=America/Los_Angeles:20251225T200000
DTSTAMP:20260425T112956
CREATED:20251206T174431Z
LAST-MODIFIED:20251206T174433Z
UID:10001676-1766559600-1766692800@aasantacruz.org
SUMMARY:WFAA - Christmas Alcathon
DESCRIPTION:WF-Christmas-2025Download\n\n\n\n\n\nMeetings every hour starting at 7 am
URL:https://aasantacruz.org/event/wfaa-christmas-alcathon/
LOCATION:Watsonville Fellowship\, 939 Lincoln Street\, Watsonville\, 95076\, United States
ATTACH;FMTTYPE=image/jpeg:https://aasantacruz.org/wp-content/uploads/2025/12/WF-Christmas-2025.jpg
END:VEVENT
BEGIN:VEVENT
DTSTART;TZID=America/Los_Angeles:20250419T190000
DTEND;TZID=America/Los_Angeles:20250419T220000
DTSTAMP:20260425T112956
CREATED:20250414T150937Z
LAST-MODIFIED:20250414T150938Z
UID:10001563-1745089200-1745100000@aasantacruz.org
SUMMARY:Easter Potluck & Speaker Meeting
DESCRIPTION:Easter-Speaker-Meeting-4-19-25Download
URL:https://aasantacruz.org/event/easter-potluck-speaker-meeting/
LOCATION:Watsonville Fellowship\, 939 Lincoln Street\, Watsonville\, 95076\, United States
ATTACH;FMTTYPE=image/jpeg:https://aasantacruz.org/wp-content/uploads/2025/04/Easter-Speaker-Meeting-4-19-25.jpg
END:VEVENT
BEGIN:VEVENT
DTSTART;TZID=America/Los_Angeles:20250317T070000
DTEND;TZID=America/Los_Angeles:20250317T230000
DTSTAMP:20260425T112956
CREATED:20250311T213841Z
LAST-MODIFIED:20250311T213842Z
UID:10001562-1742194800-1742252400@aasantacruz.org
SUMMARY:St. Patricks Day Alcathon
DESCRIPTION:ST-PAT-ALCATHONDownload
URL:https://aasantacruz.org/event/st-patricks-day-alcathon/
LOCATION:Watsonville Fellowship\, 939 Lincoln Street\, Watsonville\, 95076\, United States
ATTACH;FMTTYPE=image/jpeg:https://aasantacruz.org/wp-content/uploads/2025/03/ST-PAT-ALCATHON.jpg
END:VEVENT
BEGIN:VEVENT
DTSTART;TZID=America/Los_Angeles:20250315T190000
DTEND;TZID=America/Los_Angeles:20250315T210000
DTSTAMP:20260425T112956
CREATED:20250217T014642Z
LAST-MODIFIED:20250217T014645Z
UID:10001561-1742065200-1742072400@aasantacruz.org
SUMMARY:WFAA St. Patricks Day Speaker Meeting
DESCRIPTION:7 pm Potluck. 8 pm Speaker Meeting – Kathy F. of Aromas \n\n\n\n\n\n\n\nwfaa-st-patrick-day-2025Download
URL:https://aasantacruz.org/event/wfaa-st-patricks-day-speaker-meeting/
LOCATION:Watsonville Fellowship\, 939 Lincoln Street\, Watsonville\, 95076\, United States
CATEGORIES:Watsonville Fellowship
ATTACH;FMTTYPE=image/jpeg:https://aasantacruz.org/wp-content/uploads/2025/02/wfaa-st-patrick-day-2025.jpg
END:VEVENT
BEGIN:VEVENT
DTSTART;TZID=America/Los_Angeles:20241231T070000
DTEND;TZID=America/Los_Angeles:20250101T200000
DTSTAMP:20260425T112956
CREATED:20241214T185918Z
LAST-MODIFIED:20241215T160726Z
UID:10001474-1735628400-1735761600@aasantacruz.org
SUMMARY:Watsonville Fellowship New Years Alcathon
DESCRIPTION:WFAA-NewYears-Alcathon-2024Download
URL:https://aasantacruz.org/event/watsonville-fellowship-new-years-alcathon/
LOCATION:Watsonville Fellowship\, 939 Lincoln Street\, Watsonville\, 95076\, United States
CATEGORIES:Watsonville Fellowship
ATTACH;FMTTYPE=image/jpeg:https://aasantacruz.org/wp-content/uploads/2024/12/WFAA-NewYears-Alcathon-2024.jpg
END:VEVENT
BEGIN:VEVENT
DTSTART;TZID=America/Los_Angeles:20241224T070000
DTEND;TZID=America/Los_Angeles:20241225T200000
DTSTAMP:20260425T112956
CREATED:20241215T160218Z
LAST-MODIFIED:20241215T160747Z
UID:10001475-1735023600-1735156800@aasantacruz.org
SUMMARY:Watsonville Fellowship Christmas Alcathon
DESCRIPTION:WFAA-Christmas-Alcathon-2024Download
URL:https://aasantacruz.org/event/watsonville-fellowship-christmas-alcathon/
LOCATION:Watsonville Fellowship\, 939 Lincoln Street\, Watsonville\, 95076\, United States
CATEGORIES:Watsonville Fellowship
ATTACH;FMTTYPE=image/jpeg:https://aasantacruz.org/wp-content/uploads/2024/12/WFAA-Christmas-Alcathon-2024.jpg
END:VEVENT
BEGIN:VEVENT
DTSTART;TZID=America/Los_Angeles:20241128T070000
DTEND;TZID=America/Los_Angeles:20241128T120000
DTSTAMP:20260425T112956
CREATED:20241127T005205Z
LAST-MODIFIED:20241127T005206Z
UID:10001471-1732777200-1732795200@aasantacruz.org
SUMMARY:Watsonville Fellowship Alcathon
DESCRIPTION:Watsonville-Fellowship-AlcathonDownload\n\n\n\nMeetings every 2 hours.
URL:https://aasantacruz.org/event/watsonville-fellowship-alcathon/
LOCATION:Watsonville Fellowship\, 939 Lincoln Street\, Watsonville\, 95076\, United States
ATTACH;FMTTYPE=image/jpeg:https://aasantacruz.org/wp-content/uploads/2024/11/Watsonville-Fellowship-Alcathon.jpg
END:VEVENT
END:VCALENDAR